{"text_format":"1","workbook":"xlsx","n_sheets":18,"sheets":["Help","Intro","45% Agg.","Designs & Results","Mix Printout","Mix 1","Mix 2","Mix 3","Mix 4","Pour Day","Pour Day Printoffs","Final Sheet","Final Sheet Printout","2016 Mix Design","2016 Mix Design (2)","Sheet1","Original File ","Designs & Results 2014-2015"],"not_rendered":{"charts":3,"images":3,"macros":1,"external_links":0,"defined_names":30,"comments":8,"pivot_tables":0},"unopened":[],"bounds":{"document_bytes":16777216,"sheet_cells":100000,"rows_first":2000,"rows_last":500,"rows_between":2000,"halvings":0,"cell_chars":16384,"cell_head_chars":4096},"cells_cut":0,"cells_raw":0,"read":"whole","date_system":"1900"}

{"sheet":"Help","index":0,"n_rows":0,"n_cols":0,"rows_kept":0,"cut":false,"hidden":false,"merged":[]}

{"sheet":"Intro","index":1,"n_rows":200,"n_cols":5,"rows_kept":200,"cut":false,"hidden":false,"merged":[]}
[]
[]
[]
[]
[null,null,0,null,0]
[]
[]
[null,null,0]
[]
[]
[]
[]
[]
[]
[]
[]
[]
[]
[]
[]
[]
[]
[]
[]
[]
[]
[]
[]
[]
[]
[]
[]
[]
[]
[]
[]
[]
[]
[]
[]
[]
[]
[]
[]
[]
[]
[]
[]
[]
[]
[]
[]
[]
[]
[]
[]
[]
[]
[]
[]
[]
[]
[]
[]
[]
[]
[]
[]
[]
[]
[]
[]
[]
[]
[]
[]
[]
[]
[]
[]
[]
[]
[]
[]
[]
[]
[]
[]
[]
[]
[]
[]
[]
[]
[]
[]
[]
[]
[]
[]
[]
[]
[]
[]
[]
[]
[]
[]
[]
[]
[]
[]
[]
[]
[]
[]
[]
[]
[]
[]
[]
[]
[]
[]
[]
[]
[]
[]
[]
[]
[]
[]
[]
[]
[]
[]
[]
[]
[]
[]
[]
[]
[]
[]
[]
[]
[]
[]
[]
[]
[]
[]
[]
[]
[]
[]
[]
[]
[]
[]
[]
[]
[]
[]
[]
[]
[]
[]
[]
[]
[]
[]
[]
[]
[]
[]
[]
[]
[]
[]
[]
[]
[]
[]
[]
[]
[]
[]
[]
[]
[]
[]
[]
[]
[null,null,"Cementitious materials"]
[null,null,"Fibers"]
[null,null,"Aggregates"]
[null,null,"Water"]
[null,null,"Solids in powder form"]
[null,null,"Admixtures"]

{"sheet":"45% Agg.","index":2,"n_rows":60,"n_cols":31,"rows_kept":60,"cut":false,"hidden":false,"merged":[[49,8,49,9],[50,1,50,6],[49,1,49,6],[34,2,34,6],[50,8,50,9],[50,10,50,11],[31,1,31,6],[33,2,33,6],[29,2,29,6],[32,1,32,13],[27,9,29,9],[26,7,28,7],[40,8,41,8],[40,9,41,9],[38,1,38,6],[40,11,41,11],[40,10,41,10],[28,2,28,6],[9,1,9,6],[10,1,10,6],[11,2,11,6],[12,2,12,6],[24,1,24,6],[25,1,25,6],[26,2,26,6],[27,2,27,6],[27,1,28,1],[59,2,59,6],[57,8,57,9],[58,8,58,9],[59,10,59,11],[59,12,59,13],[58,12,58,13],[58,10,58,11],[57,10,57,11],[57,12,57,13],[58,2,58,6],[56,2,56,6],[57,2,57,6],[56,8,56,9],[56,10,56,11],[51,1,51,6],[52,2,52,6],[53,2,53,6],[55,8,55,9],[54,2,54,6],[55,2,55,6],[55,10,55,13],[53,10,53,11],[54,12,54,13],[52,12,52,13],[53,12,53,13],[52,8,52,9],[53,8,53,9],[54,8,54,9],[51,8,51,9],[51,10,51,11],[54,10,54,11],[52,10,52,11],[56,12,56,13],[50,12,50,13],[51,12,51,13],[1,27,1,29],[14,1,14,6],[4,3,4,4],[6,3,6,4],[7,3,7,4],[13,2,13,6],[40,7,41,7],[49,10,49,11],[36,2,36,6],[48,1,48,6],[42,2,42,4],[43,2,43,4],[47,1,47,6],[39,1,41,6],[44,2,44,4],[45,2,45,4],[27,11,29,11],[27,13,29,13],[49,12,49,13],[35,2,35,6],[40,12,41,12],[40,13,41,13],[21,2,21,3],[22,2,22,3],[8,3,8,4],[17,2,17,3],[18,2,18,3],[19,2,19,3],[16,2,16,3],[20,2,20,3],[1,21,2,21],[1,20,2,20],[1,19,2,19],[1,18,2,18],[1,15,1,16],[5,3,5,4],[2,6,2,7],[2,2,2,5],[3,1,3,6],[1,8,2,9],[1,10,2,11],[1,12,2,13],[15,1,15,6]]}
[]
[null,"Mixture ID: ",null,null,null,null,null,null,"Design Proportions (Non SSD)",null,"Actual Batched Proportions",null,"Yielded  Proportions",null,null,"Cylinder Size",null,"Volume of Cylinder","Amount of Cylinders","Extra Mixing Material Factor","Amount of Concrete Wanted (ft3)","Divisible Factor",null,"Please Do Not Change These Values",null,null,null,"Total amount of Aggregate",null,null,{"$f":"SUM(E17:E23)","v":0.95000000000000007}]
[null,"YD","Design Batch Size (ft3):         ",null,null,null,27,null,null,null,null,null,null,null,null,"diameter (in)","height (in)","ft3",null,null,null,null,null,"Desired Volume",null,27]
[null,"Cementitious Materials",null,null,null,null,null,"SG","Amount\n(lb/yd3)","Volume\n(ft3)","Amount\n(lb)","Volume\n(ft3)","Amount\n(lb/yd3)","Volume\n(ft3)",null,3,6,2.4543692606170259E-2,3,1.5,0.11044661672776616,162.97466172610083,null,"% Aggregate",null,0.5]
[null,"CM1","Portland Cement","Class C",null,"Amt:",null,3.15,325.15135900004032,1.6542091931218983,1.9951037514438754,1.0150100485571202E-2,5.6379999999999999,2.8683353683353684E-2]
[null,"CM2","Fly Ash ","Class: F",null,"Amt:",1.3,2.2999999999999998,308.63573441591132,2.150471951058468,2.5936348768770383,7.9767000970053341E-3,3.665,3.7288359788359794E-2]
[null,"CM3","Graphene",null,null,"Amt:",0.1,1,10.322265365080645,0.16542091931218983,0.19951037514438755,6.1359231515425647E-4,null,5.3516253968253968]
[null,"CM4","Slag",null,null,"Amt:",1.4,0,0,2.3158928703706576,0,1.4210140679799681E-2,null,2.553651059085842E-2]
[]
[null,"Total Aggregates: ",null,null,null,null,null,null,644.10935878103226,6.2859949338632131,4.7882490034653014,3.2950533577530472E-2,9.3030000000000008,5.4431336208879681]
[null,"Fibers"]
[null,"F1","Grace Fibers",null,null,null,null,0.91,3.25,5.7234432234432232E-2,1.9941750242513333E-2,3.5118607781264676E-4]
[null,"F2","Fiber 2",null,null,null,null,null,null,null,0,0]
[]
[null,"Total Fibers: ",null,null,null,null,null,null,3.25,5.7234432234432232E-2]
[null,"Aggregates"]
[null,"A1","Utelite               ",null,0.25,"Abs:",0,1.5,315.89999999999998,3.375,1.9383381235722961,2.0708740636456155E-2]
[null,"A2","Size: 2-4",null,0.15,"Abs:",0.23,0.37,46.7532,2.0249999999999999,0.28687404228869984,1.2425244381873693E-2]
[null,"A3","Size: 1-2",null,0.16,"Abs:",0.2,0.41,55.26144,2.16,0.33907994908358036,1.3253594007331941E-2]
[null,"A4","Size: 0.5-1",null,0.14000000000000001,"Abs:",0.2,0.45,53.071199999999997,1.8900000000000001,0.32564080476014573,1.1596894756415448E-2]
[null,"A5","Size: 0.25-0.5",null,0.11,"Abs:",0.28000000000000003,0.68,63.011520000000004,1.4850000000000001,0.38663384438188736,9.1118458800407091E-3]
[null,"A6","Size: 0.1-0.3",null,0.09,"Abs:",0.35,0.85,64.443599999999989,1.2149999999999999,0.39542097720874836,7.4551466291242147E-3]
[null,"A7","Size: 0.04-0.125",null,0.05,"Abs:",0.25,0.8,33.696000000000005,0.67500000000000004,0.20675606651437828,4.1417481272912312E-3]
[]
[null,"Total Aggregates: ",null,null,null,null,null,null,632.13695999999993,13.5,3.878743807809736,7.86932144185334E-2]
[null,"Water"]
[null,"W1","Water for CM Hydration (W1a + W1b)",null,null,null,null,1,193.23280763430967,7.1567706531225799,1.1856616580009316,4.3913394740775241E-2]
[null,null,"W1a. Water from Admixtures",null,null,null,null,null,0,null,0]
[null,null,"W1b.  Additional Water",null,null,null,null,null,193.23280763430967,null,1.1856616580009316]
[null,"W2","Water for Aggregates, SSD ",null,null,null,null,1,286565.39458560373,null,1758.3432390687362]
[]
[null,"Total Water (W1 + W2): ",null,null,null,null,null,null,286758.62739323801,7.1567706531225799,1759.5289007267372,4.3913394740775241E-2]
[null,"Solids Content of Latex, Dyes and Admixtures in Powder Form"]
[null,"S1","Latex (if used)"]
[null,"S2","Liquid Dye (if used)"]
[null,"S3","Other Latex or Liquid Dye (if used)"]
[null,"P1","Pigment 1 (Powder Form)"]
[]
[null,"Total Solids of Admixtures: ",null,null,null,null,null,null,0,0]
[null,"Admixtures (including Pigments in Liquid Form)"]
[null,null,null,null,null,null,null,"% Solids","Dosage\n(fl oz/cwt)","Total (ml)","Amount\n(ml)","Water in Admixture (lb)","Dosage\n(fl oz/cwt)","Water in Admixture (lb/yd3)"]
[]
[null,"Ad1","Adva 195",null,null,null,"lb/gal",null,1.39,118404.42513746953,726.52045344608769]
[null,"Ad2","Eclipse Floor 200",null,null,null,"lb/gal",null,3,255549.11900173285,1568.0297556390385]
[null,"Ad3",null,null,null,null,"lb/gal",null,0,0,0]
[null,"Ad4",null,null,null,null,"lb/gal",null,1,85183.039667244273,522.6765852130128]
[]
[null,"Water from Admixtures (W1a): ",null,null,null,null,null,null,null,118404.42513746953]
[]
[null,"Cement-Cementitious Materials Ratio",null,null,null,null,null,null,0.50480769230769229,null,0.41666666666666663,null,0.60604106202300323]
[null,"Water-Cementitious Materials Ratio",null,null,null,null,null,null,0.3,null,0.32]
[null,"Slump, Slump Flow, in. ",null,null,null,null,null,null,"3 +- 1",null,"3 +- 1"]
[null,"M","Mass of Concrete. lbs",null,null,null,null,null,288038.12371201906,null,1768.1958935380123]
[null,"V","Absolute Volume of Concrete",null,null,null,null,null,26,null,0.15555714273683913]
[null,"T","Theorectical Density, lb/ft3  = (M / V) ",null,null,null,null,null,10668.078648406527,null,11366.857621763627]
[null,"D","Design Density, lb/ft3        =  (M / 27)",null,null,null,null,null,10668.078656000705]
[null,"D","Measured Density, lb/ft3",null,null,null,null,null,null,null,79.2]
[null,"A","Air Content, %  = [(T - D) / T x 100%]",null,null,null,null,null,-7.1186004028304408E-10,null,1]
[null,"Y","Yield, ft3                                                  = (M / D)",null,null,null,null,null,27,null,22.325705726490053]
[null,"Ry","Relative Yield                        = (Y / YD)",null,null,null,null,null,null,null,{"$f":"K59/K57","v":0.28189022381931883}]

{"sheet":"Designs & Results","index":3,"n_rows":85,"n_cols":32,"rows_kept":85,"cut":false,"hidden":false,"merged":[[46,11,48,11],[43,11,45,11],[37,11,39,11],[25,11,27,11],[27,31,28,31],[28,11,30,11],[31,11,33,11],[40,11,42,11],[34,11,36,11],[11,27,15,29],[16,27,19,29],[10,11,12,11],[2,31,4,31],[19,31,20,31],[2,15,3,16],[2,18,4,18],[2,19,4,19],[2,25,4,25],[2,21,4,21],[1,27,3,29],[10,27,10,29],[13,31,14,31],[22,11,24,11],[16,11,18,11],[13,11,15,11],[2,24,4,24],[2,22,4,22],[2,23,4,23],[7,11,9,11],[19,11,21,11],[2,20,4,20],[2,1,3,3],[2,11,3,13],[4,15,6,15],[4,16,6,16],[4,5,5,5],[2,5,3,6],[4,9,5,9],[4,13,6,13],[4,11,6,11],[4,12,6,12],[2,8,3,9],[14,1,21,1],[78,1,85,1],[86,1,93,1],[4,8,5,8],[62,1,69,1],[30,1,37,1],[38,1,45,1],[46,1,53,1],[4,1,5,1],[4,2,5,2],[6,1,13,1],[4,6,5,6],[70,1,77,1],[54,1,61,1],[22,1,29,1],[4,3,5,3]]}
[]
[null,"References For Mix Design",null,null,null,null,null,null,null,null,null,null,null,null,null,null,null,null,"Results",null,null,null,null,null,null,null,null,"Values for Predicting 28-day Compressive Strength of Concrete*",null,null,null,"Notes"]
[null,"1.Aggregate Size Mixes",null,null,null,"2.W/C Ratio",null,null,"3.Total Aggregates",null,null,"4.Cementitious Materials",null,null,null,"5.Fibers",null,null,"Mix Design","Name of Mixer(s)","Date Cast","Date Broken","Compressive Load (lbs)  Specimen 1","Area (in2)","Compressive Strength (psi)","Estimated 28-day Strength (psi)",null,null,null,null,null,"For the year of 2015 we have implemented the use of Utelite to help with the shrinkage of the concrete.  The Utelite should be soaked at least 24 hours in advance to allow the concrete to be saturated. This will allow for water to be released over time and to help the concrete to be internally cured"]
[]
[null,"Mix ","Material","Amount",null,"Mix","Ratio",null,"Mix","% of Agg.",null,"Mix","Material","% by Volume Compared to Cement Content",null,"Mix","Amount (lb) of Fibers per yd3",null,null,null,null,null,null,null,null,null,null,"Days of Cure","% Strenth","Reliability"]
[null,null,null,null,null,null,null,null,null,null,null,null,null,null,null,null,null,null,"LAEHH",null,null,null,null,null,null,null,null,"7-day",0.7,"Good to use",null,"70% water, dry but moldable"]
[null,"A","Utelite               ",0.25,null,"A",0.32,null,"A",0.67,null,null,null,null,null,null,null,null,"LADHH",null,null,null,null,null,null,null,null,"14 day**",0.9,"Try not to use"]
[null,null,"Size: 2-4",0.2,null,"B",0.34,null,"B",0.57999999999999996,null,"A","Fly Ash",0.8,null,"A",3.75,null,null,null,null,null,null,null,null,null,null,"21-day**",0.95,"Try not to use"]
[null,null,"Size: 1-2",0.16,null,"C",0.36,null,"C",0.55000000000000004,null,null,"Metakaolin",0,null,"B",null,null,null,null,null,null,null,null,null,null,null,"28-day",1,"Good to use",null,"60% water"]
[null,null,"Size: 0.5-1",0.14000000000000001,null,"D ",0.38,null,"D",0.6,null,null,"Silica Fume",0,null,"C"]
[null,null,"Size: 0.25-0.5",0.11,null,"E",0.3,null,"E",0.65,null,"B","Fly Ash",null,null,"D",null,null,null,null,null,null,null,null,null,null,null,"Notes about Compressive Strength"]
[null,null,"Size: 0.1-0.3",0.09,null,"F",null,null,"F",0.59,null,null,"Metakaolin",null,null,"E",null,null,null,null,null,null,null,null,null,null,null,"*These values are extimates from looking on different sites on the internet and rounded up for a safety factor. These values also may not be as accurate with the different materials and admixtures used in the concrete canoe.",null,null,null,"very wet"]
[null,null,"Size: 0.04-0.125",0.05,null,"G",null,null,"G",null,null,null,"Silica Fume",null,null,"F",null,null,null,null,null,null,null,null,null,null,null,null,null,null,null,"70% - wet"]
[null,null,"TOTAL",{"$f":"SUM(D7:D13)","v":1},null,"H ",null,null,"H",null,null,"C","Fly Ash",null,null,"G"]
[null,"L","Utelite               ",0.25,null,"I ",null,null,"I ",null,null,null,"Metakaolin",null,null,"H",3.25]
[null,null,"Size: 2-4",0.23,null,"J",null,null,"J",null,null,null,"Silica Fume"]
[null,null,"Size: 1-2",0.14000000000000001,null,"K",null,null,"K",null,null,"D","Fly Ash",null,null,null,null,null,null,null,null,null,null,null,null,null,null,"** The values for the 7-day and 28 day strength are generally accepted however the 21 and 14 day strengths are empirical and are less reliable. "]
[null,null,"Size: 0.5-1",0.13,null,"L",null,null,"L",null,null,null,"Metakaolin"]
[null,null,"Size: 0.25-0.5",0.11,null,"M ",null,null,"M",null,null,null,"Silica Fume",null,null,null,null,null,null,null,null,null,null,null,null,null,null,null,null,null,null,"Due to the challenges faced with the Silica Fume, we have not used it as of yet for this project."]
[null,null,"Size: 0.1-0.3",0.09,null,"N",null,null,"N",null,null,"E","Fly Ash",null,null,null,null,null,null,null,null,null,null,null,null,null,null,null,null,null,null,"Another mix design was added for when the statistical analysis can provide the best amount of aggregate for our mix."]
[null,null,"Size: 0.04-0.125",0.05,null,"O",null,null,null,null,null,null,"Metakaolin"]
[null,null,"TOTAL",{"$f":"SUM(D15:D21)","v":1},null,"P",null,null,null,null,null,null,"Silica Fume"]
[null,null,null,null,null,"Q",null,null,null,null,null,"F","Fly Ash",1]
[null,null,null,null,null,"R",null,null,null,null,null,null,"Metakaolin",0,null,null,null,null,null,null,null,null,null,null,null,null,null,null,null,null,null,"Too much fiber, Found a glitch, too much water was being added."]
[null,null,null,null,null,null,null,null,null,null,null,null,"Silica Fume",0,null,null,null,null,null,null,null,null,null,null,null,null,null,null,null,null,null,"Too much fiber, considering adding a admixture portion"]
[null,null,null,null,null,null,null,null,null,null,null,"G","Fly Ash",0.89029026636025699,null,null,null,null,null,null,null,null,null,null,null,null,null,null,null,null,null,"Too much fiber, a fiber portion was added to the references for mix design and mix design name"]
[null,null,null,null,null,null,null,null,null,null,null,null,"Metakaolin",0,null,null,null,null,null,null,null,null,null,null,null,null,null,null,null,null,null,"Found a glitch in the fiber calculation. It was fixed throughout the design. The mess ups are mentioned as Fiber D in the design"]
[null,null,null,null,null,null,null,null,null,null,null,null,"Silica Fume",0,null,null,null,null,null,null,null,null,null,null,null,null,null,null,null,null,null,"Made an adjustment for the water content to add 70% initially and then more as necessary by 10% increments. CBABA was a little thick with its 80% water which makes it hard to work with."]
[null,null,null,null,null,null,null,null,null,null,null,"H","Fly Ash",0.9]
[null,null,null,null,null,null,null,null,null,null,null,null,"Metakaolin",0]
[null,null,null,null,null,null,null,null,null,null,null,null,"Silica Fume",0]
[null,null,null,null,null,null,null,null,null,null,null,"I","Fly Ash"]
[null,null,null,null,null,null,null,null,null,null,null,null,"Metakaolin"]
[null,null,null,null,null,null,null,null,null,null,null,null,"Silica Fume",null,null,null,null,null,null,null,null,null,null,null,null,null,null,null,null,null,null,"Need to keep track of how much water is actually put into the mix."]
[null,null,null,null,null,null,null,null,null,null,null,"J","Fly Ash",null,null,null,null,null,null,null,null,null,null,null,null,null,null,null,null,null,null,"80% water used."]
[null,null,null,null,null,null,null,null,null,null,null,null,"Metakaolin",null,null,null,null,null,null,null,null,null,null,null,null,null,null,null,null,null,null,"80% water used. Halfway floats.  Maybe should have used 70% water."]
[null,null,null,null,null,null,null,null,null,null,null,null,"Silica Fume",null,null,null,null,null,null,null,null,null,null,null,null,null,null,null,null,null,null,"80% water used. Floats. Estimated 28 day compression strength to be approximately 1550 psi."]
[null,null,null,null,null,null,null,null,null,null,null,"K","Fly Ash",null,null,null,null,null,null,null,null,null,null,null,null,null,null,null,null,null,null,"80% water used. Floats. Estimated 28 day compression strength to be approximately 1800 psi."]
[null,null,null,null,null,null,null,null,null,null,null,null,"Metakaolin",null,null,null,null,null,null,null,null,null,null,null,null,null,null,null,null,null,null,"70% water used"]
[null,null,null,null,null,null,null,null,null,null,null,null,"Silica Fume"]
[null,null,null,null,null,null,null,null,null,null,null,"L","Fly Ash"]
[null,null,null,null,null,null,null,null,null,null,null,null,"Metakaolin",null,null,null,null,null,null,null,null,null,null,null,null,null,null,null,null,null,null,"Too much Aggregate. Looks like the amount of agregate needed would be close to 57%, used 75% water"]
[null,null,null,null,null,null,null,null,null,null,null,null,"Silica Fume"]
[null,null,null,null,null,null,null,null,null,null,null,"M","Fly Ash",null,null,null,null,null,null,null,null,null,null,null,null,null,null,null,null,null,null,"80% water used. This was too much water"]
[null,null,null,null,null,null,null,null,null,null,null,null,"Metakaolin",null,null,null,null,null,null,null,null,null,null,null,null,null,null,null,null,null,null,"80% water used"]
[null,null,null,null,null,null,null,null,null,null,null,null,"Silica Fume",null,null,null,null,null,null,null,null,null,null,null,null,null,null,null,null,null,null,"80% water used. "]
[null,null,null,null,null,null,null,null,null,null,null,"N","Fly Ash"]
[null,null,null,null,null,null,null,null,null,null,null,null,"Metakaolin",null,null,null,null,null,null,null,null,null,null,null,null,null,null,null,null,null,null,"80% water use, kinda wet. Maybe use 75%,"]
[null,null,null,null,null,null,null,null,null,null,null,null,"Silica Fume",null,null,null,null,null,null,null,null,null,null,null,null,null,null,null,null,null,null,"70% water used but it was thick"]
[null,null,null,null,null,null,null,null,null,null,null,null,null,null,null,null,null,null,null,null,null,null,null,null,null,null,null,null,null,null,null,"80% water used"]
[]
[null,null,null,null,null,null,null,null,null,null,null,null,null,null,null,null,null,null,null,null,null,null,null,null,null,null,null,null,null,null,null,"70% water used. A little thick"]
[null,null,null,null,null,null,null,null,null,null,null,null,null,null,null,null,null,null,null,null,null,null,null,null,null,null,null,null,null,null,null,"75% water used. Still too much. Maybe 72%"]
[null,null,null,null,null,null,null,null,null,null,null,null,null,null,null,null,null,null,null,null,null,null,null,null,null,null,null,null,null,null,null,"70% water used. Notice the last 8 were using Silica Fume."]
[]
[]
[]
[null,null,null,null,null,0.5,{"$f":"1-D58","v":1},null,"96-100"]
[null,null,null,null,null,0.25,{"$f":"G58-D59","v":1},null,"65-75"]
[null,null,null,null,null,0.1,{"$f":"G59-D60","v":1},null,"20-30"]
[null,null,null,null,null,0.04,{"$f":"G60-D61","v":1},null,"0-4"]
[]
[]
[]
[]
[]
[]
[]
[]
[]
[]
[]
[]
[]
[]
[]
[]
[]
[]
[null,null,null,null,null,2,{"$f":"1-D80","v":1},null,"96-100"]
[null,null,null,null,null,1,{"$f":"G80-D81","v":1},null,"65-75"]
[null,null,null,null,null,0.5,{"$f":"G81-D82","v":1},null,"20-30"]
[null,null,null,null,null,0.25,{"$f":"G82-D83","v":1},null,"0-4"]
[null,null,null,null,null,0.1,{"$f":"G83-D84","v":1},null,"96-101"]
[null,null,null,null,null,0.04,{"$f":"G84-D85","v":1},null,"65-76"]

{"sheet":"Mix Printout","index":4,"n_rows":121,"n_cols":36,"rows_kept":121,"cut":false,"hidden":false,"merged":[[5,8,36,11],[52,8,54,9],[50,8,51,9],[1,2,2,11],[1,13,2,38],[38,8,46,11]]}
[]
[null,null,"Input Data",null,null,null,null,null,null,null,null,null,null,"Printable Templates - Paste Here"]
[]
[]
[null,null,"Mix Design",null,null,"AACAA",null,null,"INSTRUCTIONS - EXPERIMENTAL MIXES",null,null,null,null,null,"Mix Design",null,null,"AADAA",null,null,null,"Observations/Improvements",null,null,null,null,null,null,"Mix Design",null,null,"AADAA",null,null,null,"Observations/Improvements"]
[null,null,"Aggregate Distribution",null,null,"A",null,null,"1. Fill out the top of the form on the Left making sure that the Mix Design corresponds with the Mixes outlined in the sheet titled \"Designs & Results\".  Be sure that the mix in the \"45% Agg.\" sheet also corresponds then Solve the sheets by following the instructions found in the \"45% Agg.\" sheet.                                                                    2. After the top of the form is filled out the bottom of the form should fill in automatically.                                       3. Copy the top section and paste the values for the top section.                                                                                      4. Copy the values of the mix design and Paste the values on the following sheet.    Don't forget to copy over the Fiber mix design (i.e. A, B, C)                                                                  5. After the values have been pasted on the sheet to the left, Repeat the process until the desired amount of mixes have been provided.                                                                       6. Record the mix design in the sheet titled \"Designs & Results\" including                                                                          7. Print however many spreadsheets were created. Page breaks have been inserted to allow for only one of these forms per page. ",null,null,null,null,null,"Aggregate Distribution",null,null,"A",null,null,null,null,null,null,null,null,null,null,"Aggregate Distribution",null,null,"A"]
[null,null,"w/c Ratio",null,0.32,"A",null,null,null,null,null,null,null,null,"w/c Ratio",null,0.32,"A",null,null,null,null,null,null,null,null,null,null,"w/c Ratio",null,0.32,"A"]
[null,null,"% Aggregate",null,0.45,"C",null,null,null,null,null,null,null,null,"% Aggregate",null,0.55000000000000004,"D",null,null,null,null,null,null,null,null,null,null,"% Aggregate",null,0.6,"D"]
[null,null,"Cementitious Material",null,null,"A",null,null,null,null,null,null,null,null,"Cementitious Material",null,null,"A",null,null,null,null,null,null,null,null,null,null,"Cementitious Material",null,null,"A",null,null,null,"PASTE"]
[]
[]
[null,null,"Date:",null,null,null,null,null,null,null,null,null,null,null,"Date:",null,null,null,null,null,null,null,null,null,null,null,null,null,"Date:"]
[null,null,"Name of Mixer:",null,null,null,null,null,null,null,null,null,null,null,"Name of Mixer:",null,null,null,null,null,null,null,null,null,null,null,null,null,"Name of Mixer:"]
[]
[null,null,"Fiber Mix",null,"A",{"$f":"IF($E$8='45% Agg.'!$Z$4,'45% Agg.'!K12,IF($E$8='Mix 1'!$R$10,'Mix 1'!K12,IF($E$8='Mix 2'!$R$10,'Mix 2'!K11,IF($E$8='Mix 3'!$R$10,'Mix 3'!K11,IF($E$8='Mix 4'!$R$10,'Mix 4'!K11,IF($E$8=#REF!,#REF!,\"\"))))))","v":0},null,null,null,null,null,null,null,null,"Fiber Mix",null,"A",1.9941750242513333E-2,null,null,null,null,null,null,null,null,null,null,"Fiber Mix",null,"A",1.5339807878856412E-2]
[]
[null,null,"Aggregates",null,null,null,null,null,null,null,null,null,null,null,"Aggregates",null,null,null,null,null,null,null,null,null,null,null,null,null,"Aggregates"]
[null,null,"Utelite               ",null,null,{"$f":"IF($E$8='45% Agg.'!$Z$4,'45% Agg.'!K17,IF($E$8='Mix 1'!$R$10,'Mix 1'!K16,IF($E$8='Mix 2'!$R$10,'Mix 2'!K15,IF($E$8='Mix 3'!$R$10,'Mix 3'!K15,IF($E$8='Mix 4'!$R$10,'Mix 4'!K15,IF($E$8=#REF!,#REF!,\"\"))))))","v":0},null,null,null,null,null,null,null,null,"Utelite               ",null,null,1.4214479572863508,null,null,null,null,null,null,null,null,null,null,"Utelite               ",null,null,1.0337803325718913]
[null,null,"Size: 2-4",null,null,{"$f":"IF($E$8='45% Agg.'!$Z$4,'45% Agg.'!K18,IF($E$8='Mix 1'!$R$10,'Mix 1'!K17,IF($E$8='Mix 2'!$R$10,'Mix 2'!K16,IF($E$8='Mix 3'!$R$10,'Mix 3'!K16,IF($E$8='Mix 4'!$R$10,'Mix 4'!K16,IF($E$8=#REF!,#REF!,\"\"))))))","v":1.1630028741433778},null,null,null,null,null,null,null,null,"Size: 2-4",null,null,0.28049906357117321,null,null,null,null,null,null,null,null,null,null,"Size: 2-4",null,null,0.20399931896085324]
[null,null,"Size: 1-2",null,null,{"$f":"IF($E$8='45% Agg.'!$Z$4,'45% Agg.'!K19,IF($E$8='Mix 1'!$R$10,'Mix 1'!K18,IF($E$8='Mix 2'!$R$10,'Mix 2'!K17,IF($E$8='Mix 3'!$R$10,'Mix 3'!K17,IF($E$8='Mix 4'!$R$10,'Mix 4'!K17,IF($E$8=#REF!,#REF!,\"\"))))))","v":0.17212442537321992},null,null,null,null,null,null,null,null,"Size: 1-2",null,null,0.24865862932795893,null,null,null,null,null,null,null,null,null,null,"Size: 1-2",null,null,0.18084263951124285]
[null,null,"Size: 0.5-1",null,null,{"$f":"IF($E$8='45% Agg.'!$Z$4,'45% Agg.'!K20,IF($E$8='Mix 1'!$R$10,'Mix 1'!K19,IF($E$8='Mix 2'!$R$10,'Mix 2'!K18,IF($E$8='Mix 3'!$R$10,'Mix 3'!K18,IF($E$8='Mix 4'!$R$10,'Mix 4'!K18,IF($E$8=#REF!,#REF!,\"\"))))))","v":0.20344796945014823},null,null,null,null,null,null,null,null,"Size: 0.5-1",null,null,0.23880325682410694,null,null,null,null,null,null,null,null,null,null,"Size: 0.5-1",null,null,0.17367509587207777]
[null,null,"Size: 0.25-0.5",null,null,{"$f":"IF($E$8='45% Agg.'!$Z$4,'45% Agg.'!K21,IF($E$8='Mix 1'!$R$10,'Mix 1'!K20,IF($E$8='Mix 2'!$R$10,'Mix 2'!K19,IF($E$8='Mix 3'!$R$10,'Mix 3'!K19,IF($E$8='Mix 4'!$R$10,'Mix 4'!K19,IF($E$8=#REF!,#REF!,\"\"))))))","v":0.1953844828560875},null,null,null,null,null,null,null,null,"Size: 0.25-0.5",null,null,0.28353148588005078,null,null,null,null,null,null,null,null,null,null,"Size: 0.25-0.5",null,null,0.20620471700367329]
[null,null,"Size: 0.1-0.3",null,null,{"$f":"IF($E$8='45% Agg.'!$Z$4,'45% Agg.'!K22,IF($E$8='Mix 1'!$R$10,'Mix 1'!K21,IF($E$8='Mix 2'!$R$10,'Mix 2'!K20,IF($E$8='Mix 3'!$R$10,'Mix 3'!K20,IF($E$8='Mix 4'!$R$10,'Mix 4'!K20,IF($E$8=#REF!,#REF!,\"\"))))))","v":0.23198030662913241},null,null,null,null,null,null,null,null,"Size: 0.1-0.3",null,null,0.28997538328641548,null,null,null,null,null,null,null,null,null,null,"Size: 0.1-0.3",null,null,0.21089118784466582]
[null,null,"Size: 0.04-0.125",null,null,{"$f":"IF($E$8='45% Agg.'!$Z$4,'45% Agg.'!K23,IF($E$8='Mix 1'!$R$10,'Mix 1'!K22,IF($E$8='Mix 2'!$R$10,'Mix 2'!K21,IF($E$8='Mix 3'!$R$10,'Mix 3'!K21,IF($E$8='Mix 4'!$R$10,'Mix 4'!K21,\"\")))))","v":0.23725258632524907},null,null,null,null,null,null,null,null,"Size: 0.04-0.125",null,null,0.15162111544387744,null,null,null,null,null,null,null,null,null,null,"Size: 0.04-0.125",null,null,0.11026990214100174]
[]
[null,null,"Cementitious Materials",null,null,null,null,null,null,null,null,null,null,null,"Cementitious Materials",null,null,null,null,null,null,null,null,null,null,null,null,null,"Cementitious Materials"]
[null,null,"Portland Cement",null,null,{"$f":"IF($E$8='45% Agg.'!$Z$4,'45% Agg.'!K5,IF($E$8='Mix 1'!$R$10,'Mix 1'!K5,IF($E$8='Mix 2'!$R$10,'Mix 2'!K5,IF($E$8='Mix 3'!$R$10,'Mix 3'!K5,IF($E$8='Mix 4'!$R$10,'Mix 4'!K5,IF($E$8=#REF!,#REF!,\"\"))))))","v":0.90671558720684819},null,null,null,null,null,null,null,null,"Portland Cement",null,null,1.6422382699948008,null,null,null,null,null,null,null,null,null,null,"Portland Cement",null,null,1.1006936410400263]
[null,null,"Fly Ash",null,null,{"$f":"IF($E$8='45% Agg.'!$Z$4,'45% Agg.'!K6,IF($E$8='Mix 1'!$R$10,'Mix 1'!K6,IF($E$8='Mix 2'!$R$10,'Mix 2'!K6,IF($E$8='Mix 3'!$R$10,'Mix 3'!K6,IF($E$8='Mix 4'!$R$10,'Mix 4'!K6,IF($E$8=#REF!,#REF!,\"\"))))))","v":0.86066019230110336},null,null,null,null,null,null,null,null,"Fly Ash",null,null,0.95927568786997863,null,null,null,null,null,null,null,null,null,null,"Fly Ash",null,null,0.64294485698845982]
[null,null,"Metakaolin",null,"50%)below)",{"$f":"IF($E$8='45% Agg.'!$Z$4,'45% Agg.'!K8,IF($E$8='Mix 1'!$R$10,'Mix 1'!K8,IF($E$8='Mix 2'!$R$10,'Mix 2'!K8,IF($E$8='Mix 3'!$R$10,'Mix 3'!K8,IF($E$8='Mix 4'!$R$10,'Mix 4'!K8,IF($E$8=#REF!,#REF!,\"\"))))))","v":0},null,null,null,null,null,null,null,null,"Metakaolin",null,"50%)below)",0,null,null,null,null,null,null,null,null,null,null,"Metakaolin",null,"50%)below)",0]
[]
[null,null,"Water",0.7,{"$f":"F31*5/7","v":{"$error":"#REF!"}},{"$f":"IF($E$8='45% Agg.'!$Z$4,'45% Agg.'!K32,IF($E$8='Mix 1'!$R$10,'Mix 1'!K30,IF($E$8='Mix 2'!$R$10,'Mix 2'!K28,IF($E$8='Mix 3'!$R$10,'Mix 3'!K28,IF($E$8='Mix 4'!$R$10,'Mix 4'!K28,IF($E$8=#REF!,#REF!,\"\"))))))*0.7","v":{"$error":"#REF!"}},null,null,null,null,null,null,null,null,"Water",0.7,0.70453821418806173,1.4555534574272249,null,null,null,"Total water used:",null,null,null,null,null,null,"Water",0.7,0.70453821418806173,0.98635349986328646,null,null,null,"Total water used:"]
[null,null,null,0.1,null,{"$f":"IF($E$8='45% Agg.'!$Z$4,'45% Agg.'!K32,IF($E$8='Mix 1'!$R$10,'Mix 1'!K30,IF($E$8='Mix 2'!$R$10,'Mix 2'!K28,IF($E$8='Mix 3'!$R$10,'Mix 3'!K28,IF($E$8='Mix 4'!$R$10,'Mix 4'!K28,IF($E$8=#REF!,#REF!,\"\"))))))*0.1","v":{"$error":"#REF!"}},null,null,null,null,null,null,null,null,null,0.1,null,0.20793620820388928,null,null,null,null,null,null,null,null,null,null,null,0.1,null,0.14090764283761237]
[]
[null,null,"Admixtures",null,null,"Amount (ml)",null,null,null,null,null,null,null,null,"Admixtures",null,null,"Amount (ml)",null,null,null,null,null,null,null,null,null,null,"Admixtures",null,null,"Amount (ml)"]
[null,null,"Adva 555 M",null,null,{"$f":"IF($E$8='45% Agg.'!$Z$4,'45% Agg.'!K43,IF($E$8='Mix 1'!$R$10,'Mix 1'!K40,IF($E$8='Mix 2'!$R$10,'Mix 2'!K38,IF($E$8='Mix 3'!$R$10,'Mix 3'!K38,IF($E$8='Mix 4'!$R$10,'Mix 4'!K38,\"\")))))","v":"Amount\n(ml)"},null,null,null,null,null,null,null,null,"Adva 555 M",null,null,2.7237952898684479,null,null,null,null,null,null,null,null,null,null,"Adva 555 M",null,null,1.9162176773978596]
[null,null,"Eclipse Floor 200",null,null,{"$f":"IF($E$8='45% Agg.'!$Z$4,'45% Agg.'!K44,IF($E$8='Mix 1'!$R$10,'Mix 1'!K41,IF($E$8='Mix 2'!$R$10,'Mix 2'!K39,IF($E$8='Mix 3'!$R$10,'Mix 3'!K39,IF($E$8='Mix 4'!$R$10,'Mix 4'!K39,IF($E$8=#REF!,#REF!,\"\"))))))","v":0},null,null,null,null,null,null,null,null,"Eclipse Floor 200",null,null,5.8786948702196709,null,null,null,null,null,null,null,null,null,null,"Eclipse Floor 200",null,null,4.1357216058946609]
[]
[]
[null,null,"Mix Design",null,null,{"$f":"F40&F41&F42&F43&E49","v":"AAAAA"},null,null,"* Notice that  the % Aggregate is not a round number like those shown in the sheets.  If a more presice aggregate amount is needed such as 57% rather than 55% or 60%  go to any sheet and specity the percent aggregate in the designing parameters table.  Change that amount to the  desired percentage and also change the amount on this sheet to match it.",null,null,null,null,null,"Break Data",null,null,null,null,null,null,null,null,null,null,null,null,null,"Break Data"]
[null,null,"Aggregate Distribution",null,null,"A"]
[null,null,"w/c Ratio",null,0.32,"A",null,null,null,null,null,null,null,null,"Date:",null,null,null,null,null,null,null,null,null,null,null,null,null,"Date:"]
[null,null,"Cementitious Material",null,0.45,"A",null,null,null,null,null,null,null,null,"Name of Breaker:",null,null,null,null,null,null,null,null,null,null,null,null,null,"Name of Breaker:"]
[null,null,"% Aggregate",null,null,"A",null,null,null,null,null,null,null,null,"Cylinder size:",null,null,null,null,null,null,null,null,null,null,null,null,null,"Cylinder size:"]
[]
[]
[null,null,"Date:"]
[null,null,"Name of Mixer:",null,null,null,null,null,null,null,null,null,null,null,"Specimen","Weight","Max Load",null,null,null,null,null,null,null,null,null,null,null,"Specimen","Weight","Max Load"]
[]
[null,null,"Fiber Mix",null,"A",9.2592592592592587E-2,null,null,null,null,null,null,null,null,1,null,null,null,null,null,null,null,null,null,null,null,null,null,1]
[]
[null,null,"Aggregates",null,null,null,null,null,"EXAMPLE"]
[null,null,"Utelite               ",null,null,1.0337803325718915,null,null,null,null,null,null,null,null,2,null,null,null,null,null,null,null,null,null,null,null,null,null,2]
[null,null,"Size: 2-4",null,null,0.16540485321150264,null,null,"←"]
[null,null,"Size: 1-2",null,null,0.22605329938905361,null,null,null,null,null,null,null,null,3,null,null,null,null,null,null,null,null,null,null,null,null,null,3]
[null,null,"Size: 0.5-1",null,null,0.12405363990862697]
[null,null,"Size: 0.25-0.5",null,null,0.187458833639703]
[null,null,"Size: 0.1-0.3",null,null,0.23432354204962874]
[null,null,"Size: 0.04-0.125",null,null,0.11026990214100177]
[]
[null,null,"Cementitious Materials"]
[null,null,"Portland Cement",null,null,1.6701388154857117]
[null,null,"Fly Ash",null,null,0.41753470387142794]
[null,null,"Metakaolin",null,null,0.41753470387142799]
[]
[null,null,"Water",null,null,1.8734669556362027]
[]
[null,null,"Admixtures",null,null,"Amount (ml)"]
[null,null,"Adva 140 M",null,null,16.787513019192627]
[null,null,"Eclipse Floor 200",null,null,5.3720041661416422]
[]
[]
[null,null,null,null,null,null,null,null,null,null,null,null,null,null,"Mix Design",null,null,"AACAA",null,null,null,"Observations/Improvements",null,null,null,null,null,null,"Mix Design",null,null,"LADHH",null,null,null,"Observations/Improvements"]
[null,null,null,null,null,null,null,null,null,null,null,null,null,null,"Aggregate Distribution",null,null,"A",null,null,null,null,null,null,null,null,null,null,"Aggregate Distribution",null,null,"L"]
[null,null,null,null,null,null,null,null,null,null,null,null,null,null,"w/c Ratio",null,0.32,"A",null,null,null,null,null,null,null,null,null,null,"w/c Ratio",null,0.32,"A"]
[null,null,null,null,null,null,null,null,null,null,null,null,null,null,"% Aggregate",null,0.55000000000000004,"C",null,null,null,null,null,null,null,null,null,null,"% Aggregate",null,0.6,"D"]
[null,null,null,null,null,null,null,null,null,null,null,null,null,null,"Cementitious Material",null,null,"A",null,null,null,null,null,null,null,null,null,null,"Cementitious Material",null,null,"H"]
[]
[]
[null,null,null,null,null,null,null,null,null,null,null,null,null,null,"Date:",null,null,null,null,null,null,null,null,null,null,null,null,null,"Date:"]
[null,null,null,null,null,null,null,null,null,null,null,null,null,null,"Name of Mixer:",null,null,null,null,null,null,null,null,null,null,null,null,null,"Name of Mixer:"]
[]
[null,null,null,null,null,null,null,null,null,null,null,null,null,null,"Fiber Mix",null,"A",1.9941750242513333E-2,null,null,null,null,null,null,null,null,null,null,"Fiber Mix",null,"H",9.2322917789413594E-3]
[]
[null,null,null,null,null,null,null,null,null,null,null,null,null,null,"Aggregates",null,null,null,null,null,null,null,null,null,null,null,null,null,"Aggregates"]
[null,null,null,null,null,null,null,null,null,null,null,null,null,null,"Utelite               ",null,null,1.4214479572863508,null,null,null,null,null,null,null,null,null,null,"Utelite               ",null,null,0.86148361047657607]
[null,null,null,null,null,null,null,null,null,null,null,null,null,null,"Size: 2-4",null,null,0.28049906357117321,null,null,null,null,null,null,null,null,null,null,"Size: 2-4",null,null,0.19549934733748436]
[null,null,null,null,null,null,null,null,null,null,null,null,null,null,"Size: 1-2",null,null,0.18194533853265288,null,null,null,null,null,null,null,null,null,null,"Size: 1-2",null,null,0.13186442464361461]
[null,null,null,null,null,null,null,null,null,null,null,null,null,null,"Size: 0.5-1",null,null,0.21757630066196409,null,null,null,null,null,null,null,null,null,null,"Size: 0.5-1",null,null,0.13439144323434585]
[null,null,null,null,null,null,null,null,null,null,null,null,null,null,"Size: 0.25-0.5",null,null,0.18763113036179829,null,null,null,null,null,null,null,null,null,null,"Size: 0.25-0.5",null,null,0.17183726416972775]
[null,null,null,null,null,null,null,null,null,null,null,null,null,null,"Size: 0.1-0.3",null,null,0.23198030662913241,null,null,null,null,null,null,null,null,null,null,"Size: 0.1-0.3",null,null,0.17574265653722151]
[null,null,null,null,null,null,null,null,null,null,null,null,null,null,"Size: 0.04-0.125",null,null,0.16109743515911976,null,null,null,null,null,null,null,null,null,null,"Size: 0.04-0.125",null,null,9.1891585117501465E-2]
[]
[null,null,null,null,null,null,null,null,null,null,null,null,null,null,"Cementitious Materials",null,null,null,null,null,null,null,null,null,null,null,null,null,"Cementitious Materials"]
[null,null,null,null,null,null,null,null,null,null,null,null,null,null,"Portland Cement",null,null,1.7660623440011429,null,null,null,null,null,null,null,null,null,null,"Portland Cement",null,null,0.83304548791143573]
[null,null,null,null,null,null,null,null,null,null,null,null,null,null,"Fly Ash",null,null,1.03160467078162,null,null,null,null,null,null,null,null,null,null,"Fly Ash",null,null,0.54742989205608628]
[null,null,null,null,null,null,null,null,null,null,null,null,null,null,"Metakaolin",null,"50%)below)",0,null,null,null,null,null,null,null,null,null,null,"Metakaolin",null,"50%)below)",0]
[]
[null,null,null,null,null,null,null,null,null,null,null,null,null,null,"Water",0.7,0.70453821418806173,1.4555534574272249,null,null,null,"Total water used:",null,null,null,null,null,null,"Water",0.7,0.48837606496065,0.68372649094491,null,null,null,"Total water used:"]
[null,null,null,null,null,null,null,null,null,null,null,null,null,null,null,0.1,null,0.20793620820388928,null,null,null,null,null,null,null,null,null,null,null,0.1,null,9.7675212992130001E-2]
[]
[null,null,null,null,null,null,null,null,null,null,null,null,null,null,"Admixtures",null,null,"Amount (ml)",null,null,null,null,null,null,null,null,null,null,"Admixtures",null,null,"Amount (ml)"]
[null,null,null,null,null,null,null,null,null,null,null,null,null,null,"Adva 555 M",null,null,2.7074635073587459,null,null,null,null,null,null,null,null,null,null,"Adva 555 M",null,null,1.5531009916968184]
[null,null,null,null,null,null,null,null,null,null,null,null,null,null,"Eclipse Floor 200",null,null,5.8434464187598829,null,null,null,null,null,null,null,null,null,null,"Eclipse Floor 200",null,null,3.352016528842054]
[]
[]
[null,null,null,null,null,null,null,null,null,null,null,null,null,null,"Break Data",null,null,null,null,null,null,null,null,null,null,null,null,null,"Break Data"]
[]
[null,null,null,null,null,null,null,null,null,null,null,null,null,null,"Date:",null,null,null,null,null,null,null,null,null,null,null,null,null,"Date:"]
[null,null,null,null,null,null,null,null,null,null,null,null,null,null,"Name of Breaker:",null,null,null,null,null,null,null,null,null,null,null,null,null,"Name of Breaker:"]
[null,null,null,null,null,null,null,null,null,null,null,null,null,null,"Cylinder size:",null,null,null,null,null,null,null,null,null,null,null,null,null,"Cylinder size:"]
[]
[]
[]
[null,null,null,null,null,null,null,null,null,null,null,null,null,null,"Specimen","Weight","Max Load",null,null,null,null,null,null,null,null,null,null,null,"Specimen","Weight","Max Load"]
[]
[null,null,null,null,null,null,null,null,null,null,null,null,null,null,1,null,null,null,null,null,null,null,null,null,null,null,null,null,1]
[]
[]
[null,null,null,null,null,null,null,null,null,null,null,null,null,null,2,null,null,null,null,null,null,null,null,null,null,null,null,null,2]
[]
[null,null,null,null,null,null,null,null,null,null,null,null,null,null,3,null,null,null,null,null,null,null,null,null,null,null,null,null,3]

{"sheet":"Mix 1","index":5,"n_rows":56,"n_cols":22,"rows_kept":56,"cut":false,"hidden":true,"merged":[[55,2,55,6],[55,10,55,11],[55,12,55,13],[53,2,53,6],[53,8,53,9],[53,10,53,11],[53,12,53,13],[54,2,54,6],[50,12,50,13],[54,12,54,13],[51,2,51,6],[51,8,51,9],[51,10,51,13],[54,8,54,9],[54,10,54,11],[52,10,52,11],[52,12,52,13],[48,12,48,13],[49,2,49,6],[49,8,49,9],[49,10,49,11],[49,12,49,13],[52,2,52,6],[52,8,52,9],[48,2,48,6],[48,8,48,9],[48,10,48,11],[50,2,50,6],[50,8,50,9],[50,10,50,11],[46,1,46,6],[46,8,46,9],[46,10,46,11],[46,12,46,13],[47,1,47,6],[47,8,47,9],[47,10,47,11],[47,12,47,13],[26,11,28,11],[26,13,28,13],[37,11,38,11],[44,1,44,6],[45,1,45,6],[45,8,45,9],[45,10,45,11],[39,2,39,4],[40,2,40,4],[43,1,43,6],[41,2,41,4],[42,2,42,4],[45,12,45,13],[23,1,23,6],[24,1,24,6],[25,2,25,6],[25,7,27,7],[26,1,27,1],[26,2,26,6],[27,2,27,6],[28,2,28,6],[29,1,29,6],[36,1,38,6],[37,7,38,7],[37,10,38,10],[30,1,30,13],[31,2,31,6],[32,2,32,6],[33,2,33,6],[34,2,34,6],[35,1,35,6],[37,8,38,8],[37,9,38,9],[37,12,38,12],[37,13,38,13],[26,9,28,9],[1,21,3,21],[1,8,2,9],[1,10,2,11],[1,12,2,13],[2,2,2,5],[2,6,2,7],[3,1,3,6],[1,20,3,20],[1,19,3,19],[5,3,5,4],[1,15,2,16],[1,17,2,17],[1,18,3,18],[11,2,11,6],[12,2,12,6],[13,1,13,6],[14,1,14,6],[9,1,9,6],[10,1,10,6]]}
[]
[null,"Mixture ID: ",null,"KADHF",null,null,null,null,"Design Proportions (Non SSD)",null,"Actual Batched Proportions for Design ",null,"Yielded  Proportions",null,null,"Cylinder Size",null,"Volume of Cylinder","Amount of Cylinders","Extra Mixing Material Factor","Amount of Concrete Wanted (ft3)","Divisible Factor"]
[null,"YD","Design Batch Size (ft3):         ",null,null,null,27]
[null,"Cementitious Materials",null,null,null,null,null,"SG","Amount\n(lb/yd3)","Volume\n(ft3)","Amount\n(lb)","Volume\n(ft3)","Amount\n(lb/yd3)","Volume\n(ft3)",null,"diameter (in)","height (in)","ft3"]
[null,"CM1","Portland Cement",null,null,null,null,{"$f":"'45% Agg.'!$H$5","v":3.15},249.51230265367806,{"$f":"I5/H5/62.4","v":1.2693951091456963},{"$f":"(H5*62.4*L5)","v":1.0206588762982658},{"$f":"J5/$V$5","v":5.1926072257746526E-3},null,null,null,{"$f":"'45% Agg.'!P4","v":3},{"$f":"'45% Agg.'!Q4","v":6},{"$f":"(P5^2*PI())/4*Q5/12^3","v":2.4543692606170259E-2},{"$f":"'45% Agg.'!S4","v":3},{"$f":"'45% Agg.'!T4","v":1.5},{"$f":"R5*S5*T5","v":0.11044661672776616},{"$f":"27/U5","v":244.46199258915124}]
[null,"CM2",{"$f":"'45% Agg.'!$C$6","v":"Fly Ash "},{"$f":"'45% Agg.'!$D$6","v":"Class: F"},{"$f":"'45% Agg.'!E6","v":0},"Amt:",{"$f":"'45% Agg.'!$G$6","v":1.3},{"$f":"'45% Agg.'!$H$6","v":2.2999999999999998},{"$f":"IF(G6=\"\",\"\",H6*62.4*J6)","v":236.83866188396743},{"$f":"G6*$J$5","v":1.6502136418894053},{"$f":"IF(G6=\"\",\"\",H6*62.4*L6)","v":0.96881588575613153},{"$f":"J6/$V$5","v":6.7503893935070489E-3}]
[null,"CM3",{"$f":"'45% Agg.'!$C$7","v":"Graphene"},null,null,"Amt:",{"$f":"'45% Agg.'!$G$7","v":0.1},{"$f":"'45% Agg.'!$H$7","v":1},{"$f":"IF(G7=\"\",\"\",H7*62.4*J7)","v":7.9210254810691456},{"$f":"G7*$J$5","v":0.12693951091456965},{"$f":"IF(G7=\"\",\"\",H7*62.4*L7)","v":3.2401869088833836E-2},{"$f":"J7/$V$5","v":5.1926072257746532E-4}]
[null,"CM4",{"$f":"'45% Agg.'!$C$8","v":"Slag"},null,null,"Amt:",{"$f":"'45% Agg.'!$G$8","v":1.4},{"$f":"'45% Agg.'!$H$8","v":0},{"$f":"IF(G8=\"\",\"\",H8*62.4*J8)","v":0},{"$f":"G8*$J$5","v":1.7771531528039748},{"$f":"IF(G8=\"\",\"\",H8*62.4*L8)","v":0},{"$f":"J8/$V$5","v":7.2696501160845134E-3},null,null,null,"Designing Parameters"]
[null,null,null,null,null,null,null,null,null,null,null,null,null,null,null,"Desired Volume",null,27]
[null,"Total Cementitious Materials: ",null,null,null,null,null,null,{"$f":"SUM(I5:I9)","v":494.27199001871463},{"$f":"SUM(J5:J9)","v":4.8237014147536463},{"$f":"SUM(K5:K9)","v":2.0218766311432312},{"$f":"SUM(L5:L9)","v":1.9731907457943679E-2},null,null,null,"% Aggregate",null,0.5]
[null,"Fibers"]
[null,"F1","Grace Fibers",null,null,null,null,{"$f":"'45% Agg.'!$H$12","v":0.91},{"$f":"'45% Agg.'!$I$12","v":3.25},{"$f":"IF(H12=\"\",\"\",I12/(H12*62.4))","v":5.7234432234432232E-2},{"$f":"(H12*62.4*L12)","v":1.9941750242513333E-2},{"$f":"'45% Agg.'!L12","v":3.5118607781264676E-4}]
[null,"F2","Fiber 2",null,null,null,null,{"$f":"'45% Agg.'!$H$13","v":0},{"$f":"'45% Agg.'!$I$13","v":0},{"$f":"IF(H13=0,\"\",I13/(H13*62.4))","v":""},null,null,null,null,null,"In looking in the mix printout sheet, it was mentioned that  the % Aggregate is not a round number like those shown in the sheets.  If a more presice aggregate amount is needed such as 57% rather than 55% or 60% then go to the sheet closest and on the bottom of the sheet is the highlighed aggregate amount.  Change that amount to the amount desired and then change the amount on this sheet to match it."]
[null,"Total Fibers: ",null,null,null,null,null,null,{"$f":"SUM(I12:I13)","v":3.25},{"$f":"SUM(J12:J13)","v":5.7234432234432232E-2}]
[null,"Aggregates"]
[null,"A1",{"$f":"'45% Agg.'!$C$17","v":"Utelite               "},null,{"$f":"'45% Agg.'!$E$17","v":0.25},"Abs:",{"$f":"'45% Agg.'!$G$17","v":0},{"$f":"'45% Agg.'!$H$17","v":1.5},{"$f":"IF(E16=\"\",\"\",H16*62.4*J16)","v":315.89999999999998},{"$f":"IF(E16=\"\",\"\",E16*$J$24)","v":3.375},{"$f":"IF(G16=\"\",\"\",H16*62.4*L16)","v":1.292225415714864},{"$f":"J16/$V$5","v":1.3805827090970771E-2}]
[null,"A2",{"$f":"'45% Agg.'!$C$18","v":"Size: 2-4"},null,{"$f":"'45% Agg.'!$E$18","v":0.15},"Abs:",{"$f":"'45% Agg.'!$G$18","v":0.23},{"$f":"'45% Agg.'!$H$18","v":0.37},46.7532,2.0249999999999999,0.19124936152579991,8.2834962545824623E-3]
[null,"A3",{"$f":"'45% Agg.'!$C$19","v":"Size: 1-2"},null,{"$f":"'45% Agg.'!$E$19","v":0.16},"Abs:",{"$f":"'45% Agg.'!$G$19","v":0.2},{"$f":"'45% Agg.'!$H$19","v":0.41},55.26144,2.16,0.22605329938905358,8.8357293382212935E-3]
[null,"A4",{"$f":"'45% Agg.'!$C$20","v":"Size: 0.5-1"},null,{"$f":"'45% Agg.'!$E$20","v":0.14000000000000001},"Abs:",{"$f":"'45% Agg.'!$G$20","v":0.2},{"$f":"'45% Agg.'!$H$20","v":0.45},53.071199999999997,1.8900000000000001,0.21709386984009718,7.731263170943632E-3]
[null,"A5",{"$f":"'45% Agg.'!$C$21","v":"Size: 0.25-0.5"},null,{"$f":"'45% Agg.'!$E$21","v":0.11},"Abs:",{"$f":"'45% Agg.'!$G$21","v":0.28000000000000003},{"$f":"'45% Agg.'!$H$21","v":0.68},63.011520000000004,1.4850000000000001,0.25775589625459161,6.0745639200271394E-3]
[null,"A6",{"$f":"'45% Agg.'!$C$22","v":"Size: 0.1-0.3"},null,{"$f":"'45% Agg.'!$E$22","v":0.09},"Abs:",{"$f":"'45% Agg.'!$G$22","v":0.35},{"$f":"'45% Agg.'!$H$22","v":0.85},64.443599999999989,1.2149999999999999,0.26361398480583226,4.970097752749477E-3]
[null,"A7",{"$f":"'45% Agg.'!$C$23","v":"Size: 0.04-0.125"},null,{"$f":"'45% Agg.'!$E$23","v":0.05},"Abs:",{"$f":"'45% Agg.'!G23","v":0.25},{"$f":"'45% Agg.'!$H$23","v":0.8},{"$f":"IF(E22=\"\",\"\",H22*62.4*J22)","v":33.696000000000005},0.67500000000000004,0.1378373776762522,2.7611654181941545E-3]
[]
[null,"Total Aggregates: ",null,null,null,null,null,null,{"$f":"SUM(I16:I23)","v":632.13695999999993},{"$f":"R10*R9","v":13.5},{"$f":"SUM(K16:K23)","v":2.5858292052064908},{"$f":"SUM(L16:L23)","v":5.2462142945688933E-2}]
[null,"Water"]
[null,"W1","Water for CM Hydration (W1a + W1b)",null,null,null,null,1,{"$f":"I10*I47","v":148.28159700561437},{"$f":"IF(I26=\"\",\"\",I26/H26/27)","v":5.4919110002079394},{"$f":"I26/$V$5","v":0.60656298934296926},{"$f":"J26/$V$5","v":2.2465295901591454E-2}]
[null,null,"W1a. Water from Admixtures",null,null,null,null,null,0,null,{"$f":"I27/$V$5","v":0}]
[null,null,"W1b.  Additional Water",null,null,null,null,null,{"$f":"I47*I10","v":148.28159700561437},null,{"$f":"I28/$V$5","v":0.60656298934296926}]
[null,"W2","Water for Aggregates, SSD ",null,null,null,null,1,{"$f":"G16*I16+G18*I18+G19*I19+G20*I20+G21*I21+G22*I22","v":70.289013600000004},null,{"$f":"I29/$V$5","v":0.28752532389822016}]
[null,"Total Water (W1 + W2): ",null,null,null,null,null,null,{"$f":"I26+I29","v":218.57061060561438},{"$f":"J26","v":5.4919110002079394},{"$f":"'45% Agg.'!K32","v":1759.5289007267372},{"$f":"SUM(L26:L29)","v":2.2465295901591454E-2}]
[null,"Solids Content of Latex, Dyes and Admixtures in Powder Form"]
[null,"S1","Latex (if used)"]
[null,"S2","Liquid Dye (if used)"]
[null,"S3","Other Latex or Liquid Dye (if used)"]
[null,"P1","Pigment 1 (Powder Form)"]
[null,"Total Solids of Admixtures: ",null,null,null,null,null,null,{"$f":"SUM(I32:I35)","v":0},{"$f":"SUM(J32:J35)","v":0}]
[null,"Admixtures (including Pigments in Liquid Form)"]
[null,null,null,null,null,null,null,"% Solids","Dosage\n(fl oz/cwt)",{"$f":"'45% Agg.'!J41","v":"Total (ml)"},{"$f":"'45% Agg.'!K41","v":"Amount\n(ml)"},"Water in Admixture (lb)","Dosage\n(fl oz/cwt)","Water in Admixture (lb/yd3)"]
[null,null,null,null,null,null,null,null,null,{"$f":"'45% Agg.'!J42","v":0},{"$f":"'45% Agg.'!K42","v":0}]
[null,"Ad1","Water Reducers",null,null,null,"lb/gal",null,{"$f":"'45% Agg.'!$I$43","v":1.39},{"$f":"CONVERT((I40*$I$49/100),\"oz\",\"ml\")","v":554.21950407742361},{"$f":"J40/$V$5","v":2.2670988574034014}]
[null,"Ad2","Shrinkage Reducers",null,null,null,"lb/gal",null,{"$f":"'45% Agg.'!$I$44","v":3},{"$f":"CONVERT((I41*$I$49/100),\"oz\",\"ml\")","v":1196.1572030447994},{"$f":"J41/$V$5","v":4.8930191166979906}]
[null,"Ad3",null,null,null,null,"lb/gal",null,0,{"$f":"CONVERT((I42*$I$49/100),\"oz\",\"ml\")","v":0},{"$f":"J42/$V$5","v":0}]
[null,"Ad4",null,null,null,null,"lb/gal",null,0,0,0]
[null,"Water from Admixtures (W1a): ",null,null,null,null,null,null,null,{"$f":"SUM(J40:J43)","v":1750.376707122223}]
[]
[null,"Cement-Cementitious Materials Ratio",null,null,null,null,null,null,{"$f":"I5/I10","v":0.50480769230769229},null,{"$f":"K5/K10","v":0.50480769230769229}]
[null,"Water-Cementitious Materials Ratio",null,null,null,null,null,null,{"$f":"'45% Agg.'!$I$51:$J$51","v":0.3},null,{"$f":"I47","v":0.3}]
[null,"Slump, Slump Flow, in. ",null,null,null,null,null,null,"3 +- 1",null,"3 +- 1"]
[null,"M","Mass of Concrete. lbs",null,null,null,null,null,{"$f":"SUM(I10,I14,I24,I30,I36)","v":1348.229560624329},null,{"$f":"SUM(K10,K14,K24,K30,K36)","v":1764.1366065630868}]
[null,"V","Absolute Volume of Concrete, ft3",null,null,null,null,null,{"$f":"SUM(J36,J30,J24,J14,J10)","v":23.872846847196016},null,{"$f":"SUM(L36,L30,L24,L14,L10)","v":9.465934630522406E-2}]
[null,"T","Theorectical Density, lb/ft3  = (M / V) ",null,null,null,null,null,{"$f":"I49/I50","v":56.475441293365698},null,{"$f":"K49/K50","v":18636.686977266054}]
[null,"D","Design Density, lb/ft3        =  (M / 27)",null,null,null,null,null,{"$f":"I49/27","v":49.934428171271442}]
[null,"D","Measured Density, lb/ft3",null,null,null,null,null,null,null,69]
[null,"A","Air Content, %  = [(T - D) / T x 100%]",null,null,null,null,null,{"$f":"(I51-I52)/I51","v":0.11582048714088834},null,{"$f":"(K51-K52)/K51","v":1}]
[null,"Y","Yield, ft3                                                  = (M / D)",null,null,null,null,null,{"$f":"I49/I52","v":27},null,{"$f":"K49/K53","v":25.567197196566475}]
[null,"Ry","Relative Yield                        = (Y / YD)",null,null,null,null,null,null,null,{"$f":"K55/K53","v":0.37053908980531125}]

{"sheet":"Mix 2","index":6,"n_rows":56,"n_cols":22,"rows_kept":56,"cut":false,"hidden":true,"merged":[[51,2,51,6],[49,2,49,6],[49,8,49,9],[49,10,49,11],[49,12,49,13],[50,2,50,6],[51,8,51,9],[51,10,51,13],[45,12,45,13],[46,8,46,9],[46,10,46,11],[46,12,46,13],[50,12,50,13],[47,8,47,9],[50,8,50,9],[50,10,50,11],[48,10,48,11],[48,12,48,13],[47,12,47,13],[47,10,47,11],[45,10,45,11],[42,2,42,4],[43,1,43,6],[48,2,48,6],[48,8,48,9],[45,8,45,9],[44,1,44,6],[45,1,45,6],[46,1,46,6],[47,1,47,6],[31,2,31,6],[32,2,32,6],[28,2,28,6],[29,1,29,6],[37,8,38,8],[33,2,33,6],[34,2,34,6],[35,1,35,6],[36,1,38,6],[37,7,38,7],[11,15,17,21],[26,9,28,9],[26,11,28,11],[26,13,28,13],[30,1,30,13],[26,2,26,6],[11,2,11,6],[13,1,13,6],[24,1,24,6],[25,7,27,7],[26,1,27,1],[27,2,27,6],[25,2,25,6],[5,3,5,4],[1,15,2,16],[1,17,2,17],[1,18,3,18],[1,21,3,21],[1,8,2,9],[1,10,2,11],[1,12,2,13],[2,2,2,5],[2,6,2,7],[3,1,3,6],[1,20,3,20],[1,19,3,19],[9,1,9,6],[10,1,10,6],[12,2,12,6],[14,1,14,6],[23,1,23,6],[37,12,38,12],[37,13,38,13],[39,2,39,4],[40,2,40,4],[41,2,41,4],[37,9,38,9],[37,10,38,10],[37,11,38,11],[52,2,52,6],[52,8,52,9],[52,10,52,11],[52,12,52,13],[53,2,53,6],[53,8,53,9],[53,10,53,11],[53,12,53,13],[54,2,54,6],[54,8,54,9],[54,10,54,11],[54,12,54,13],[55,2,55,6],[55,10,55,11],[55,12,55,13]]}
[]
[null,"Mixture ID: ",null,"KADHF",null,null,null,null,"Design Proportions (Non SSD)",null,"Actual Batched Proportions for Design ",null,"Yielded  Proportions",null,null,"Cylinder Size",null,"Volume of Cylinder","Amount of Cylinders","Extra Mixing Material Factor","Amount of Concrete Wanted (ft3)","Divisible Factor"]
[null,"YD","Design Batch Size (ft3):         ",null,null,null,27]
[null,"Cementitious Materials",null,null,null,null,null,"SG","Amount\n(lb/yd3)","Volume\n(ft3)","Amount\n(lb)","Volume\n(ft3)","Amount\n(lb/yd3)","Volume\n(ft3)",null,"diameter (in)","height (in)","ft3"]
[null,"CM1","Portland Cement",null,null,null,null,{"$f":"'45% Agg.'!$H$5","v":3.15},221.65749916022838,{"$f":"I5/H5/62.4","v":1.1276836546613167},{"$f":"(H5*62.4*L5)","v":0.90671558720684819},{"$f":"J5/$V$5","v":4.6129201628350028E-3},null,null,null,{"$f":"'45% Agg.'!P4","v":3},{"$f":"'45% Agg.'!Q4","v":6},{"$f":"(P5^2*PI())/4*Q5/12^3","v":2.4543692606170259E-2},{"$f":"'45% Agg.'!S4","v":3},{"$f":"'45% Agg.'!T4","v":1.5},{"$f":"R5*S5*T5","v":0.11044661672776616},{"$f":"27/U5","v":244.46199258915124}]
[null,"CM2",{"$f":"'45% Agg.'!$C$6","v":"Fly Ash "},{"$f":"'45% Agg.'!$D$6","v":"Class: F"},{"$f":"'45% Agg.'!E6","v":0},"Amt:",{"$f":"'45% Agg.'!$G$6","v":1.3},{"$f":"'45% Agg.'!$H$6","v":2.2999999999999998},{"$f":"IF(G6=\"\",\"\",H6*62.4*J6)","v":210.39870555208981},{"$f":"G6*$J$5","v":1.4659887510597118},{"$f":"IF(G6=\"\",\"\",H6*62.4*L6)","v":0.86066019230110336},{"$f":"J6/$V$5","v":5.9967962116855037E-3}]
[null,"CM3",{"$f":"'45% Agg.'!$C$7","v":"Graphene"},null,null,"Amt:",{"$f":"'45% Agg.'!$G$7","v":0.1},{"$f":"'45% Agg.'!$H$7","v":1},{"$f":"IF(G7=\"\",\"\",H7*62.4*J7)","v":7.0367460050866164},{"$f":"G7*$J$5","v":0.11276836546613167},{"$f":"IF(G7=\"\",\"\",H7*62.4*L7)","v":2.8784621816090414E-2},{"$f":"J7/$V$5","v":4.6129201628350024E-4}]
[null,"CM4",{"$f":"'45% Agg.'!$C$8","v":"Slag"},null,null,"Amt:",{"$f":"'45% Agg.'!$G$8","v":1.4},{"$f":"'45% Agg.'!$H$8","v":0},{"$f":"IF(G8=\"\",\"\",H8*62.4*J8)","v":0},{"$f":"G8*$J$5","v":1.5787571165258434},{"$f":"IF(G8=\"\",\"\",H8*62.4*L8)","v":0},{"$f":"J8/$V$5","v":6.4580882279690038E-3},null,null,null,"Designing Parameters"]
[null,"CM5",null,null,null,"Amt:",{"$f":"'45% Agg.'!$G$8","v":1.4},{"$f":"'45% Agg.'!#REF!","v":{"$error":"#REF!"}},{"$f":"IF(G9=\"\",\"\",H9*62.4*J9)","v":{"$error":"#REF!"}},{"$f":"G9*$J$5","v":1.5787571165258434},{"$f":"IF(G9=\"\",\"\",H9*62.4*L9)","v":{"$error":"#REF!"}},{"$f":"J9/$V$5","v":6.4580882279690038E-3},null,null,null,"Desired Volume",null,27]
[null,"Total Cementitious Materials: ",null,null,null,null,null,null,{"$f":"SUM(I5:I9)","v":{"$error":"#REF!"}},{"$f":"SUM(J5:J9)","v":5.8639550042388473},{"$f":"SUM(K5:K9)","v":{"$error":"#REF!"}},{"$f":"SUM(L5:L9)","v":2.3987184846742018E-2},null,null,null,"% Aggregate of Volume",null,0.45]
[null,"Fibers"]
[null,"F1","Grace Fibers",null,null,null,null,{"$f":"'45% Agg.'!$H$12","v":0.91},{"$f":"'45% Agg.'!$I$12","v":3.25},{"$f":"IF(H12=\"\",\"\",I12/(H12*62.4))","v":5.7234432234432232E-2},{"$f":"(H12*62.4*L12)","v":1.9941750242513333E-2},{"$f":"'45% Agg.'!L12","v":3.5118607781264676E-4},null,null,null,"In looking in the mix printout sheet, it was mentioned that  the % Aggregate is not a round number like those shown in the sheets.  If a more presice aggregate amount is needed such as 57% rather than 55% or 60% then go to the sheet closest and on the bottom of the sheet is the highlighed aggregate amount.  Change that amount to the amount desired and then change the amount on this sheet to match it."]
[null,"F2","Fiber 2",null,null,null,null,{"$f":"'45% Agg.'!$H$13","v":0},{"$f":"'45% Agg.'!$I$13","v":0},{"$f":"IF(H13=0,\"\",I13/(H13*62.4))","v":""}]
[null,"Total Fibers: ",null,null,null,null,null,null,{"$f":"SUM(I12:I13)","v":3.25},{"$f":"SUM(J12:J13)","v":5.7234432234432232E-2}]
[null,"Aggregates"]
[null,"A1",{"$f":"'45% Agg.'!$C$17","v":"Utelite               "},null,{"$f":"'45% Agg.'!$E$17","v":0.25},"Abs:",{"$f":"'45% Agg.'!$G$17","v":0},{"$f":"'45% Agg.'!$H$17","v":1.5},{"$f":"IF(E16=\"\",\"\",H16*62.4*J16)","v":284.31},{"$f":"IF(E16=\"\",\"\",E16*$J$24)","v":3.0375000000000001},{"$f":"IF(G16=\"\",\"\",H16*62.4*L16)","v":1.1630028741433778},{"$f":"J16/$V$5","v":1.2425244381873694E-2}]
[null,"A2",{"$f":"'45% Agg.'!$C$18","v":"Size: 2-4"},null,{"$f":"'45% Agg.'!$E$18","v":0.15},"Abs:",{"$f":"'45% Agg.'!$G$18","v":0.23},{"$f":"'45% Agg.'!$H$18","v":0.37},42.07788,1.8225,0.17212442537321992,7.4551466291242164E-3]
[null,"A3",{"$f":"'45% Agg.'!$C$19","v":"Size: 1-2"},null,{"$f":"'45% Agg.'!$E$19","v":0.16},"Abs:",{"$f":"'45% Agg.'!$G$19","v":0.2},{"$f":"'45% Agg.'!$H$19","v":0.41},49.735296000000005,1.9440000000000002,0.20344796945014823,7.9521564043991654E-3]
[null,"A4",{"$f":"'45% Agg.'!$C$20","v":"Size: 0.5-1"},null,{"$f":"'45% Agg.'!$E$20","v":0.14000000000000001},"Abs:",{"$f":"'45% Agg.'!$G$20","v":0.2},{"$f":"'45% Agg.'!$H$20","v":0.45},47.764080000000007,1.7010000000000003,0.1953844828560875,6.9581368538492701E-3]
[null,"A5",{"$f":"'45% Agg.'!$C$21","v":"Size: 0.25-0.5"},null,{"$f":"'45% Agg.'!$E$21","v":0.11},"Abs:",{"$f":"'45% Agg.'!$G$21","v":0.28000000000000003},{"$f":"'45% Agg.'!$H$21","v":0.68},56.710368000000003,1.3365,0.23198030662913241,5.4671075280244251E-3]
[null,"A6",{"$f":"'45% Agg.'!$C$22","v":"Size: 0.1-0.3"},null,{"$f":"'45% Agg.'!$E$22","v":0.09},"Abs:",{"$f":"'45% Agg.'!$G$22","v":0.35},{"$f":"'45% Agg.'!$H$22","v":0.85},57.999239999999993,1.0934999999999999,0.23725258632524907,4.4730879774745299E-3]
[null,"A7",{"$f":"'45% Agg.'!$C$23","v":"Size: 0.04-0.125"},null,{"$f":"'45% Agg.'!$E$23","v":0.05},"Abs:",{"$f":"'45% Agg.'!G23","v":0.25},{"$f":"'45% Agg.'!$H$23","v":0.8},{"$f":"IF(E22=\"\",\"\",H22*62.4*J22)","v":30.326400000000003},0.60750000000000004,0.12405363990862697,2.485048876374739E-3]
[null,"A8",{"$f":"'45% Agg.'!#REF!","v":{"$error":"#REF!"}},null,{"$f":"'45% Agg.'!#REF!","v":{"$error":"#REF!"}},"Abs:",{"$f":"'45% Agg.'!#REF!","v":{"$error":"#REF!"}},{"$f":"'45% Agg.'!#REF!","v":{"$error":"#REF!"}},{"$f":"IF(E23=\"\",\"\",H23*62.4*J23)","v":{"$error":"#REF!"}},{"$error":"#REF!"},{"$error":"#REF!"},{"$error":"#REF!"}]
[null,"Total Aggregates: ",null,null,null,null,null,null,{"$f":"SUM(I16:I23)","v":{"$error":"#REF!"}},{"$f":"R9*R10","v":12.15},{"$f":"SUM(K16:K23)","v":{"$error":"#REF!"}},{"$f":"SUM(L16:L23)","v":{"$error":"#REF!"}}]
[null,"Water"]
[null,"W1","Water for CM Hydration (W1a + W1b)",null,null,null,null,1,{"$f":"I10*I47","v":{"$error":"#REF!"}},{"$f":"IF(I26=\"\",\"\",I26/H26/27)","v":{"$error":"#REF!"}},{"$f":"I26/$V$5","v":{"$error":"#REF!"}},{"$f":"J26/$V$5","v":{"$error":"#REF!"}}]
[null,null,"W1a. Water from Admixtures",null,null,null,null,null,0,null,{"$f":"I27/$V$5","v":0}]
[null,null,"W1b.  Additional Water",null,null,null,null,null,{"$f":"I47*I10","v":{"$error":"#REF!"}},null,{"$f":"I28/$V$5","v":{"$error":"#REF!"}}]
[null,"W2","Water for Aggregates, SSD ",null,null,null,null,1,{"$f":"G16*I16+G18*I18+G19*I19+G20*I20+G21*I21+G22*I22","v":63.260112240000005},null,{"$f":"I29/$V$5","v":0.25877279150839816}]
[null,"Total Water (W1 + W2): ",null,null,null,null,null,null,{"$f":"I26+I29","v":{"$error":"#REF!"}},{"$f":"J26","v":{"$error":"#REF!"}},{"$f":"'45% Agg.'!K32","v":1759.5289007267372},{"$f":"SUM(L26:L29)","v":{"$error":"#REF!"}}]
[null,"Solids Content of Latex, Dyes and Admixtures in Powder Form"]
[null,"S1","Latex (if used)"]
[null,"S2","Liquid Dye (if used)"]
[null,"S3","Other Latex or Liquid Dye (if used)"]
[null,"P1","Pigment 1 (Powder Form)"]
[null,"Total Solids of Admixtures: ",null,null,null,null,null,null,{"$f":"SUM(I32:I35)","v":0},{"$f":"SUM(J32:J35)","v":0}]
[null,"Admixtures (including Pigments in Liquid Form)"]
[null,null,null,null,null,null,null,"% Solids","Dosage\n(fl oz/cwt)",{"$f":"'45% Agg.'!J41","v":"Total (ml)"},{"$f":"'45% Agg.'!K41","v":"Amount\n(ml)"},"Water in Admixture (lb)","Dosage\n(fl oz/cwt)","Water in Admixture (lb/yd3)"]
[null,null,null,null,null,null,null,null,null,{"$f":"'45% Agg.'!J42","v":0},{"$f":"'45% Agg.'!K42","v":0}]
[null,"Ad1","Water Reducers",null,null,null,"lb/gal",null,{"$f":"'45% Agg.'!$I$43","v":1.39},{"$f":"CONVERT((I40*$I$49/100),\"oz\",\"ml\")","v":{"$error":"#REF!"}},{"$f":"J40/$V$5","v":{"$error":"#REF!"}}]
[null,"Ad2","Shrinkage Reducers",null,null,null,"lb/gal",null,{"$f":"'45% Agg.'!$I$44","v":3},{"$f":"CONVERT((I41*$I$49/100),\"oz\",\"ml\")","v":{"$error":"#REF!"}},{"$f":"J41/$V$5","v":{"$error":"#REF!"}}]
[null,"Ad3",null,null,null,null,"lb/gal",null,0,{"$f":"CONVERT((I42*$I$49/100),\"oz\",\"ml\")","v":{"$error":"#REF!"}},{"$f":"J42/$V$5","v":{"$error":"#REF!"}}]
[null,"Ad4",null,null,null,null,"lb/gal",null,0,{"$error":"#REF!"},{"$error":"#REF!"}]
[null,"Water from Admixtures (W1a): ",null,null,null,null,null,null,null,{"$f":"SUM(J40:J43)","v":{"$error":"#REF!"}},null,null,null,null,null,null,null,29]
[null,null,null,null,null,null,null,null,null,null,null,null,null,null,null,null,null,0.6]
[null,"Cement-Cementitious Materials Ratio",null,null,null,null,null,null,{"$f":"I5/I10","v":{"$error":"#REF!"}},null,{"$f":"K5/K10","v":{"$error":"#REF!"}}]
[null,"Water-Cementitious Materials Ratio",null,null,null,null,null,null,{"$f":"'45% Agg.'!$I$51:$J$51","v":0.3},null,{"$f":"I47","v":0.3}]
[null,"Slump, Slump Flow, in. ",null,null,null,null,null,null,"3 +- 1",null,"3 +- 1"]
[null,"M","Mass of Concrete. lbs",null,null,null,null,null,{"$f":"SUM(I10,I14,I24,I30,I36)","v":{"$error":"#REF!"}},null,{"$f":"SUM(K10,K14,K24,K30,K36)","v":{"$error":"#REF!"}}]
[null,"V","Absolute Volume of Concrete, ft3",null,null,null,null,null,{"$f":"SUM(J36,J30,J24,J14,J10)","v":{"$error":"#REF!"}},null,{"$f":"SUM(L36,L30,L24,L14,L10)","v":{"$error":"#REF!"}}]
[null,"T","Theorectical Density, lb/ft3  = (M / V) ",null,null,null,null,null,{"$f":"I49/I50","v":{"$error":"#REF!"}},null,{"$f":"K49/K50","v":{"$error":"#REF!"}}]
[null,"D","Design Density, lb/ft3        =  (M / 27)",null,null,null,null,null,{"$f":"I49/27","v":{"$error":"#REF!"}}]
[null,"D","Measured Density, lb/ft3",null,null,null,null,null,null,null,69]
[null,"A","Air Content, %  = [(T - D) / T x 100%]",null,null,null,null,null,{"$f":"(I51-I52)/I51","v":{"$error":"#REF!"}},null,{"$f":"(K51-K52)/K51","v":{"$error":"#REF!"}}]
[null,"Y","Yield, ft3                                                  = (M / D)",null,null,null,null,null,{"$f":"I49/I52","v":{"$error":"#REF!"}},null,{"$f":"K49/K53","v":{"$error":"#REF!"}}]
[null,"Ry","Relative Yield                        = (Y / YD)",null,null,null,null,null,null,null,{"$f":"K55/K53","v":{"$error":"#REF!"}}]

{"sheet":"Mix 3","index":7,"n_rows":56,"n_cols":22,"rows_kept":56,"cut":false,"hidden":true,"merged":[[51,2,51,6],[49,2,49,6],[49,8,49,9],[49,10,49,11],[49,12,49,13],[50,2,50,6],[51,8,51,9],[51,10,51,13],[45,12,45,13],[46,8,46,9],[46,10,46,11],[46,12,46,13],[50,12,50,13],[47,8,47,9],[50,8,50,9],[50,10,50,11],[48,10,48,11],[48,12,48,13],[47,12,47,13],[47,10,47,11],[45,10,45,11],[42,2,42,4],[43,1,43,6],[48,2,48,6],[48,8,48,9],[45,8,45,9],[44,1,44,6],[45,1,45,6],[46,1,46,6],[47,1,47,6],[31,2,31,6],[32,2,32,6],[28,2,28,6],[29,1,29,6],[37,8,38,8],[33,2,33,6],[34,2,34,6],[35,1,35,6],[36,1,38,6],[37,7,38,7],[11,15,17,21],[26,9,28,9],[26,11,28,11],[26,13,28,13],[30,1,30,13],[26,2,26,6],[11,2,11,6],[13,1,13,6],[24,1,24,6],[25,7,27,7],[26,1,27,1],[27,2,27,6],[25,2,25,6],[5,3,5,4],[1,15,2,16],[1,17,2,17],[1,18,3,18],[1,21,3,21],[1,8,2,9],[1,10,2,11],[1,12,2,13],[2,2,2,5],[2,6,2,7],[3,1,3,6],[1,20,3,20],[1,19,3,19],[9,1,9,6],[10,1,10,6],[12,2,12,6],[14,1,14,6],[23,1,23,6],[37,12,38,12],[37,13,38,13],[39,2,39,4],[40,2,40,4],[41,2,41,4],[37,9,38,9],[37,10,38,10],[37,11,38,11],[52,2,52,6],[52,8,52,9],[52,10,52,11],[52,12,52,13],[53,2,53,6],[53,8,53,9],[53,10,53,11],[53,12,53,13],[54,2,54,6],[54,8,54,9],[54,10,54,11],[54,12,54,13],[55,2,55,6],[55,10,55,11],[55,12,55,13]]}
[]
[null,"Mixture ID: ",null,"KADHF",null,null,null,null,"Design Proportions (Non SSD)",null,"Actual Batched Proportions for Design ",null,"Yielded  Proportions",null,null,"Cylinder Size",null,"Volume of Cylinder","Amount of Cylinders","Extra Mixing Material Factor","Amount of Concrete Wanted (ft3)","Divisible Factor"]
[null,"YD","Design Batch Size (ft3):         ",null,null,null,27]
[null,"Cementitious Materials",null,null,null,null,null,"SG","Amount\n(lb/yd3)","Volume\n(ft3)","Amount\n(lb)","Volume\n(ft3)","Amount\n(lb/yd3)","Volume\n(ft3)",null,"diameter (in)","height (in)","ft3"]
[null,"CM1","Portland Cement",null,null,null,null,{"$f":"'45% Agg.'!$H$5","v":3.15},193.80269566677879,{"$f":"I5/H5/62.4","v":0.98597220017693732},{"$f":"(H5*62.4*L5)","v":0.7927722981154306},{"$f":"J5/$V$5","v":4.0332330998953531E-3},null,null,null,{"$f":"'45% Agg.'!P4","v":3},{"$f":"'45% Agg.'!Q4","v":6},{"$f":"(P5^2*PI())/4*Q5/12^3","v":2.4543692606170259E-2},{"$f":"'45% Agg.'!S4","v":3},{"$f":"'45% Agg.'!T4","v":1.5},{"$f":"R5*S5*T5","v":0.11044661672776616},{"$f":"27/U5","v":244.46199258915124}]
[null,"CM2",{"$f":"'45% Agg.'!$C$6","v":"Fly Ash "},{"$f":"'45% Agg.'!$D$6","v":"Class: F"},{"$f":"'45% Agg.'!E6","v":0},"Amt:",{"$f":"'45% Agg.'!$G$6","v":1.3},{"$f":"'45% Agg.'!$H$6","v":2.2999999999999998},{"$f":"IF(G6=\"\",\"\",H6*62.4*J6)","v":183.95874922021224},{"$f":"G6*$J$5","v":1.2817638602300185},{"$f":"IF(G6=\"\",\"\",H6*62.4*L6)","v":0.7525044988460754},{"$f":"J6/$V$5","v":5.2432030298639595E-3}]
[null,"CM3",{"$f":"'45% Agg.'!$C$7","v":"Graphene"},null,null,"Amt:",{"$f":"'45% Agg.'!$G$7","v":0.1},{"$f":"'45% Agg.'!$H$7","v":1},{"$f":"IF(G7=\"\",\"\",H7*62.4*J7)","v":6.152466529104089},{"$f":"G7*$J$5","v":9.8597220017693735E-2},{"$f":"IF(G7=\"\",\"\",H7*62.4*L7)","v":2.5167374543347002E-2},{"$f":"J7/$V$5","v":4.0332330998953532E-4}]
[null,"CM4",{"$f":"'45% Agg.'!$C$8","v":"Slag"},null,null,"Amt:",{"$f":"'45% Agg.'!$G$8","v":1.4},{"$f":"'45% Agg.'!$H$8","v":0},{"$f":"IF(G8=\"\",\"\",H8*62.4*J8)","v":0},{"$f":"G8*$J$5","v":1.3803610802477122},{"$f":"IF(G8=\"\",\"\",H8*62.4*L8)","v":0},{"$f":"J8/$V$5","v":5.6465263398534941E-3},null,null,null,"Designing Parameters"]
[null,"CM5",null,null,null,"Amt:",{"$f":"'45% Agg.'!$G$8","v":1.4},{"$f":"'45% Agg.'!#REF!","v":{"$error":"#REF!"}},{"$f":"IF(G9=\"\",\"\",H9*62.4*J9)","v":{"$error":"#REF!"}},{"$f":"G9*$J$5","v":1.3803610802477122},{"$f":"IF(G9=\"\",\"\",H9*62.4*L9)","v":{"$error":"#REF!"}},{"$f":"J9/$V$5","v":5.6465263398534941E-3},null,null,null,"Desired Volume",null,27]
[null,"Total Cementitious Materials: ",null,null,null,null,null,null,{"$f":"SUM(I5:I9)","v":{"$error":"#REF!"}},{"$f":"SUM(J5:J9)","v":5.1270554409200741},{"$f":"SUM(K5:K9)","v":{"$error":"#REF!"}},{"$f":"SUM(L5:L9)","v":2.0972812119455838E-2},null,null,null,"% Aggregate",null,0.6]
[null,"Fibers"]
[null,"F1","Grace Fibers",null,null,null,null,{"$f":"'45% Agg.'!$H$12","v":0.91},{"$f":"'45% Agg.'!$I$12","v":3.25},{"$f":"IF(H12=\"\",\"\",I12/(H12*62.4))","v":5.7234432234432232E-2},{"$f":"(H12*62.4*L12)","v":1.9941750242513333E-2},{"$f":"'45% Agg.'!L12","v":3.5118607781264676E-4},null,null,null,"In looking in the mix printout sheet, it was mentioned that  the % Aggregate is not a round number like those shown in the sheets.  If a more presice aggregate amount is needed such as 57% rather than 55% or 60% then go to the sheet closest and on the bottom of the sheet is the highlighed aggregate amount.  Change that amount to the amount desired and then change the amount on this sheet to match it."]
[null,"F2","Fiber 2",null,null,null,null,{"$f":"'45% Agg.'!$H$13","v":0},{"$f":"'45% Agg.'!$I$13","v":0},{"$f":"IF(H13=0,\"\",I13/(H13*62.4))","v":""}]
[null,"Total Fibers: ",null,null,null,null,null,null,{"$f":"SUM(I12:I13)","v":3.25},{"$f":"SUM(J12:J13)","v":5.7234432234432232E-2}]
[null,"Aggregates"]
[null,"A1",{"$f":"'45% Agg.'!$C$17","v":"Utelite               "},null,{"$f":"'45% Agg.'!$E$17","v":0.25},"Abs:",{"$f":"'45% Agg.'!$G$17","v":0},{"$f":"'45% Agg.'!$H$17","v":1.5},{"$f":"IF(E16=\"\",\"\",H16*62.4*J16)","v":379.08},{"$f":"IF(E16=\"\",\"\",E16*$J$24)","v":4.05},{"$f":"IF(G16=\"\",\"\",H16*62.4*L16)","v":1.5506704988578368},{"$f":"J16/$V$5","v":1.6566992509164925E-2}]
[null,"A2",{"$f":"'45% Agg.'!$C$18","v":"Size: 2-4"},null,{"$f":"'45% Agg.'!$E$18","v":0.15},"Abs:",{"$f":"'45% Agg.'!$G$18","v":0.23},{"$f":"'45% Agg.'!$H$18","v":0.37},56.103839999999998,2.4299999999999997,0.22949923383095985,9.9401955054989541E-3]
[null,"A3",{"$f":"'45% Agg.'!$C$19","v":"Size: 1-2"},null,{"$f":"'45% Agg.'!$E$19","v":0.16},"Abs:",{"$f":"'45% Agg.'!$G$19","v":0.2},{"$f":"'45% Agg.'!$H$19","v":0.41},66.313727999999998,2.5920000000000001,0.27126395926686431,1.0602875205865553E-2]
[null,"A4",{"$f":"'45% Agg.'!$C$20","v":"Size: 0.5-1"},null,{"$f":"'45% Agg.'!$E$20","v":0.14000000000000001},"Abs:",{"$f":"'45% Agg.'!$G$20","v":0.2},{"$f":"'45% Agg.'!$H$20","v":0.45},63.68544,2.2680000000000002,0.26051264380811662,9.2775158051323584E-3]
[null,"A5",{"$f":"'45% Agg.'!$C$21","v":"Size: 0.25-0.5"},null,{"$f":"'45% Agg.'!$E$21","v":0.11},"Abs:",{"$f":"'45% Agg.'!$G$21","v":0.28000000000000003},{"$f":"'45% Agg.'!$H$21","v":0.68},75.613824000000008,1.782,0.3093070755055099,7.2894767040325671E-3]
[null,"A6",{"$f":"'45% Agg.'!$C$22","v":"Size: 0.1-0.3"},null,{"$f":"'45% Agg.'!$E$22","v":0.09},"Abs:",{"$f":"'45% Agg.'!$G$22","v":0.35},{"$f":"'45% Agg.'!$H$22","v":0.85},77.332319999999996,1.458,0.31633678176699875,5.9641173032993731E-3]
[null,"A7",{"$f":"'45% Agg.'!$C$23","v":"Size: 0.04-0.125"},null,{"$f":"'45% Agg.'!$E$23","v":0.05},"Abs:",{"$f":"'45% Agg.'!G23","v":0.25},{"$f":"'45% Agg.'!$H$23","v":0.8},{"$f":"IF(E22=\"\",\"\",H22*62.4*J22)","v":40.435200000000002},0.81,0.16540485321150264,3.3133985018329853E-3]
[null,"A8",{"$f":"'45% Agg.'!#REF!","v":{"$error":"#REF!"}},null,{"$f":"'45% Agg.'!#REF!","v":{"$error":"#REF!"}},"Abs:",{"$f":"'45% Agg.'!#REF!","v":{"$error":"#REF!"}},{"$f":"'45% Agg.'!#REF!","v":{"$error":"#REF!"}},{"$f":"IF(E23=\"\",\"\",H23*62.4*J23)","v":{"$error":"#REF!"}},{"$error":"#REF!"},{"$error":"#REF!"},{"$error":"#REF!"}]
[null,"Total Aggregates: ",null,null,null,null,null,null,{"$f":"SUM(I16:I23)","v":{"$error":"#REF!"}},{"$f":"R9*R10","v":16.2},{"$f":"SUM(K16:K23)","v":{"$error":"#REF!"}},{"$f":"SUM(L16:L23)","v":{"$error":"#REF!"}}]
[null,"Water"]
[null,"W1","Water for CM Hydration (W1a + W1b)",null,null,null,null,1,{"$f":"I10*I47","v":{"$error":"#REF!"}},{"$f":"IF(I26=\"\",\"\",I26/H26/27)","v":{"$error":"#REF!"}},{"$f":"I26/$V$5","v":{"$error":"#REF!"}},{"$f":"J26/$V$5","v":{"$error":"#REF!"}}]
[null,null,"W1a. Water from Admixtures",null,null,null,null,null,0,null,{"$f":"I27/$V$5","v":0}]
[null,null,"W1b.  Additional Water",null,null,null,null,null,{"$f":"I47*I10","v":{"$error":"#REF!"}},null,{"$f":"I28/$V$5","v":{"$error":"#REF!"}}]
[null,"W2","Water for Aggregates, SSD ",null,null,null,null,1,{"$f":"G16*I16+G18*I18+G19*I19+G20*I20+G21*I21+G22*I22","v":84.346816320000002},null,{"$f":"I29/$V$5","v":0.34503038867786417}]
[null,"Total Water (W1 + W2): ",null,null,null,null,null,null,{"$f":"I26+I29","v":{"$error":"#REF!"}},{"$f":"J26","v":{"$error":"#REF!"}},{"$f":"'45% Agg.'!K32","v":1759.5289007267372},{"$f":"SUM(L26:L29)","v":{"$error":"#REF!"}}]
[null,"Solids Content of Latex, Dyes and Admixtures in Powder Form"]
[null,"S1","Latex (if used)"]
[null,"S2","Liquid Dye (if used)"]
[null,"S3","Other Latex or Liquid Dye (if used)"]
[null,"P1","Pigment 1 (Powder Form)"]
[null,"Total Solids of Admixtures: ",null,null,null,null,null,null,{"$f":"SUM(I32:I35)","v":0},{"$f":"SUM(J32:J35)","v":0}]
[null,"Admixtures (including Pigments in Liquid Form)"]
[null,null,null,null,null,null,null,"% Solids","Dosage\n(fl oz/cwt)",{"$f":"'45% Agg.'!J41","v":"Total (ml)"},{"$f":"'45% Agg.'!K41","v":"Amount\n(ml)"},"Water in Admixture (lb)","Dosage\n(fl oz/cwt)","Water in Admixture (lb/yd3)"]
[null,null,null,null,null,null,null,null,null,{"$f":"'45% Agg.'!J42","v":0},{"$f":"'45% Agg.'!K42","v":0}]
[null,"Ad1","Water Reducers",null,null,null,"lb/gal",null,{"$f":"'45% Agg.'!$I$43","v":1.39},{"$f":"CONVERT((I40*$I$49/100),\"oz\",\"ml\")","v":{"$error":"#REF!"}},{"$f":"J40/$V$5","v":{"$error":"#REF!"}}]
[null,"Ad2","Shrinkage Reducers",null,null,null,"lb/gal",null,{"$f":"'45% Agg.'!$I$44","v":3},{"$f":"CONVERT((I41*$I$49/100),\"oz\",\"ml\")","v":{"$error":"#REF!"}},{"$f":"J41/$V$5","v":{"$error":"#REF!"}}]
[null,"Ad3",null,null,null,null,"lb/gal",null,0,{"$f":"CONVERT((I42*$I$49/100),\"oz\",\"ml\")","v":{"$error":"#REF!"}},{"$f":"J42/$V$5","v":{"$error":"#REF!"}}]
[null,"Ad4",null,null,null,null,"lb/gal",null,0,{"$error":"#REF!"},{"$error":"#REF!"}]
[null,"Water from Admixtures (W1a): ",null,null,null,null,null,null,null,{"$f":"SUM(J40:J43)","v":{"$error":"#REF!"}},null,null,null,null,null,null,null,30]
[null,null,null,null,null,null,null,null,null,null,null,null,null,null,null,null,null,0.65]
[null,"Cement-Cementitious Materials Ratio",null,null,null,null,null,null,{"$f":"I5/I10","v":{"$error":"#REF!"}},null,{"$f":"K5/K10","v":{"$error":"#REF!"}}]
[null,"Water-Cementitious Materials Ratio",null,null,null,null,null,null,{"$f":"'45% Agg.'!$I$51:$J$51","v":0.3},null,{"$f":"I47","v":0.3}]
[null,"Slump, Slump Flow, in. ",null,null,null,null,null,null,"3 +- 1",null,"3 +- 1"]
[null,"M","Mass of Concrete. lbs",null,null,null,null,null,{"$f":"SUM(I10,I14,I24,I30,I36)","v":{"$error":"#REF!"}},null,{"$f":"SUM(K10,K14,K24,K30,K36)","v":{"$error":"#REF!"}}]
[null,"V","Absolute Volume of Concrete, ft3",null,null,null,null,null,{"$f":"SUM(J36,J30,J24,J14,J10)","v":{"$error":"#REF!"}},null,{"$f":"SUM(L36,L30,L24,L14,L10)","v":{"$error":"#REF!"}}]
[null,"T","Theorectical Density, lb/ft3  = (M / V) ",null,null,null,null,null,{"$f":"I49/I50","v":{"$error":"#REF!"}},null,{"$f":"K49/K50","v":{"$error":"#REF!"}}]
[null,"D","Design Density, lb/ft3        =  (M / 27)",null,null,null,null,null,{"$f":"I49/27","v":{"$error":"#REF!"}}]
[null,"D","Measured Density, lb/ft3",null,null,null,null,null,null,null,69]
[null,"A","Air Content, %  = [(T - D) / T x 100%]",null,null,null,null,null,{"$f":"(I51-I52)/I51","v":{"$error":"#REF!"}},null,{"$f":"(K51-K52)/K51","v":{"$error":"#REF!"}}]
[null,"Y","Yield, ft3                                                  = (M / D)",null,null,null,null,null,{"$f":"I49/I52","v":{"$error":"#REF!"}},null,{"$f":"K49/K53","v":{"$error":"#REF!"}}]
[null,"Ry","Relative Yield                        = (Y / YD)",null,null,null,null,null,null,null,{"$f":"K55/K53","v":{"$error":"#REF!"}}]

{"sheet":"Mix 4","index":8,"n_rows":56,"n_cols":22,"rows_kept":56,"cut":false,"hidden":true,"merged":[[51,2,51,6],[49,2,49,6],[49,8,49,9],[49,10,49,11],[49,12,49,13],[50,2,50,6],[51,8,51,9],[51,10,51,13],[45,12,45,13],[46,8,46,9],[46,10,46,11],[46,12,46,13],[50,12,50,13],[47,8,47,9],[50,8,50,9],[50,10,50,11],[48,10,48,11],[48,12,48,13],[47,12,47,13],[47,10,47,11],[45,10,45,11],[42,2,42,4],[43,1,43,6],[48,2,48,6],[48,8,48,9],[45,8,45,9],[44,1,44,6],[45,1,45,6],[46,1,46,6],[47,1,47,6],[31,2,31,6],[32,2,32,6],[28,2,28,6],[29,1,29,6],[37,8,38,8],[33,2,33,6],[34,2,34,6],[35,1,35,6],[36,1,38,6],[37,7,38,7],[11,15,17,21],[26,9,28,9],[26,11,28,11],[26,13,28,13],[30,1,30,13],[26,2,26,6],[11,2,11,6],[13,1,13,6],[24,1,24,6],[25,7,27,7],[26,1,27,1],[27,2,27,6],[25,2,25,6],[5,3,5,4],[1,15,2,16],[1,17,2,17],[1,18,3,18],[1,21,3,21],[1,8,2,9],[1,10,2,11],[1,12,2,13],[2,2,2,5],[2,6,2,7],[3,1,3,6],[1,20,3,20],[1,19,3,19],[9,1,9,6],[10,1,10,6],[12,2,12,6],[14,1,14,6],[23,1,23,6],[37,12,38,12],[37,13,38,13],[39,2,39,4],[40,2,40,4],[41,2,41,4],[37,9,38,9],[37,10,38,10],[37,11,38,11],[52,2,52,6],[52,8,52,9],[52,10,52,11],[52,12,52,13],[53,2,53,6],[53,8,53,9],[53,10,53,11],[53,12,53,13],[54,2,54,6],[54,8,54,9],[54,10,54,11],[54,12,54,13],[55,2,55,6],[55,10,55,11],[55,12,55,13]]}
[]
[null,"Mixture ID: ",null,"KADHF",null,null,null,null,"Design Proportions (Non SSD)",null,"Actual Batched Proportions for Design ",null,"Yielded  Proportions",null,null,"Cylinder Size",null,"Volume of Cylinder","Amount of Cylinders","Extra Mixing Material Factor","Amount of Concrete Wanted (ft3)","Divisible Factor"]
[null,"YD","Design Batch Size (ft3):         ",null,null,null,27]
[null,"Cementitious Materials",null,null,null,null,null,"SG","Amount\n(lb/yd3)","Volume\n(ft3)","Amount\n(lb)","Volume\n(ft3)","Amount\n(lb/yd3)","Volume\n(ft3)",null,"diameter (in)","height (in)","ft3"]
[null,"CM1","Portland Cement",null,null,null,null,{"$f":"'45% Agg.'!$H$5","v":3.15},165.947892173329,{"$f":"I5/H5/62.4","v":0.84426074569255705},{"$f":"(H5*62.4*L5)","v":0.67882900902401244},{"$f":"J5/$V$5","v":3.4535460369557003E-3},null,null,null,{"$f":"'45% Agg.'!P4","v":3},{"$f":"'45% Agg.'!Q4","v":6},{"$f":"(P5^2*PI())/4*Q5/12^3","v":2.4543692606170259E-2},{"$f":"'45% Agg.'!S4","v":3},{"$f":"'45% Agg.'!T4","v":1.5},{"$f":"R5*S5*T5","v":0.11044661672776616},{"$f":"27/U5","v":244.46199258915124}]
[null,"CM2",{"$f":"'45% Agg.'!$C$6","v":"Fly Ash "},{"$f":"'45% Agg.'!$D$6","v":"Class: F"},{"$f":"'45% Agg.'!E6","v":0},"Amt:",{"$f":"'45% Agg.'!$G$6","v":1.3},{"$f":"'45% Agg.'!$H$6","v":2.2999999999999998},{"$f":"IF(G6=\"\",\"\",H6*62.4*J6)","v":157.5187928883345},{"$f":"G6*$J$5","v":1.0975389694003241},{"$f":"IF(G6=\"\",\"\",H6*62.4*L6)","v":0.64434880539104655},{"$f":"J6/$V$5","v":4.48960984804241E-3}]
[null,"CM3",{"$f":"'45% Agg.'!$C$7","v":"Graphene"},null,null,"Amt:",{"$f":"'45% Agg.'!$G$7","v":0.1},{"$f":"'45% Agg.'!$H$7","v":1},{"$f":"IF(G7=\"\",\"\",H7*62.4*J7)","v":5.2681870531215562},{"$f":"G7*$J$5","v":8.4426074569255716E-2},{"$f":"IF(G7=\"\",\"\",H7*62.4*L7)","v":2.1550127270603573E-2},{"$f":"J7/$V$5","v":3.4535460369557007E-4}]
[null,"CM4",{"$f":"'45% Agg.'!$C$8","v":"Slag"},null,null,"Amt:",{"$f":"'45% Agg.'!$G$8","v":1.4},{"$f":"'45% Agg.'!$H$8","v":0},{"$f":"IF(G8=\"\",\"\",H8*62.4*J8)","v":0},{"$f":"G8*$J$5","v":1.1819650439695797},{"$f":"IF(G8=\"\",\"\",H8*62.4*L8)","v":0},{"$f":"J8/$V$5","v":4.8349644517379801E-3},null,null,null,"Designing Parameters"]
[null,"CM5",null,null,null,"Amt:",{"$f":"'45% Agg.'!$G$8","v":1.4},{"$f":"'45% Agg.'!#REF!","v":{"$error":"#REF!"}},{"$f":"IF(G9=\"\",\"\",H9*62.4*J9)","v":{"$error":"#REF!"}},{"$f":"G9*$J$5","v":1.1819650439695797},{"$f":"IF(G9=\"\",\"\",H9*62.4*L9)","v":{"$error":"#REF!"}},{"$f":"J9/$V$5","v":4.8349644517379801E-3},null,null,null,"Desired Volume",null,27]
[null,"Total Cementitious Materials: ",null,null,null,null,null,null,{"$f":"SUM(I5:I9)","v":{"$error":"#REF!"}},{"$f":"SUM(J5:J9)","v":4.3901558776012966},{"$f":"SUM(K5:K9)","v":{"$error":"#REF!"}},{"$f":"SUM(L5:L9)","v":1.795843939216964E-2},null,null,null,"% Aggregate",null,0.55000000000000004]
[null,"Fibers"]
[null,"F1","Grace Fibers",null,null,null,null,{"$f":"'45% Agg.'!$H$12","v":0.91},{"$f":"'45% Agg.'!$I$12","v":3.25},{"$f":"IF(H12=\"\",\"\",I12/(H12*62.4))","v":5.7234432234432232E-2},{"$f":"(H12*62.4*L12)","v":1.9941750242513333E-2},{"$f":"'45% Agg.'!L12","v":3.5118607781264676E-4},null,null,null,"In looking in the mix printout sheet, it was mentioned that  the % Aggregate is not a round number like those shown in the sheets.  If a more presice aggregate amount is needed such as 57% rather than 55% or 60% then go to the sheet closest and on the bottom of the sheet is the highlighed aggregate amount.  Change that amount to the amount desired and then change the amount on this sheet to match it."]
[null,"F2","Fiber 2",null,null,null,null,{"$f":"'45% Agg.'!$H$13","v":0},{"$f":"'45% Agg.'!$I$13","v":0},{"$f":"IF(H13=0,\"\",I13/(H13*62.4))","v":""}]
[null,"Total Fibers: ",null,null,null,null,null,null,{"$f":"SUM(I12:I13)","v":3.25},{"$f":"SUM(J12:J13)","v":5.7234432234432232E-2}]
[null,"Aggregates"]
[null,"A1",{"$f":"'45% Agg.'!$C$17","v":"Utelite               "},null,{"$f":"'45% Agg.'!$E$17","v":0.25},"Abs:",{"$f":"'45% Agg.'!$G$17","v":0},{"$f":"'45% Agg.'!$H$17","v":1.5},{"$f":"IF(E16=\"\",\"\",H16*62.4*J16)","v":347.49},{"$f":"IF(E16=\"\",\"\",E16*$J$24)","v":3.7125000000000004},{"$f":"IF(G16=\"\",\"\",H16*62.4*L16)","v":1.4214479572863508},{"$f":"J16/$V$5","v":1.518640980006785E-2}]
[null,"A2",{"$f":"'45% Agg.'!$C$18","v":"Size: 2-4"},null,{"$f":"'45% Agg.'!$E$18","v":0.15},"Abs:",{"$f":"'45% Agg.'!$G$18","v":0.23},{"$f":"'45% Agg.'!$H$18","v":0.37},51.428520000000006,2.2275,0.2103742976783799,9.1118458800407091E-3]
[null,"A3",{"$f":"'45% Agg.'!$C$19","v":"Size: 1-2"},null,{"$f":"'45% Agg.'!$E$19","v":0.16},"Abs:",{"$f":"'45% Agg.'!$G$19","v":0.2},{"$f":"'45% Agg.'!$H$19","v":0.41},60.78758400000001,2.3760000000000003,0.24865862932795893,9.7193022720434234E-3]
[null,"A4",{"$f":"'45% Agg.'!$C$20","v":"Size: 0.5-1"},null,{"$f":"'45% Agg.'!$E$20","v":0.14000000000000001},"Abs:",{"$f":"'45% Agg.'!$G$20","v":0.2},{"$f":"'45% Agg.'!$H$20","v":0.45},58.378320000000002,2.0790000000000002,0.23880325682410694,8.5043894880379965E-3]
[null,"A5",{"$f":"'45% Agg.'!$C$21","v":"Size: 0.25-0.5"},null,{"$f":"'45% Agg.'!$E$21","v":0.11},"Abs:",{"$f":"'45% Agg.'!$G$21","v":0.28000000000000003},{"$f":"'45% Agg.'!$H$21","v":0.68},69.312672000000006,1.6335000000000002,0.28353148588005078,6.6820203120298537E-3]
[null,"A6",{"$f":"'45% Agg.'!$C$22","v":"Size: 0.1-0.3"},null,{"$f":"'45% Agg.'!$E$22","v":0.09},"Abs:",{"$f":"'45% Agg.'!$G$22","v":0.35},{"$f":"'45% Agg.'!$H$22","v":0.85},70.887960000000007,1.3365,0.28997538328641548,5.4671075280244251E-3]
[null,"A7",{"$f":"'45% Agg.'!$C$23","v":"Size: 0.04-0.125"},null,{"$f":"'45% Agg.'!$E$23","v":0.05},"Abs:",{"$f":"'45% Agg.'!G23","v":0.25},{"$f":"'45% Agg.'!$H$23","v":0.8},{"$f":"IF(E22=\"\",\"\",H22*62.4*J22)","v":37.065600000000011},0.74250000000000016,0.15162111544387744,3.0372819600135701E-3]
[null,"A8",{"$f":"'45% Agg.'!#REF!","v":{"$error":"#REF!"}},null,{"$f":"'45% Agg.'!#REF!","v":{"$error":"#REF!"}},"Abs:",{"$f":"'45% Agg.'!#REF!","v":{"$error":"#REF!"}},{"$f":"'45% Agg.'!#REF!","v":{"$error":"#REF!"}},{"$f":"IF(E23=\"\",\"\",H23*62.4*J23)","v":{"$error":"#REF!"}},{"$error":"#REF!"},{"$error":"#REF!"},{"$error":"#REF!"}]
[null,"Total Aggregates: ",null,null,null,null,null,null,{"$f":"SUM(I16:I23)","v":{"$error":"#REF!"}},{"$f":"R9*R10","v":14.850000000000001},{"$f":"SUM(K16:K23)","v":{"$error":"#REF!"}},{"$f":"SUM(L16:L23)","v":{"$error":"#REF!"}}]
[null,"Water"]
[null,"W1","Water for CM Hydration (W1a + W1b)",null,null,null,null,1,{"$f":"I10*I47","v":{"$error":"#REF!"}},{"$f":"IF(I26=\"\",\"\",I26/H26/27)","v":{"$error":"#REF!"}},{"$f":"I26/$V$5","v":{"$error":"#REF!"}},{"$f":"J26/$V$5","v":{"$error":"#REF!"}}]
[null,null,"W1a. Water from Admixtures",null,null,null,null,null,0,null,{"$f":"I27/$V$5","v":0}]
[null,null,"W1b.  Additional Water",null,null,null,null,null,{"$f":"I47*I10","v":{"$error":"#REF!"}},null,{"$f":"I28/$V$5","v":{"$error":"#REF!"}}]
[null,"W2","Water for Aggregates, SSD ",null,null,null,null,1,{"$f":"G16*I16+G18*I18+G19*I19+G20*I20+G21*I21+G22*I22","v":77.317914960000024},null,{"$f":"I29/$V$5","v":0.31627785628804223}]
[null,"Total Water (W1 + W2): ",null,null,null,null,null,null,{"$f":"I26+I29","v":{"$error":"#REF!"}},{"$f":"J26","v":{"$error":"#REF!"}},{"$f":"'45% Agg.'!K32","v":1759.5289007267372},{"$f":"SUM(L26:L29)","v":{"$error":"#REF!"}}]
[null,"Solids Content of Latex, Dyes and Admixtures in Powder Form"]
[null,"S1","Latex (if used)"]
[null,"S2","Liquid Dye (if used)"]
[null,"S3","Other Latex or Liquid Dye (if used)"]
[null,"P1","Pigment 1 (Powder Form)"]
[null,"Total Solids of Admixtures: ",null,null,null,null,null,null,{"$f":"SUM(I32:I35)","v":0},{"$f":"SUM(J32:J35)","v":0}]
[null,"Admixtures (including Pigments in Liquid Form)"]
[null,null,null,null,null,null,null,"% Solids","Dosage\n(fl oz/cwt)",{"$f":"'45% Agg.'!J41","v":"Total (ml)"},{"$f":"'45% Agg.'!K41","v":"Amount\n(ml)"},"Water in Admixture (lb)","Dosage\n(fl oz/cwt)","Water in Admixture (lb/yd3)"]
[null,null,null,null,null,null,null,null,null,{"$f":"'45% Agg.'!J42","v":0},{"$f":"'45% Agg.'!K42","v":0}]
[null,"Ad1","Water Reducers",null,null,null,"lb/gal",null,{"$f":"'45% Agg.'!$I$43","v":1.39},{"$f":"CONVERT((I40*$I$49/100),\"oz\",\"ml\")","v":{"$error":"#REF!"}},{"$f":"J40/$V$5","v":{"$error":"#REF!"}}]
[null,"Ad2","Shrinkage Reducers",null,null,null,"lb/gal",null,{"$f":"'45% Agg.'!$I$44","v":3},{"$f":"CONVERT((I41*$I$49/100),\"oz\",\"ml\")","v":{"$error":"#REF!"}},{"$f":"J41/$V$5","v":{"$error":"#REF!"}}]
[null,"Ad3",null,null,null,null,"lb/gal",null,0,{"$f":"CONVERT((I42*$I$49/100),\"oz\",\"ml\")","v":{"$error":"#REF!"}},{"$f":"J42/$V$5","v":{"$error":"#REF!"}}]
[null,"Ad4",null,null,null,null,"lb/gal",null,0,{"$error":"#REF!"},{"$error":"#REF!"}]
[null,"Water from Admixtures (W1a): ",null,null,null,null,null,null,null,{"$f":"SUM(J40:J43)","v":{"$error":"#REF!"}},null,null,null,null,null,null,null,31]
[null,null,null,null,null,null,null,null,null,null,null,null,null,null,null,null,null,0.7]
[null,"Cement-Cementitious Materials Ratio",null,null,null,null,null,null,{"$f":"I5/I10","v":{"$error":"#REF!"}},null,{"$f":"K5/K10","v":{"$error":"#REF!"}}]
[null,"Water-Cementitious Materials Ratio",null,null,null,null,null,null,{"$f":"'45% Agg.'!$I$51:$J$51","v":0.3},null,{"$f":"I47","v":0.3}]
[null,"Slump, Slump Flow, in. ",null,null,null,null,null,null,"3 +- 1",null,"3 +- 1"]
[null,"M","Mass of Concrete. lbs",null,null,null,null,null,{"$f":"SUM(I10,I14,I24,I30,I36)","v":{"$error":"#REF!"}},null,{"$f":"SUM(K10,K14,K24,K30,K36)","v":{"$error":"#REF!"}}]
[null,"V","Absolute Volume of Concrete, ft3",null,null,null,null,null,{"$f":"SUM(J36,J30,J24,J14,J10)","v":{"$error":"#REF!"}},null,{"$f":"SUM(L36,L30,L24,L14,L10)","v":{"$error":"#REF!"}}]
[null,"T","Theorectical Density, lb/ft3  = (M / V) ",null,null,null,null,null,{"$f":"I49/I50","v":{"$error":"#REF!"}},null,{"$f":"K49/K50","v":{"$error":"#REF!"}}]
[null,"D","Design Density, lb/ft3        =  (M / 27)",null,null,null,null,null,{"$f":"I49/27","v":{"$error":"#REF!"}}]
[null,"D","Measured Density, lb/ft3",null,null,null,null,null,null,null,69]
[null,"A","Air Content, %  = [(T - D) / T x 100%]",null,null,null,null,null,{"$f":"(I51-I52)/I51","v":{"$error":"#REF!"}},null,{"$f":"(K51-K52)/K51","v":{"$error":"#REF!"}}]
[null,"Y","Yield, ft3                                                  = (M / D)",null,null,null,null,null,{"$f":"I49/I52","v":{"$error":"#REF!"}},null,{"$f":"K49/K53","v":{"$error":"#REF!"}}]
[null,"Ry","Relative Yield                        = (Y / YD)",null,null,null,null,null,null,null,{"$f":"K55/K53","v":{"$error":"#REF!"}}]

{"sheet":"Pour Day","index":9,"n_rows":84,"n_cols":18,"rows_kept":84,"cut":false,"hidden":true,"merged":[[2,12,3,21],[9,13,10,21],[17,6,20,10],[26,13,26,21]]}
[]
[null,"Date Cast:",null,null,null,null,null,"Mix Design",null,null,{"$f":"K3&K4&K5&K6&K7","v":"KADHF"},null,"Instructions"]
[null,"Beginning Cast Time:",null,null,null,null,null,"Aggregate Distribution",null,null,"K",null,"This sheet is for finding the the toatl amount of concrete needed for the canoe as well as finding the amount of material for each bucket once an appropriate mix design is determined."]
[null,"Time of Cast Completion:",null,null,null,null,null,"w/c Ratio",null,{"$f":"IF(J5=\"\",\"\",'45% Agg.'!I51)","v":0.3},"A"]
[null,"Reinforcement Used:",null,null,null,null,null,"% Aggregate",null,0.6,"D"]
[null,"Curing Methods:",null,null,null,null,null,"Cementitious Material",null,null,"H",null,"Step 1.","Detemine the correct mix design and fill it in accordingly."]
[null,null,null,null,null,null,null,"Fiber",null,null,"F"]
[null,null,null,null,null,null,null,null,null,null,null,null,"Step 2.","Determine the surface area and thickness of the canoe and fill it in accordingly."]
[null,"General Information"]
[null,"Canoe Parameters",null,null,null,null,null,null,null,null,null,null,"Step 3.","Review the mix design in the \"45% Agg\" sheet. Make sure that the mix design specified is the mix design in that sheet.  To be sure, press the \"Cement Content vs. Volume\" button.  "]
[null,"Surface Area (ft2)*",null,null,60,null,"*Must be determined before"]
[null,"Thickness (in)**",null,null,1,null,"*Must be determined before"]
[null,null,null,null,null,null,null,null,null,null,null,null,null,"*If these steps are followed correctly, the rest of the sheet should fill out automatically."]
[null,"Concrete Needed (ft3)",null,null,{"$f":"E11*E12/12","v":5}]
[null,"Extra Material Factor",null,null,1.5,null,null,null,null,null,null,null,"Step 4.","Print off this sheet in a hard copy form and in a pdf format to record the mix design used."]
[null,"Factored Concrete Needed (ft3)",null,null,{"$f":"E14*E15","v":7.5}]
[null,null,null,null,null,null,null,null,null,null,null,null,"Step 5.","Print off mixing instructions and mixes for when the concrete canoe is cast."]
[null,"Bucket Volume (gal)",null,null,5,null,"*Buckets should only be filled up to about halfway for workability and mixing, however, the amount of material that is mixed can be changed in the amounf of bucket filled section"]
[null,"Bucket Volume (ft3)",null,null,{"$f":"CONVERT(E18,\"gal\",\"ft^3\")","v":0.66840277777777779},null,null,null,null,null,null,null,"This design page is for those who are overseeing the mix design process on pour day. "]
[null,"Amount of bucket filled***",null,null,0.5]
[null,"Usable Bucket Volume (ft3)",null,null,{"$f":"E19*E20","v":0.3342013888888889},null,null,null,null,null,null,null,"Make sure of the following during the casting of the canoe: "]
[]
[null,"Number of Buckets needed",null,null,{"$f":"E16/E21","v":22.441558441558442},null,null,null,null,null,null,null,"-","To record the time of beginning and ending of casting the canoe."]
[null,"Round up to nearest whole #",null,null,{"$f":"MROUND(E23,10)","v":20},null,null,null,null,null,null,null,"-","Those mixing are following instructions to avoid injury"]
[null,null,null,null,null,null,null,null,null,null,null,null,"-","Those pouring the canoe to keep it within 2 inches and to not overwork the concrete"]
[null,"Concrete Materials",null,null,null,null,null,null,null,null,null,null,"-","The area is clean"]
[null,"Material",null,null,"SG",null,"Amount  for 1 yd3 (lbs) ",null,"Amount for Canoe (lbs)",null,"Amount per bucket",null,"-","After the canoe is cast, that the area and tools are clean and placed where they need to be to avoid any confusion for  next year's concrete canoe team and for the professors that use the lab."]
[null,"Aggregate"]
[null,"Utelite               ",null,null,{"$f":"IF($J$5='45% Agg.'!$Z$4,'45% Agg.'!J29,IF($J$5='Mix 1'!$R$10,'Mix 1'!H16,IF($J$5='Mix 2'!$R$10,'Mix 2'!H15,IF($J$5='Mix 3'!$R$10,'Mix 3'!H15,IF($J$5='Mix 4'!$R$10,'Mix 4'!H15,\"\")))))","v":0},null,{"$f":"IF('Pour Day'!$J$5='45% Agg.'!$Z$4,'45% Agg.'!$I$17,IF('Pour Day'!$J$5='Mix 1'!$R$10,'Mix 1'!$I$16,IF('Pour Day'!$J$5='Mix 2'!$R$10,'Mix 2'!$I$15,IF('Pour Day'!$J$5='Mix 3'!$R$10,'Mix 3'!$I$15,IF('Pour Day'!$J$5='Mix 4'!$R$10,'Mix 4'!$I$15,\"\")))))","v":0},null,{"$f":"G29/27*$E$16","v":0},null,{"$f":"I29/$E$24","v":0}]
[null,"Poraver Size: 2-4",null,null,{"$f":"IF($J$5='45% Agg.'!$Z$4,'45% Agg.'!J30,IF($J$5='Mix 1'!$R$10,'Mix 1'!H17,IF($J$5='Mix 2'!$R$10,'Mix 2'!H16,IF($J$5='Mix 3'!$R$10,'Mix 3'!H16,IF($J$5='Mix 4'!$R$10,'Mix 4'!H16,\"\")))))","v":1.5},null,{"$f":"IF($J$5='45% Agg.'!$Z$4,'45% Agg.'!I18,IF($J$5='Mix 1'!$R$10,'Mix 1'!I17,IF($J$5='Mix 2'!$R$10,'Mix 2'!I16,IF($J$5='Mix 3'!$R$10,'Mix 3'!I16,IF($J$5='Mix 4'!$R$10,'Mix 4'!I16,\"\")))))","v":379.08},null,105.3,null,{"$f":"I30/$E$24","v":5.2649999999999997}]
[null,"Poraver Size: 1-2",null,null,{"$f":"IF($J$5='45% Agg.'!$Z$4,'45% Agg.'!J32,IF($J$5='Mix 1'!$R$10,'Mix 1'!H18,IF($J$5='Mix 2'!$R$10,'Mix 2'!H17,IF($J$5='Mix 3'!$R$10,'Mix 3'!H17,IF($J$5='Mix 4'!$R$10,'Mix 4'!H17,\"\")))))","v":0.37},null,{"$f":"IF($J$5='45% Agg.'!$Z$4,'45% Agg.'!I19,IF($J$5='Mix 1'!$R$10,'Mix 1'!I18,IF($J$5='Mix 2'!$R$10,'Mix 2'!I17,IF($J$5='Mix 3'!$R$10,'Mix 3'!I17,IF($J$5='Mix 4'!$R$10,'Mix 4'!I17,\"\")))))","v":56.103839999999998},null,15.584399999999999,null,0.77921999999999991]
[null,"Poraver Size: 0.5-1",null,null,{"$f":"IF($J$5='45% Agg.'!$Z$4,'45% Agg.'!J33,IF($J$5='Mix 1'!$R$10,'Mix 1'!H19,IF($J$5='Mix 2'!$R$10,'Mix 2'!H18,IF($J$5='Mix 3'!$R$10,'Mix 3'!H18,IF($J$5='Mix 4'!$R$10,'Mix 4'!H18,\"\")))))","v":0.41},null,{"$f":"IF($J$5='45% Agg.'!$Z$4,'45% Agg.'!I20,IF($J$5='Mix 1'!$R$10,'Mix 1'!I19,IF($J$5='Mix 2'!$R$10,'Mix 2'!I18,IF($J$5='Mix 3'!$R$10,'Mix 3'!I18,IF($J$5='Mix 4'!$R$10,'Mix 4'!I18,\"\")))))","v":66.313727999999998},null,18.420480000000001,null,0.92102400000000006]
[null,"Poraver Size: 0.25-0.5",null,null,{"$f":"IF($J$5='45% Agg.'!$Z$4,'45% Agg.'!J34,IF($J$5='Mix 1'!$R$10,'Mix 1'!H20,IF($J$5='Mix 2'!$R$10,'Mix 2'!H19,IF($J$5='Mix 3'!$R$10,'Mix 3'!H19,IF($J$5='Mix 4'!$R$10,'Mix 4'!H19,\"\")))))","v":0.45},null,{"$f":"IF($J$5='45% Agg.'!$Z$4,'45% Agg.'!I21,IF($J$5='Mix 1'!$R$10,'Mix 1'!I20,IF($J$5='Mix 2'!$R$10,'Mix 2'!I19,IF($J$5='Mix 3'!$R$10,'Mix 3'!I19,IF($J$5='Mix 4'!$R$10,'Mix 4'!I19,\"\")))))","v":63.68544},null,17.6904,null,0.88451999999999997]
[null,"Poraver Size: 0.1-0.3",null,null,{"$f":"IF($J$5='45% Agg.'!$Z$4,'45% Agg.'!J35,IF($J$5='Mix 1'!$R$10,'Mix 1'!H21,IF($J$5='Mix 2'!$R$10,'Mix 2'!H20,IF($J$5='Mix 3'!$R$10,'Mix 3'!H20,IF($J$5='Mix 4'!$R$10,'Mix 4'!H20,\"\")))))","v":0.68},null,{"$f":"IF($J$5='45% Agg.'!$Z$4,'45% Agg.'!I22,IF($J$5='Mix 1'!$R$10,'Mix 1'!I21,IF($J$5='Mix 2'!$R$10,'Mix 2'!I20,IF($J$5='Mix 3'!$R$10,'Mix 3'!I20,IF($J$5='Mix 4'!$R$10,'Mix 4'!I20,\"\")))))","v":75.613824000000008},null,21.003840000000004,null,1.0501920000000002]
[null,"Poraver Size: 0.04-0.125",null,null,{"$f":"IF($J$5='45% Agg.'!$Z$4,'45% Agg.'!J36,IF($J$5='Mix 1'!$R$10,'Mix 1'!H22,IF($J$5='Mix 2'!$R$10,'Mix 2'!H21,IF($J$5='Mix 3'!$R$10,'Mix 3'!H21,IF($J$5='Mix 4'!$R$10,'Mix 4'!H21,\"\")))))","v":0.85},null,{"$f":"IF($J$5='45% Agg.'!$Z$4,'45% Agg.'!I23,IF($J$5='Mix 1'!$R$10,'Mix 1'!I22,IF($J$5='Mix 2'!$R$10,'Mix 2'!I21,IF($J$5='Mix 3'!$R$10,'Mix 3'!I21,IF($J$5='Mix 4'!$R$10,'Mix 4'!I21,\"\")))))","v":77.332319999999996},null,21.481200000000001,null,1.07406]
[]
[null,"Fibers"]
[null,"Grace Fibers",null,null,{"$f":"IF($J$5='45% Agg.'!$Z$4,'45% Agg.'!H12,IF($J$5='Mix 1'!$R$10,'Mix 1'!H12,IF($J$5='Mix 2'!$R$10,'Mix 2'!H11,IF($J$5='Mix 3'!$R$10,'Mix 3'!H11,IF($J$5='Mix 4'!$R$10,'Mix 4'!H11,\"\")))))","v":0},null,{"$f":"IF($J$5='45% Agg.'!$Z$4,'45% Agg.'!I12,IF($J$5='Mix 1'!$R$10,'Mix 1'!I12,IF($J$5='Mix 2'!$R$10,'Mix 2'!I11,IF($J$5='Mix 3'!$R$10,'Mix 3'!I11,IF($J$5='Mix 4'!$R$10,'Mix 4'!I11,\"\")))))","v":0},null,{"$f":"G38/27*$E$16","v":0},null,{"$f":"I38/$E$24","v":0}]
[]
[null,"Cementitious Materials"]
[null,"Cement",null,null,{"$f":"IF($J$5='45% Agg.'!$Z$4,'45% Agg.'!H5,IF($J$5='Mix 1'!$R$10,'Mix 1'!H5,IF($J$5='Mix 2'!$R$10,'Mix 2'!H5,IF($J$5='Mix 3'!$R$10,'Mix 3'!H5,IF($J$5='Mix 4'!$R$10,'Mix 4'!H5,\"\")))))","v":3.15},null,{"$f":"IF($J$5='45% Agg.'!$Z$4,'45% Agg.'!I5,IF($J$5='Mix 1'!$R$10,'Mix 1'!I5,IF($J$5='Mix 2'!$R$10,'Mix 2'!I5,IF($J$5='Mix 3'!$R$10,'Mix 3'!I5,IF($J$5='Mix 4'!$R$10,'Mix 4'!I5,\"\")))))","v":193.80269566677879},null,{"$f":"G41/27*$E$16","v":53.834082129660771},null,{"$f":"I41/$E$24","v":2.6917041064830385},null,5.6379999999999999,{"$f":"K41+(K42-M42)","v":2.9136867345415416},5.6379999999999999,5.6376408692132749,{"$f":"P41/(P41+3)","v":0.65268294370830415}]
[null,"Fly Ash",null,null,{"$f":"IF($J$5='45% Agg.'!$Z$4,'45% Agg.'!H6,IF($J$5='Mix 1'!$R$10,'Mix 1'!H6,IF($J$5='Mix 2'!$R$10,'Mix 2'!H6,IF($J$5='Mix 3'!$R$10,'Mix 3'!H6,IF($J$5='Mix 4'!$R$10,'Mix 4'!H6,\"\")))))","v":2.2999999999999998},null,{"$f":"IF($J$5='45% Agg.'!$Z$4,'45% Agg.'!I6,IF($J$5='Mix 1'!$R$10,'Mix 1'!I6,IF($J$5='Mix 2'!$R$10,'Mix 2'!I6,IF($J$5='Mix 3'!$R$10,'Mix 3'!I6,IF($J$5='Mix 4'!$R$10,'Mix 4'!I6,\"\")))))","v":183.95874922021224},null,{"$f":"G42/27*$E$16","v":51.099652561170068},null,{"$f":"I42/$E$24","v":2.5549826280585033},null,2.3330000000000002,{"$f":"M42/K42","v":0.91311775445331123},2.3330000000000002,0.73811096094272277]
[null,"Metakaolin",null,null,{"$f":"IF($J$5='45% Agg.'!$Z$4,'45% Agg.'!H7,IF($J$5='Mix 1'!$R$10,'Mix 1'!H7,IF($J$5='Mix 2'!$R$10,'Mix 2'!H7,IF($J$5='Mix 3'!$R$10,'Mix 3'!H7,IF($J$5='Mix 4'!$R$10,'Mix 4'!H7,\"\")))))","v":1},null,{"$f":"IF($J$5='45% Agg.'!$Z$4,'45% Agg.'!I7,IF($J$5='Mix 1'!$R$10,'Mix 1'!I7,IF($J$5='Mix 2'!$R$10,'Mix 2'!I7,IF($J$5='Mix 3'!$R$10,'Mix 3'!I7,IF($J$5='Mix 4'!$R$10,'Mix 4'!I7,\"\")))))","v":6.152466529104089},null,{"$f":"G43/27*$E$16","v":1.7090184803066915},null,{"$f":"I43/$E$24","v":8.5450924015334578E-2},null,null,null,{"$f":"O42/O41","v":0.41379921958141191},null,null,{"$f":"K41/(K41+K42)","v":0.51302931596091206}]
[null,"Silica Fume",null,null,{"$f":"IF($J$5='45% Agg.'!$Z$4,'45% Agg.'!H8,IF($J$5='Mix 1'!$R$10,'Mix 1'!H8,IF($J$5='Mix 2'!$R$10,'Mix 2'!H8,IF($J$5='Mix 3'!$R$10,'Mix 3'!H8,IF($J$5='Mix 4'!$R$10,'Mix 4'!H8,\"\")))))","v":0},null,{"$f":"IF($J$5='45% Agg.'!$Z$4,'45% Agg.'!I8,IF($J$5='Mix 1'!$R$10,'Mix 1'!I8,IF($J$5='Mix 2'!$R$10,'Mix 2'!I8,IF($J$5='Mix 3'!$R$10,'Mix 3'!I8,IF($J$5='Mix 4'!$R$10,'Mix 4'!I8,\"\")))))","v":0},null,{"$f":"G44/27*$E$16","v":0},null,{"$f":"I44/$E$24","v":0},null,null,null,null,null,null,{"$f":"K42/(K42+K41)","v":0.48697068403908794}]
[]
[null,"Water",null,null,null,null,null,null,null,null,null,null,{"$f":"E41/62.4/P41","v":8.9542364265238761E-3}]
[null,0.7,null,null,1,null,{"$f":"IF($J$5='45% Agg.'!$Z$4,'45% Agg.'!I32,IF($J$5='Mix 1'!$R$10,'Mix 1'!I30,IF($J$5='Mix 2'!$R$10,'Mix 2'!I28,IF($J$5='Mix 3'!$R$10,'Mix 3'!I28,IF($J$5='Mix 4'!$R$10,'Mix 4'!I28,\"\")))))*B47","v":{"$error":"#REF!"}},null,{"$f":"G47/27*$E$16","v":{"$error":"#REF!"}},null,{"$f":"I47/$E$24","v":{"$error":"#REF!"}},null,{"$f":"3.665/62.4/E42","v":2.553651059085842E-2},{"$f":"M47/M46","v":2.8518914818035408}]
[null,0.1,null,null,1,null,{"$f":"IF($J$5='45% Agg.'!$Z$4,'45% Agg.'!I32,IF($J$5='Mix 1'!$R$10,'Mix 1'!I30,IF($J$5='Mix 2'!$R$10,'Mix 2'!I28,IF($J$5='Mix 3'!$R$10,'Mix 3'!I28,IF($J$5='Mix 4'!$R$10,'Mix 4'!I28,\"\")))))*B48","v":{"$error":"#REF!"}},null,{"$f":"G48/27*$E$16","v":{"$error":"#REF!"}},null,{"$f":"I48/$E$24","v":{"$error":"#REF!"}}]
[]
[null,"Admixtures",null,null,null,null,"Amount (ml)",null,"Amount (ml)",null,"Amount (ml)"]
[null,"Adva 140 M",null,null,null,null,{"$f":"IF($J$5='45% Agg.'!$Z$4,'45% Agg.'!J43,IF($J$5='Mix 1'!$R$10,'Mix 1'!J40,IF($J$5='Mix 2'!$R$10,'Mix 2'!J38,IF($J$5='Mix 3'!$R$10,'Mix 3'!J38,IF($J$5='Mix 4'!$R$10,'Mix 4'!J38,\"\")))))","v":"Total (ml)"},null,{"$f":"G51/27*$E$16","v":{"$error":"#VALUE!"}},null,{"$f":"I51/$E$24","v":{"$error":"#VALUE!"}}]
[null,"Eclipse Floor 200",null,null,null,null,{"$f":"IF($J$5='45% Agg.'!$Z$4,'45% Agg.'!J44,IF($J$5='Mix 1'!$R$10,'Mix 1'!J41,IF($J$5='Mix 2'!$R$10,'Mix 2'!J39,IF($J$5='Mix 3'!$R$10,'Mix 3'!J39,IF($J$5='Mix 4'!$R$10,'Mix 4'!J39,\"\")))))","v":0},null,{"$f":"G52/27*$E$16","v":0},null,{"$f":"I52/$E$24","v":0}]
[]
[]
[null,null,null,null,null,null,null,null,{"$f":"SUM(I29:I48)","v":{"$error":"#REF!"}},null,{"$f":"K29*20","v":0},null,{"$f":"SUM(K29:K48)*20","v":{"$error":"#REF!"}}]
[null,null,null,null,null,null,null,null,null,null,{"$f":"K30*20","v":105.3}]
[null,null,null,null,null,null,null,null,null,null,{"$f":"K31*20","v":15.584399999999999}]
[null,null,null,null,null,null,null,null,null,null,18.420480000000001]
[null,null,null,null,null,null,null,null,null,null,17.6904]
[null,null,null,null,null,null,null,null,null,null,21.003840000000004]
[null,null,null,null,null,null,null,null,null,null,21.481200000000001]
[null,null,null,null,null,null,null,null,null,null,0]
[null,null,null,null,null,null,null,null,null,null,0]
[null,null,null,null,null,null,null,null,null,null,0]
[null,null,null,null,null,null,null,null,null,null,0]
[null,null,null,null,null,null,null,null,null,null,0]
[null,null,null,null,null,null,null,null,null,null,53.834082129660771]
[null,null,null,null,null,null,null,null,null,null,51.099652561170068]
[null,null,null,null,null,null,null,null,null,null,1.7090184803066917]
[null,null,null,null,null,null,null,null,null,null,0]
[null,null,null,null,null,null,null,null,null,null,0]
[null,null,null,null,null,null,null,null,null,null,0]
[null,null,null,null,null,null,null,null,null,null,{"$error":"#REF!"}]
[null,null,null,null,null,null,null,null,null,null,{"$error":"#REF!"}]
[]
[]
[]
[]
[]
[]
[]
[null,13313]
[null,{"$f":"B82-5000","v":8313}]
[null,{"$f":"B83/144","v":57.729166666666664}]

{"sheet":"Pour Day Printoffs","index":10,"n_rows":40,"n_cols":52,"rows_kept":40,"cut":false,"hidden":true,"merged":[[2,26,9,47],[10,1,10,2],[7,3,7,4],[12,1,12,3],[13,1,13,3],[10,6,10,23],[14,1,14,3],[15,1,15,3],[36,1,36,3],[32,1,32,3],[29,1,29,3],[16,1,16,3],[24,1,24,3],[17,1,17,3],[26,1,26,3],[18,1,18,3],[35,1,35,3],[30,1,30,3],[21,1,21,3],[25,1,25,3],[31,1,31,3]]}
[]
[null,"Pour Day Printoff Sheets ",null,null,null,null,null,null,null,null,null,null,null,null,null,null,null,null,null,null,null,null,null,null,null,null,"Instructions"]
[null,null,null,null,null,null,null,null,null,null,null,null,null,null,null,null,null,null,null,null,null,null,null,null,null,null,"These printoffs are for the use of those mixing the material for the concrete canoe on the day the concrete is cast. Multiple printoffs can be printed so that multiple mixing stations can be set up. After each material is weighed out and added, make sure that a check mark is put in the corresponding area allocated for that mix. After an the Mix 1 is made, mixed, and used in the casting of the canoe, start on  Mix 2. Make sure to have those helping, write there names down.                               Good Luck"]
[null,"Name of Mixers"]
[]
[null,"Date",null,null,"2017-02-25"]
[]
[null,"Mix Design ",null,{"$f":"'Pour Day'!K2","v":"KADHF"}]
[]
[]
[null,"Material",null,null,"Amount Per Mix (lbs)","Amount per Machine","Mix Number"]
[null,"Aggregate",null,null,null,null,1,2,3,4,5,6,7,8,9,10,11,12,13,14,15,16,17,18]
[null,"Utelite               ",null,null,{"$f":"'Pour Day'!K29","v":0},{"$f":"E13*2","v":0}]
[null,"Poraver Size: 2-4",null,null,{"$f":"'Pour Day'!K30","v":5.2649999999999997},{"$f":"E14*2","v":10.53},null,null,null,null,null,null,null,null,null,null,null,null,null,null,null,null,null,null,null,null,null,null,null,null,null,null,null,null,null,null,null,null,null,null,null,null,null,null,null,null,null,null,null,null,null,{"$f":"SUM(E13:E19,E22,E25:E27,E30:E32)","v":{"$error":"#REF!"}}]
[null,"Poraver Size: 1-2",null,null,{"$f":"'Pour Day'!K31","v":0.77921999999999991},1.5584399999999998]
[null,"Poraver Size: 0.5-1",null,null,{"$f":"'Pour Day'!K32","v":0.92102400000000006},1.8420480000000001]
[null,"Poraver Size: 0.25-0.5",null,null,{"$f":"'Pour Day'!K33","v":0.88451999999999997},1.7690399999999999,null,null,null,null,null,null,null,null,null,null,null,null,null,null,null,null,null,null,null,null,null,null,null,null,null,null,null,null,null,null,null,null,null,null,null,null,null,null,null,null,null,null,null,null,null,1.3506480000000001]
[null,"Poraver Size: 0.1-0.3",null,null,{"$f":"'Pour Day'!K34","v":1.0501920000000002},2.1003840000000005,null,null,null,null,null,null,null,null,null,null,null,null,null,null,null,null,null,null,null,null,null,null,null,null,null,null,null,null,null,null,null,null,null,null,null,null,null,null,null,null,null,null,null,null,null,0.86345999999999989]
[null,"Poraver Size: 0.04-0.125",null,null,{"$f":"'Pour Day'!K35","v":1.07406},2.14812,null,null,null,null,null,null,null,null,null,null,null,null,null,null,null,null,null,null,null,null,null,null,null,null,null,null,null,null,null,null,null,null,null,null,null,null,null,null,null,null,null,null,null,null,null,1.07406]
[null,null,null,null,null,null,null,null,null,null,null,null,null,null,null,null,null,null,null,null,null,null,null,null,null,null,null,null,null,null,null,null,null,null,null,null,null,null,null,null,null,null,null,null,null,null,null,null,null,null,null,1.0501920000000002]
[null,"Fibers",null,null,null,null,null,null,null,null,null,null,null,null,null,null,null,null,null,null,null,null,null,null,null,null,null,null,null,null,null,null,null,null,null,null,null,null,null,null,null,null,null,null,null,null,null,null,null,null,null,1.07406]
[null,"Grace Fibers",null,null,{"$f":"'Pour Day'!K38","v":0},{"$f":"E22*2","v":0},null,null,null,null,null,null,null,null,null,null,null,null,null,null,null,null,null,null,null,null,null,null,null,null,null,null,null,null,null,null,null,null,null,null,null,null,null,null,null,null,null,null,null,null,null,0.5616000000000001]
[]
[null,"Cementitious Materials"]
[null,"Cement",null,null,{"$f":"'Pour Day'!K41","v":2.6917041064830385},{"$f":"E25*2","v":5.383408212966077},null,null,null,null,null,null,null,null,null,null,null,null,null,null,null,null,null,null,null,null,null,null,null,null,null,null,null,null,null,null,null,null,null,null,null,null,null,null,null,null,null,null,null,null,null,4.1666666666666664E-2]
[null,"Fly Ash",null,null,{"$f":"'Pour Day'!K42","v":2.5549826280585033},{"$f":"E26*2","v":5.1099652561170066}]
[null,"Silica Fume",null,null,{"$f":"'Pour Day'!K44","v":0},0]
[null,null,null,null,null,null,null,null,null,null,null,null,null,null,null,null,null,null,null,null,null,null,null,null,null,null,null,null,null,null,null,null,null,null,null,null,null,null,null,null,null,null,null,null,null,null,null,null,null,null,null,5.0932854954394831]
[null,"Water",null,null,null,null,null,null,null,null,null,null,null,null,null,null,null,null,null,null,null,null,null,null,null,null,null,null,null,null,null,null,null,null,null,null,null,null,null,null,null,null,null,null,null,null,null,null,null,null,null,3.3470161827173746]
[null,0.7,null,null,{"$f":"'Pour Day'!K47","v":{"$error":"#REF!"}},{"$f":"E30*2","v":{"$error":"#REF!"}},null,null,null,null,null,null,null,null,null,null,null,null,null,null,null,null,null,null,null,null,null,null,null,null,null,null,null,null,null,null,null,null,null,null,null,null,null,null,null,null,null,null,null,null,null,0]
[null,0.1,null,null,{"$f":"'Pour Day'!K48","v":{"$error":"#REF!"}},{"$f":"E31*2","v":{"$error":"#REF!"}}]
[null,0.05,null,null,{"$f":"'Pour Day'!K48/2","v":{"$error":"#REF!"}},{"$error":"#REF!"}]
[null,"Total",null,null,"-",null,null,null,null,null,null,null,null,null,null,null,null,null,null,null,null,null,null,null,null,null,null,null,null,null,null,null,null,null,null,null,null,null,null,null,null,null,null,null,null,null,null,null,null,null,null,2.729142707907136]
[null,null,null,null,null,null,null,null,null,null,null,null,null,null,null,null,null,null,null,null,null,null,null,null,null,null,null,null,null,null,null,null,null,null,null,null,null,null,null,null,null,null,null,null,null,null,null,null,null,null,null,0.38987752970101941]
[null,"Admixtures",null,null,{"$f":"'Pour Day'!K50","v":"Amount (ml)"},null,null,null,null,null,null,null,null,null,null,null,null,null,null,null,null,null,null,null,null,null,null,null,null,null,null,null,null,null,null,null,null,null,null,null,null,null,null,null,null,null,null,null,null,null,null,0.1949387648505097]
[null,"Adva 140 M",null,null,{"$f":"'Pour Day'!K51","v":{"$error":"#VALUE!"}},{"$f":"E36*2","v":{"$error":"#VALUE!"}},null,null,null,null,null,null,null,null,null,null,null,null,null,null,null,null,null,null,null,null,null,null,null,null,null,null,null,null,null,null,null,null,null,null,null,null,null,null,null,null,null,null,null,null,null,"-"]
[null,"Eclipse Floor 200",null,null,{"$f":"'Pour Day'!K52","v":0},{"$f":"E37*2","v":0}]
[null,null,null,null,null,null,null,null,null,null,null,null,null,null,null,null,null,null,null,null,null,null,null,null,null,null,null,null,null,null,null,null,null,null,null,null,null,null,null,null,null,null,null,null,null,null,null,null,null,null,null,"Amount (ml)"]
[null,null,null,null,null,null,null,null,null,null,null,null,null,null,null,null,null,null,null,null,null,null,null,null,null,null,null,null,null,null,null,null,null,null,null,null,null,null,null,null,null,null,null,null,null,null,null,null,null,null,null,9.0168507104264357]
[null,null,null,null,null,null,null,null,null,null,null,null,null,null,null,null,null,null,null,null,null,null,null,null,null,null,null,null,null,null,null,null,null,null,null,null,null,null,null,null,null,null,null,null,null,null,null,null,null,null,null,19.46082887142396]

{"sheet":"Final Sheet","index":11,"n_rows":53,"n_cols":26,"rows_kept":53,"cut":false,"hidden":true,"merged":[[51,2,51,6],[51,10,51,11],[51,12,51,13],[50,2,50,6],[50,8,50,9],[50,10,50,11],[50,12,50,13],[16,15,16,16],[12,17,14,17],[46,10,46,11],[24,11,26,11],[21,16,22,25],[12,23,14,23],[12,22,14,22],[12,25,14,25],[12,15,14,16],[17,15,17,16],[15,15,15,16],[48,2,48,6],[41,12,41,13],[42,1,42,6],[42,8,42,9],[42,12,42,13],[41,10,41,11],[2,15,4,25],[8,16,9,25],[1,3,1,7],[49,2,49,6],[49,8,49,9],[49,10,49,11],[49,12,49,13],[47,2,47,6],[47,8,47,9],[12,18,14,18],[12,19,14,19],[12,24,14,24],[12,20,14,20],[12,21,14,21],[47,10,47,13],[48,8,48,9],[48,10,48,11],[48,12,48,13],[45,2,45,6],[45,8,45,9],[45,12,45,13],[46,2,46,6],[46,8,46,9],[46,12,46,13],[42,10,42,11],[45,10,45,11],[43,1,43,6],[43,8,43,9],[43,12,43,13],[44,2,44,6],[44,8,44,9],[44,12,44,13],[43,10,43,11],[44,10,44,11],[37,2,37,4],[38,2,38,4],[39,1,39,6],[40,1,40,6],[34,1,36,6],[35,7,36,7],[35,8,36,8],[35,9,36,9],[41,1,41,6],[41,8,41,9],[24,9,26,9],[24,13,26,13],[25,2,25,6],[26,2,26,6],[27,1,27,6],[35,10,36,10],[35,11,36,11],[28,1,28,13],[29,2,29,6],[30,2,30,6],[31,2,31,6],[32,2,32,6],[33,1,33,6],[35,12,36,12],[35,13,36,13],[10,2,10,6],[11,2,11,6],[12,1,12,6],[13,1,13,6],[21,1,21,6],[22,1,22,6],[23,2,23,6],[23,7,25,7],[24,1,25,1],[24,2,24,6],[5,3,5,4],[8,1,8,6],[9,1,9,6],[1,8,2,9],[1,10,2,11],[1,12,2,13],[2,2,2,5],[2,6,2,7],[3,1,3,6]]}
[]
[null,"Mixture ID: ",null,"JAGGF",null,null,null,null,"Design Proportions (Non SSD)",null,"Actual Batched Proportions",null,"Yielded  Proportions",null,null,"Instructions"]
[null,"YD","Design Batch Size (ft3):         ",null,null,null,27,null,null,null,null,null,null,null,null,"This sheet is for the final report.  This needs to be accurate and professional.  Review it a few times over before finally printing it. This page is also based off of the previous page titled \"Pour Day.\"  Make sure that sheet has been filled out properly.  The mix before is the mix used on the canoe and this is the final report of it such.  "]
[null,"Cementitious Materials",null,null,null,null,null,"SG","Amount\n(lb/yd3)","Volume\n(ft3)","Amount\n(lb)","Volume\n(ft3)","Amount\n(lb/yd3)","Volume\n(ft3)"]
[null,"CM1","Portland Cement, Type I, II",null,null,null,null,{"$f":"'45% Agg.'!$H$5","v":3.15},{"$f":"IF('Pour Day'!$J$5='45% Agg.'!$Z$4,'45% Agg.'!I5,IF('Pour Day'!$J$5='Mix 1'!$R$10,'Mix 1'!I5,IF('Pour Day'!$J$5='Mix 2'!$R$10,'Mix 2'!I5,IF('Pour Day'!$J$5='Mix 3'!$R$10,'Mix 3'!I5,IF('Pour Day'!$J$5='Mix 4'!$R$10,'Mix 4'!I5,\"\")))))","v":193.80269566677879},{"$f":"I5/H5/62.4","v":0.98597220017693732},{"$f":"'Pour Day'!K41","v":2.6917041064830385},{"$f":"K5/62.4/H5","v":1.3694058335790793E-2},{"$f":"(H5*62.4*N5)","v":260.81277149137071},{"$f":"L5*(27/$K$51)","v":1.3268863018486503}]
[null,"CM2",{"$f":"'45% Agg.'!$C$6","v":"Fly Ash "},{"$f":"'45% Agg.'!$D$6","v":"Class: F"},{"$f":"'45% Agg.'!E6","v":0},"Amt:",{"$f":"'45% Agg.'!$G$6","v":1.3},{"$f":"'45% Agg.'!$H$6","v":2.2999999999999998},{"$f":"IF('Pour Day'!$J$5='45% Agg.'!$Z$4,'45% Agg.'!I6,IF('Pour Day'!$J$5='Mix 1'!$R$10,'Mix 1'!I6,IF('Pour Day'!$J$5='Mix 2'!$R$10,'Mix 2'!I6,IF('Pour Day'!$J$5='Mix 3'!$R$10,'Mix 3'!I6,IF('Pour Day'!$J$5='Mix 4'!$R$10,'Mix 4'!I6,\"\")))))","v":183.95874922021224},{"$f":"G6*$J$5","v":1.2817638602300185},{"$f":"'Pour Day'!K42","v":2.5549826280585033},{"$f":"K6/62.4/H6","v":1.7802275836528034E-2},{"$f":"IF(G6=\"\",\"\",H6*62.4*N6)","v":247.5651386537138},{"$f":"L6*(27/$K$51)","v":1.7249521924032458}]
[null,"CM3",{"$f":"'45% Agg.'!$C$7","v":"Graphene"},null,null,"Amt:",{"$f":"'45% Agg.'!$G$7","v":0.1},{"$f":"'45% Agg.'!$H$7","v":1},{"$f":"IF('Pour Day'!$J$5='45% Agg.'!$Z$4,'45% Agg.'!I7,IF('Pour Day'!$J$5='Mix 1'!$R$10,'Mix 1'!I7,IF('Pour Day'!$J$5='Mix 2'!$R$10,'Mix 2'!I7,IF('Pour Day'!$J$5='Mix 3'!$R$10,'Mix 3'!I7,IF('Pour Day'!$J$5='Mix 4'!$R$10,'Mix 4'!I7,\"\")))))","v":6.152466529104089},{"$f":"G7*$J$5","v":9.8597220017693735E-2},{"$f":"'Pour Day'!K43","v":8.5450924015334578E-2},{"$f":"K7/62.4/H7","v":1.3694058335790799E-3},{"$f":"IF(G7=\"\",\"\",H7*62.4*N7)","v":8.2797705235355821},{"$f":"L7*(27/$K$51)","v":0.1326886301848651},null,"Step 1.","Make sure that the mix from the page beofre is the same mix used on the canoe. Fil"]
[null,"CM4",{"$f":"'45% Agg.'!$C$8","v":"Slag"},null,null,"Amt:",{"$f":"'45% Agg.'!$G$8","v":1.4},{"$f":"'45% Agg.'!$H$8","v":0},{"$f":"IF('Pour Day'!$J$5='45% Agg.'!$Z$4,'45% Agg.'!I8,IF('Pour Day'!$J$5='Mix 1'!$R$10,'Mix 1'!I8,IF('Pour Day'!$J$5='Mix 2'!$R$10,'Mix 2'!I8,IF('Pour Day'!$J$5='Mix 3'!$R$10,'Mix 3'!I8,IF('Pour Day'!$J$5='Mix 4'!$R$10,'Mix 4'!I8,\"\")))))","v":0},{"$f":"G8*$J$5","v":1.3803610802477122},{"$f":"'Pour Day'!K44","v":0},{"$f":"K8/62.4/H8","v":{"$error":"#DIV/0!"}},{"$f":"IF(G8=\"\",\"\",H8*62.4*N8)","v":{"$error":"#DIV/0!"}},{"$f":"L8*(27/$K$51)","v":{"$error":"#DIV/0!"}}]
[null,"Total Cementitious Materials: ",null,null,null,null,null,null,{"$f":"SUM(I5:I8)","v":383.91391141609517},3.7466943606723619,5.332137658556876,{"$error":"#DIV/0!"},{"$error":"#DIV/0!"},{"$error":"#DIV/0!"},null,"Step 2.","Use the table below to fill out the one section that is not filled out automatically, namely,  the Admixtures section. Be sure to properly label the admixtures used"]
[null,"Fibers"]
[null,"F1","Grace Fibers",null,null,null,null,{"$f":"'45% Agg.'!$H$12","v":0.91},{"$f":"IF('Pour Day'!$J$5='45% Agg.'!$Z$4,'45% Agg.'!I12,IF('Pour Day'!$J$5='Mix 1'!$R$10,'Mix 1'!I12,IF('Pour Day'!$J$5='Mix 2'!$R$10,'Mix 2'!I11,IF('Pour Day'!$J$5='Mix 3'!$R$10,'Mix 3'!I11,IF('Pour Day'!$J$5='Mix 4'!$R$10,'Mix 4'!I11,\"\")))))","v":0},{"$f":"IF(H11=\"\",\"\",I11/(H11*62.4))","v":0},{"$f":"'Pour Day'!K38","v":0},{"$f":"K11/62.4/H11","v":0},{"$f":"(H11*62.4*N11)","v":0},{"$f":"L11*(27/$K$51)","v":0}]
[null,"F2",null,null,null,null,null,{"$f":"'45% Agg.'!$H$13","v":0},{"$f":"'45% Agg.'!$I$13","v":0},{"$f":"IF(H12=0,\"\",I12/(H12*62.4))","v":""},null,null,null,null,null,"Admixture amounts "]
[null,"Total Fibers: ",null,null,null,null,null,null,{"$f":"SUM(I11:I12)","v":0},{"$f":"SUM(J11:J12)","v":0},{"$f":"SUM(K11:K12)","v":0},{"$f":"SUM(L11:L12)","v":0},{"$f":"SUM(M11:M12)","v":0},{"$f":"SUM(N11)","v":0},null,null,null,"% Solides","Dosage\n(fl oz/cwt)","Total for 1 yd3 (ml)","Amount\n(fl oz)","Amount\n(ft3)","Unit Weight of Water\n(lb/ft3)","Water in Admixture\n(lbs)","Amount for Canoe\n(ml)","Amount\n(fl oz)"]
[null,"Aggregates"]
[null,"A1",{"$f":"'45% Agg.'!$C$17","v":"Utelite               "},null,{"$f":"'45% Agg.'!$E$17","v":0.25},"Abs:",{"$f":"'45% Agg.'!$G$17","v":0},{"$f":"'45% Agg.'!$H$17","v":1.5},{"$f":"IF('Pour Day'!$J$5='45% Agg.'!$Z$4,'45% Agg.'!I17,IF('Pour Day'!$J$5='Mix 1'!$R$10,'Mix 1'!I16,IF('Pour Day'!$J$5='Mix 2'!$R$10,'Mix 2'!I15,IF('Pour Day'!$J$5='Mix 3'!$R$10,'Mix 3'!I15,IF('Pour Day'!$J$5='Mix 4'!$R$10,'Mix 4'!I15,\"\")))))","v":0},{"$f":"IF(E15=\"\",\"\",E15*$J$22)","v":4.05},{"$f":"'Pour Day'!K29","v":0},{"$f":"K15/62.4/H15","v":0},{"$f":"IF(G15=\"\",\"\",H15*62.4*N15)","v":0},{"$f":"L15*(27/$K$51)","v":0}]
[null,"A2",{"$f":"'45% Agg.'!$C$18","v":"Size: 2-4"},null,{"$f":"'45% Agg.'!$E$18","v":0.15},"Abs:",{"$f":"'45% Agg.'!$G$18","v":0.23},{"$f":"'45% Agg.'!$H$18","v":0.37},{"$f":"IF('Pour Day'!$J$5='45% Agg.'!$Z$4,'45% Agg.'!I18,IF('Pour Day'!$J$5='Mix 1'!$R$10,'Mix 1'!I17,IF('Pour Day'!$J$5='Mix 2'!$R$10,'Mix 2'!I16,IF('Pour Day'!$J$5='Mix 3'!$R$10,'Mix 3'!I16,IF('Pour Day'!$J$5='Mix 4'!$R$10,'Mix 4'!I16,\"\")))))","v":379.08},2.4299999999999997,{"$f":"'Pour Day'!K30","v":5.2649999999999997},0.22804054054054052,510.15237469628602,22.095996825029712,null,"Adva 195 M",null,0.75,10,{"$f":"CONVERT((S16*$I$45/100),\"oz\",\"ml\")","v":{"$error":"#REF!"}},{"$f":"CONVERT((T16),\"ml\",\"oz\")","v":{"$error":"#REF!"}},{"$f":"CONVERT((U16),\"oz\",\"ft^3\")","v":{"$error":"#REF!"}},62.4,{"$f":"R16*V16*W16","v":{"$error":"#REF!"}},{"$f":"T16/27*'Pour Day'!$E$16","v":{"$error":"#REF!"}},{"$f":"CONVERT((Y16),\"ml\",\"oz\")","v":{"$error":"#REF!"}}]
[null,"A3",{"$f":"'45% Agg.'!$C$19","v":"Size: 1-2"},null,{"$f":"'45% Agg.'!$E$19","v":0.16},"Abs:",{"$f":"'45% Agg.'!$G$19","v":0.2},{"$f":"'45% Agg.'!$H$19","v":0.41},{"$f":"IF('Pour Day'!$J$5='45% Agg.'!$Z$4,'45% Agg.'!I19,IF('Pour Day'!$J$5='Mix 1'!$R$10,'Mix 1'!I18,IF('Pour Day'!$J$5='Mix 2'!$R$10,'Mix 2'!I17,IF('Pour Day'!$J$5='Mix 3'!$R$10,'Mix 3'!I17,IF('Pour Day'!$J$5='Mix 4'!$R$10,'Mix 4'!I17,\"\")))))","v":56.103839999999998},2.5920000000000001,{"$f":"'Pour Day'!K31","v":0.77921999999999991},3.0457317073170731E-2,75.502551455050337,2.9511628930210421,null,"Eclipse Floor 200",null,0,3.2,{"$f":"CONVERT((S17*$I$45/100),\"oz\",\"ml\")","v":{"$error":"#REF!"}},{"$f":"CONVERT((T17),\"ml\",\"oz\")","v":{"$error":"#REF!"}},{"$f":"CONVERT((U17),\"oz\",\"ft^3\")","v":{"$error":"#REF!"}},62.4,{"$f":"R17*V17*W17","v":{"$error":"#REF!"}},{"$f":"T17/27*'Pour Day'!$E$16","v":{"$error":"#REF!"}},{"$f":"CONVERT((Y17),\"ml\",\"oz\")","v":{"$error":"#REF!"}}]
[null,"A4",{"$f":"'45% Agg.'!$C$20","v":"Size: 0.5-1"},null,{"$f":"'45% Agg.'!$E$20","v":0.14000000000000001},"Abs:",{"$f":"'45% Agg.'!$G$20","v":0.2},{"$f":"'45% Agg.'!$H$20","v":0.45},{"$f":"IF('Pour Day'!$J$5='45% Agg.'!$Z$4,'45% Agg.'!I20,IF('Pour Day'!$J$5='Mix 1'!$R$10,'Mix 1'!I19,IF('Pour Day'!$J$5='Mix 2'!$R$10,'Mix 2'!I18,IF('Pour Day'!$J$5='Mix 3'!$R$10,'Mix 3'!I18,IF('Pour Day'!$J$5='Mix 4'!$R$10,'Mix 4'!I18,\"\")))))","v":66.313727999999998},2.2680000000000002,{"$f":"'Pour Day'!K32","v":0.92102400000000006},3.2800000000000003E-2,89.24265541353698,3.17815724407183]
[null,"A5",{"$f":"'45% Agg.'!$C$21","v":"Size: 0.25-0.5"},null,{"$f":"'45% Agg.'!$E$21","v":0.11},"Abs:",{"$f":"'45% Agg.'!$G$21","v":0.28000000000000003},{"$f":"'45% Agg.'!$H$21","v":0.68},{"$f":"IF('Pour Day'!$J$5='45% Agg.'!$Z$4,'45% Agg.'!I21,IF('Pour Day'!$J$5='Mix 1'!$R$10,'Mix 1'!I20,IF('Pour Day'!$J$5='Mix 2'!$R$10,'Mix 2'!I19,IF('Pour Day'!$J$5='Mix 3'!$R$10,'Mix 3'!I19,IF('Pour Day'!$J$5='Mix 4'!$R$10,'Mix 4'!I19,\"\")))))","v":63.68544},1.782,{"$f":"'Pour Day'!K33","v":0.88451999999999997},2.0845588235294116E-2,85.705598948976061,2.0198340627115399]
[null,"A6",{"$f":"'45% Agg.'!$C$22","v":"Size: 0.1-0.3"},null,{"$f":"'45% Agg.'!$E$22","v":0.09},"Abs:",{"$f":"'45% Agg.'!$G$22","v":0.35},{"$f":"'45% Agg.'!$H$22","v":0.85},{"$f":"IF('Pour Day'!$J$5='45% Agg.'!$Z$4,'45% Agg.'!I22,IF('Pour Day'!$J$5='Mix 1'!$R$10,'Mix 1'!I21,IF('Pour Day'!$J$5='Mix 2'!$R$10,'Mix 2'!I20,IF('Pour Day'!$J$5='Mix 3'!$R$10,'Mix 3'!I20,IF('Pour Day'!$J$5='Mix 4'!$R$10,'Mix 4'!I20,\"\")))))","v":75.613824000000008},1.458,{"$f":"'Pour Day'!K34","v":1.0501920000000002},1.9800000000000005E-2,101.75839367275256,1.9185217509945807,null,null,"*% Solids for each admixture can be found on the admixture's MSDS sheet"]
[null,"A7",{"$f":"'45% Agg.'!$C$23","v":"Size: 0.04-0.125"},null,{"$f":"'45% Agg.'!$E$23","v":0.05},"Abs:",{"$f":"'45% Agg.'!G23","v":0.25},{"$f":"'45% Agg.'!$H$23","v":0.8},{"$f":"IF('Pour Day'!$J$5='45% Agg.'!$Z$4,'45% Agg.'!I23,IF('Pour Day'!$J$5='Mix 1'!$R$10,'Mix 1'!I22,IF('Pour Day'!$J$5='Mix 2'!$R$10,'Mix 2'!I21,IF('Pour Day'!$J$5='Mix 3'!$R$10,'Mix 3'!I21,IF('Pour Day'!$J$5='Mix 4'!$R$10,'Mix 4'!I21,\"\")))))","v":77.332319999999996},0.81,{"$f":"'Pour Day'!K35","v":1.07406},2.1515625E-2,104.07108443804236,2.0847573004415536]
[null,"Total Aggregates: ",null,null,null,null,null,null,{"$f":"SUM(I15:I21)","v":718.12915199999998},{"$f":"'Pour Day'!J5*27","v":16.2},{"$f":"SUM(K15:K21)","v":9.9740159999999989},{"$f":"SUM(L15:L21)","v":0.3534590708490053},{"$f":"SUM(M15:M21)","v":966.43265862464432},{"$f":"SUM(N15:N21)","v":34.248430076270253},null,"Step 3.","The Measured Density from casting the canoe will also have to be entered in on cell K49 where it has the measured density."]
[null,"Water"]
[null,"W1","Water for CM Hydration (W1a + W1b)",null,null,null,null,1,{"$f":"IF('Pour Day'!$J$5='45% Agg.'!$Z$4,'45% Agg.'!I27,IF('Pour Day'!$J$5='Mix 1'!$R$10,'Mix 1'!I26,IF('Pour Day'!$J$5='Mix 2'!$R$10,'Mix 2'!I24,IF('Pour Day'!$J$5='Mix 3'!$R$10,'Mix 3'!I24,IF('Pour Day'!$J$5='Mix 4'!$R$10,'Mix 4'!I24,\"\")))))","v":{"$error":"#REF!"}},{"$f":"IF(I24=\"\",\"\",I24/H24/27)","v":{"$error":"#REF!"}},{"$f":"K26+K25","v":1.6616412975670629},{"$f":"K24/62.4/H24","v":2.6628866948190111E-2},{"$f":"K24*(27/$K$51)","v":161.00479655218524},{"$f":"L24*(27/$K$51)","v":2.5802050729516863}]
[null,null,"W1a. Water from Admixtures",null,null,null,null,null,{"$f":"J40","v":{"$error":"#REF!"}},null,6.2E-2,null,{"$f":"N40","v":{"$error":"#REF!"}},null,null,"Step 4.","Copy only the final table on the left  and paste it onto the next sheet. "]
[null,null,"W1b.  Additional Water",null,null,null,null,null,{"$f":"I24-I25","v":{"$error":"#REF!"}},null,{"$f":"K43*K9","v":1.5996412975670629},null,{"$f":"K26*(27/$K$51)","v":154.99730420058603}]
[null,"W2","Water for Aggregates, SSD ",null,null,null,null,1,{"$f":"IF('Pour Day'!$J$5='45% Agg.'!$Z$4,'45% Agg.'!I30,IF('Pour Day'!$J$5='Mix 1'!$R$10,'Mix 1'!I29,IF('Pour Day'!$J$5='Mix 2'!$R$10,'Mix 2'!I27,IF('Pour Day'!$J$5='Mix 3'!$R$10,'Mix 3'!I27,IF('Pour Day'!$J$5='Mix 4'!$R$10,'Mix 4'!I27,\"\")))))","v":0},null,{"$f":"G15*K15+G16*K16+G17*K17+G18*K18+G19*K19+G20*K20+G21*K21","v":2.4347466},null,{"$f":"I27/27*'Pour Day'!$E$16","v":0},null,null,"Step 5.","Delete any unnecessary rows from the table and prepare it to be printed for the final report. "]
[null,"Total Water (W1 + W2): ",null,null,null,null,null,null,{"$f":"I24+I27","v":{"$error":"#REF!"}},{"$f":"J24","v":{"$error":"#REF!"}},{"$f":"K24+K27","v":4.0963878975670625},{"$f":"SUM(L24)","v":2.6628866948190111E-2},{"$f":"M27+M24","v":161.00479655218524},{"$f":"SUM(N24:N27)","v":2.5802050729516863}]
[null,"Solids Content of Latex, Dyes and Admixtures in Powder Form",null,null,null,null,null,null,null,null,null,null,null,null,null,"Step 6.","Print off in a pdf format and/or a hardcopy"]
[null,"S1","Latex (if used)"]
[null,"S2","Liquid Dye (if used)"]
[null,"S3","Other Latex or Liquid Dye (if used)"]
[null,"P1","Pigment 1 (Powder Form)"]
[null,"Total Solids of Admixtures: "]
[null,"Admixtures (including Pigments in Liquid Form)"]
[null,null,null,null,null,null,null,"% Solids","Dosage\n(fl oz/cwt)","Water in Admixture (lb/yd3)","Amount\n(fl oz)","Water in Admixture (lb)","Dosage\n(fl oz/cwt)","Water in Admixture (lb/yd3)",null,null,null,null,null,null,null,null,"cm",607.70000000000005]
[null,null,null,null,null,null,null,null,null,null,null,null,null,null,null,null,null,null,null,null,null,null,"water",280.7]
[null,"Ad1",{"$f":"P16","v":"Adva 195 M"},null,null,null,"lb/gal",{"$f":"R16","v":0.75},{"$f":"IF('Pour Day'!$J$5='45% Agg.'!$Z$4,'45% Agg.'!I43,IF('Pour Day'!$J$5='Mix 1'!$R$10,'Mix 1'!I40,IF('Pour Day'!$J$5='Mix 2'!$R$10,'Mix 2'!I38,IF('Pour Day'!$J$5='Mix 3'!$R$10,'Mix 3'!I38,IF('Pour Day'!$J$5='Mix 4'!$R$10,'Mix 4'!I38,\"\")))))","v":"Dosage\n(fl oz/cwt)"},{"$f":"X16","v":{"$error":"#REF!"}},{"$f":"CONVERT('Pour Day'!K51,\"ml\",\"oz\")","v":{"$error":"#VALUE!"}},{"$f":"X16*K51/I51","v":{"$error":"#REF!"}},{"$f":"I38","v":"Dosage\n(fl oz/cwt)"},{"$f":"L38*(27/$K$51)","v":{"$error":"#REF!"}},null,null,null,null,null,null,null,null,"agg",687.9]
[null,"Ad2",{"$f":"P17","v":"Eclipse Floor 200"},null,null,null,"lb/gal",{"$f":"R17","v":0},{"$f":"IF('Pour Day'!$J$5='45% Agg.'!$Z$4,'45% Agg.'!I44,IF('Pour Day'!$J$5='Mix 1'!$R$10,'Mix 1'!I41,IF('Pour Day'!$J$5='Mix 2'!$R$10,'Mix 2'!I39,IF('Pour Day'!$J$5='Mix 3'!$R$10,'Mix 3'!I39,IF('Pour Day'!$J$5='Mix 4'!$R$10,'Mix 4'!I39,\"\")))))","v":0},{"$f":"X17","v":{"$error":"#REF!"}},{"$f":"CONVERT('Pour Day'!K52,\"ml\",\"oz\")","v":0},{"$f":"J39/27*'Pour Day'!$E$16","v":{"$error":"#REF!"}},{"$f":"I39","v":0},{"$f":"J39","v":{"$error":"#REF!"}}]
[null,"Water from Admixtures (W1a): ",null,null,null,null,null,null,null,{"$f":"SUM(J38:J39)","v":{"$error":"#REF!"}},null,{"$f":"SUM(L38:L39)","v":{"$error":"#REF!"}},null,{"$f":"SUM(J40)","v":{"$error":"#REF!"}}]
[]
[null,"Cement-Cementitious Materials Ratio",null,null,null,null,null,null,{"$f":"I5/I9","v":0.50480769230769229},null,{"$f":"K5/K9","v":0.50480769230769229},null,{"$f":"M5/M9","v":{"$error":"#DIV/0!"}}]
[null,"Water-Cementitious Materials Ratio",null,null,null,null,null,null,{"$f":"'45% Agg.'!$I$51:$J$51","v":0.3},null,{"$f":"I43","v":0.3},null,{"$f":"I43","v":0.3}]
[null,"Slump, Slump Flow, in. ",null,null,null,null,null,null,"2 +- 1",null,"2 +- 1",null,"3 +- 1"]
[null,"M","Mass of Concrete. lbs",null,null,null,null,null,{"$f":"SUM(I9,I13,I22,I28,I34)","v":{"$error":"#REF!"}},null,{"$f":"SUM(K9,K13,K22,K28,K34)","v":19.402541556123936},null,{"$f":"SUM(M9,M13,M22,M28,M34)","v":{"$error":"#DIV/0!"}},null,null,58.2]
[null,"V","Absolute Volume of Concrete, ft3",null,null,null,null,null,{"$f":"SUM(J34,J28,J22,J13,J9)","v":{"$error":"#REF!"}},null,{"$f":"SUM(L34,L28,L22,L13,L9)","v":{"$error":"#DIV/0!"}},null,{"$f":"SUM(N34,N28,N22,N13,N9)","v":{"$error":"#DIV/0!"}},null,null,72.900000000000006]
[null,"T","Theorectical Density, lb/ft3  = (M / V) ",null,null,null,null,null,{"$f":"I45/I46","v":{"$error":"#REF!"}},null,{"$f":"K45/K46","v":{"$error":"#DIV/0!"}},null,{"$f":"M45/M46","v":{"$error":"#DIV/0!"}}]
[null,"D","Design Density, lb/ft3        =  (M / 27)",null,null,null,null,null,{"$f":"I45/27","v":{"$error":"#REF!"}},null,null,null,null,null,null,null,{"$f":"27/K51","v":96.895037929019196}]
[null,"D","Measured Density, lb/ft3",null,null,null,null,null,null,null,69.63,null,59.1,null,null,null,null,null,{"$f":"K11*21","v":0}]
[null,"A","Air Content, %  = [(T - D) / T x 100%]",null,null,null,null,null,{"$f":"(I47-I48)/I47","v":{"$error":"#REF!"}},null,{"$f":"(K47-K49)/K47","v":{"$error":"#DIV/0!"}},null,{"$f":"(M47-M49)/M47","v":{"$error":"#DIV/0!"}}]
[null,"Y","Yield, ft3                                                  = (M / D)",null,null,null,null,null,{"$f":"I45/I48","v":{"$error":"#REF!"}},null,{"$f":"K45/K49","v":0.27865204015688549},null,27,null,null,{"$f":"K51*21/27","v":0.21672936456646649},{"$f":"P51*2.25","v":0.48764107027454962}]
[null,"Ry","Relative Yield                        = (Y / YD)",null,null,null,null,null,null,null,{"$f":"K51/K46","v":{"$error":"#DIV/0!"}},null,null,null,null,null,null,null,null,null,null,"weight",1.7090000000000001,{"$f":"W52/32.2","v":5.3074534161490682E-2},{"$f":"X52/X53","v":2.1624510628098315}]
[null,null,null,null,null,null,null,null,null,null,null,null,null,null,null,null,null,null,null,null,null,"volume",{"$f":"PI()*1.5^2*6","v":42.411500823462205},{"$f":"W53/12^3","v":2.4543692606170259E-2},{"$f":"W52/X53","v":69.63092422247658}]

{"sheet":"Final Sheet Printout","index":12,"n_rows":44,"n_cols":14,"rows_kept":44,"cut":false,"hidden":true,"merged":[[43,2,43,6],[43,10,43,11],[43,12,43,13],[41,2,41,6],[41,8,41,9],[41,10,41,11],[41,12,41,13],[42,2,42,6],[42,8,42,9],[42,10,42,11],[42,12,42,13],[39,2,39,6],[39,8,39,9],[39,10,39,13],[40,2,40,6],[40,8,40,9],[40,10,40,11],[40,12,40,13],[33,8,33,9],[37,8,37,9],[32,1,32,6],[26,1,28,6],[27,7,28,7],[27,8,28,8],[30,2,30,4],[31,1,31,6],[38,2,38,6],[38,8,38,9],[38,10,38,11],[38,12,38,13],[36,12,36,13],[10,1,10,6],[22,13,24,13],[23,2,23,6],[24,2,24,6],[27,12,28,12],[27,13,28,13],[1,8,2,9],[1,10,2,11],[1,12,2,13],[2,2,2,5],[2,6,2,7],[3,1,3,6],[5,3,5,4],[7,1,7,6],[1,3,1,7],[8,1,8,6],[34,10,34,11],[9,2,9,6],[27,11,28,11],[19,1,19,6],[20,1,20,6],[21,7,23,7],[22,1,23,1],[22,9,24,9],[22,11,24,11],[11,1,11,6],[25,1,25,6],[21,2,21,6],[22,2,22,6],[27,10,28,10],[27,9,28,9],[29,2,29,4],[34,12,34,13],[33,1,33,6],[33,10,33,11],[37,2,37,6],[37,10,37,11],[37,12,37,13],[35,8,35,9],[35,10,35,11],[33,12,33,13],[34,1,34,6],[35,1,35,6],[35,12,35,13],[36,2,36,6],[36,8,36,9],[36,10,36,11],[34,8,34,9]]}
[]
[null,"Mixture ID: ",null,{"$f":"'Pour Day'!K2","v":"KADHF"},null,null,null,null,"Design Proportions (Non SSD)",null,"Actual Batched Proportions",null,"Yielded  Proportions"]
[null,"YD","Design Batch Size (ft3):         ",null,null,null,27]
[null,"Cementitious Materials",null,null,null,null,null,"SG","Amount\n(lb/yd3)","Volume\n(ft3)","Amount\n(lb)","Volume\n(ft3)","Amount\n(lb/yd3)","Volume\n(ft3)"]
[null,"CM1","Portland Cement",null,null,null,null,3.15,325.15970133948861,1.654251634816283,3.9967546622978802,2.0333509677950144E-2,400.75149285765588,2.0388252587385831]
[null,"CM2",{"$f":"'45% Agg.'!$C$6","v":"Fly Ash "},{"$f":"'45% Agg.'!$D$6","v":"Class: F"},{"$f":"'45% Agg.'!E6","v":0},"Amt:",{"$f":"'45% Agg.'!$G$6","v":1.3},2.2999999999999998,178.06364597162465,1.2406887261122121,2.1886989817345528,1.5250132258462605E-2,219.45915085062103,1.5291189440539372]
[null,"CM4",{"$f":"'45% Agg.'!$C$8","v":"Slag"},null,null,"Amt:",{"$f":"'45% Agg.'!$G$8","v":1.4},2.2000000000000002,9.0838265771031743,6.6170065392651328E-2,0.11165536834355985,8.1334038711800591E-4,11.195597260785311,8.1553010349543348E-2]
[null,"Total Cementitious Materials: ",null,null,null,null,null,null,{"$f":"SUM(I5:I7)","v":512.30717388821643},2.9611104263211465,6.2971090123759934,3.6396982323530759E-2,631.4062409690622,3.6494972131420638]
[null,"Fibers"]
[null,"F1","Grace Fibers",null,null,null,null,0.91,2.5,4.402648633417864E-2,3.0729166666666662E-2,5.41158894524279E-4,3.0811897292835524,5.4261583003725564E-2]
[null,"Total Fibers: ",null,null,null,null,null,null,{"$f":"SUM(I10:I10)","v":2.5},{"$f":"SUM(J10:J10)","v":4.402648633417864E-2},{"$f":"SUM(K10:K10)","v":3.0729166666666662E-2},{"$f":"SUM(L10:L10)","v":5.41158894524279E-4},{"$f":"SUM(M10:M10)","v":3.0811897292835524},{"$f":"SUM(N10)","v":5.4261583003725564E-2}]
[null,"Aggregates"]
[null,"A1",{"$f":"'45% Agg.'!$C$17","v":"Utelite               "},null,{"$f":"'45% Agg.'!$E$17","v":0.25},"Abs:",{"$f":"'45% Agg.'!$G$17","v":0},1.5,43.215119999999992,0.46169999999999994,0.53118584999999985,5.6750624999999987E-3,53.261593557502493,0.56903411920408653]
[null,"A2",{"$f":"'45% Agg.'!$C$18","v":"Size: 2-4"},null,{"$f":"'45% Agg.'!$E$18","v":0.15},"Abs:",{"$f":"'45% Agg.'!$G$18","v":0.23},0.37,92.384323199999983,4.0013999999999994,1.1355573059999995,4.9183874999999981E-2,113.86145111626088,4.931629033102082]
[null,"A3",{"$f":"'45% Agg.'!$C$19","v":"Size: 1-2"},null,{"$f":"'45% Agg.'!$E$19","v":0.16},"Abs:",{"$f":"'45% Agg.'!$G$19","v":0.2},0.41,66.263183999999995,3.5396999999999998,0.81448496999999986,3.1835716463414633E-2,81.667776788170514,3.192142619925364]
[null,"A4",{"$f":"'45% Agg.'!$C$20","v":"Size: 0.5-1"},null,{"$f":"'45% Agg.'!$E$20","v":0.14000000000000001},"Abs:",{"$f":"'45% Agg.'!$G$20","v":0.2},0.45,82.68492959999999,3.2318999999999996,1.0163355929999998,3.6194287499999991E-2,101.90718234002144,3.629173160257174]
[null,"A5",{"$f":"'45% Agg.'!$C$21","v":"Size: 0.25-0.5"},null,{"$f":"'45% Agg.'!$E$21","v":0.11},"Abs:",{"$f":"'45% Agg.'!$G$21","v":0.28000000000000003},0.68,51.858143999999989,1.8467999999999998,0.63742301999999973,1.5022224264705876E-2,63.913912269002985,1.506266786128464]
[null,"A6",{"$f":"'45% Agg.'!$C$22","v":"Size: 0.1-0.3"},null,{"$f":"'45% Agg.'!$E$22","v":0.09},"Abs:",{"$f":"'45% Agg.'!$G$22","v":0.35},0.85,58.772563199999993,1.3850999999999998,0.72241275599999988,1.3620149999999998E-2,72.435767238203397,1.3656818860898077]
[null,"A7",{"$f":"'45% Agg.'!$C$23","v":"Size: 0.04-0.125"},null,{"$f":"'45% Agg.'!$E$23","v":0.05},"Abs:",{"$f":"'45% Agg.'!G23","v":0.25},0.8,48.977135999999994,0.92339999999999989,0.60201062999999988,1.2059507812499997E-2,60.363139365169495,1.2091975033086837]
[null,"Total Aggregates: ",null,null,null,null,null,null,{"$f":"SUM(I13:I19)","v":444.15539999999987},{"$f":"'Pour Day'!J5*27","v":16.2},{"$f":"SUM(K13:K19)","v":5.4594101249999989},{"$f":"SUM(L13:L19)","v":0.16359082354062049},{"$f":"SUM(M13:M19)","v":547.41082267433114},{"$f":"SUM(N13:N19)","v":16.403125108015665}]
[null,"Water"]
[null,"W1","Water for CM Hydration (W1a + W1b)",null,null,null,null,1,232.33130335830614,8.6048630873446719,2.9177389371125129,4.6758636812700531E-2,292.55942223495981,4.6884522794064081]
[null,null,"W1a. Water from Admixtures",null,null,null,null,null,{"$f":"J32","v":6.1996429681051222},null,6.2E-2,null,{"$f":"N32","v":6.1996429681051222}]
[null,null,"W1b.  Additional Water",null,null,null,null,null,{"$f":"I22-I23","v":226.13166039020103},null,{"$f":"K35*K8","v":2.855738937112513},null,{"$f":"K24*(27/$K$43)","v":286.34273027946978}]
[null,"W2","Water for Aggregates, SSD ",null,null,null,null,1,{"$f":"IF('Pour Day'!$J$5='45% Agg.'!$Z$4,'45% Agg.'!I30,IF('Pour Day'!$J$5='Mix 1'!$R$10,'Mix 1'!I29,IF('Pour Day'!$J$5='Mix 2'!$R$10,'Mix 2'!I27,IF('Pour Day'!$J$5='Mix 3'!$R$10,'Mix 3'!I27,IF('Pour Day'!$J$5='Mix 4'!$R$10,'Mix 4'!I27,\"\")))))","v":0},null,{"$f":"G13*K13+G14*K14+G15*K15+G16*K16+G17*K17+G18*K18+G19*K19","v":1.2091678606799996},null,{"$f":"I25/27*'Pour Day'!$E$16","v":0}]
[null,"Total Water (W1 + W2): ",null,null,null,null,null,null,{"$f":"I22+I25","v":232.33130335830614},{"$f":"J22","v":8.6048630873446719},{"$f":"K22+K25","v":4.1269067977925129},{"$f":"SUM(L22)","v":4.6758636812700531E-2},{"$f":"M25+M22","v":292.55942223495981},{"$f":"SUM(N22:N25)","v":4.6884522794064081}]
[null,"Admixtures (including Pigments in Liquid Form)"]
[null,null,null,null,null,null,null,"% Solids","Dosage\n(fl oz/cwt)","Water in Admixture (lb/yd3)","Amount\n(fl oz)","Water in Admixture (lb)","Dosage\n(fl oz/cwt)","Water in Admixture (lb/yd3)"]
[]
[null,"Ad1",{"$f":"P14","v":0},null,null,null,"lb/gal",0.75,9.39,6.1996429681051222,1.4639927329246407,6.1829967895235122E-2,9.39,6.1996429681051213]
[null,"Ad2",{"$f":"P15","v":0},null,null,null,"lb/gal",{"$f":"R15","v":0},3.0049999999999999,0,0.46850885648972795,0,3.0049999999999999,0]
[null,"Water from Admixtures (W1a): ",null,null,null,null,null,null,null,{"$f":"SUM(J30:J31)","v":6.1996429681051222},null,{"$f":"SUM(L30:L31)","v":6.1829967895235122E-2},null,{"$f":"SUM(J32)","v":6.1996429681051222}]
[]
[null,"Cement-Cementitious Materials Ratio",null,null,null,null,null,null,0.63469675599435837,null,0.63469675599435826,null,0.63469675599435826]
[null,"Water-Cementitious Materials Ratio",null,null,null,null,null,null,0.45350000000000001,null,0.45350000000000001,null,0.45350000000000001]
[null,"Slump, Slump Flow, in. ",null,null,null,null,null,null,"3 +- 1",null,"2 +- 1",null,"3 +- 1"]
[null,"M","Mass of Concrete. lbs",null,null,null,null,null,1268.4184614065225,null,15.914155101835172,null,1512.3772628196366]
[null,"V","Absolute Volume of Concrete, ft3",null,null,null,null,null,26.999999999999993,null,0.24728760157137605,null,24.795336183567862]
[null,"T","Theorectical Density, lb/ft3  = (M / V) ",null,null,null,null,null,46.978461533574922,null,64.354844321791759,null,60.994424581422109]
[null,"D","Design Density, lb/ft3        =  (M / 27)",null,null,null,null,null,{"$f":"I37/27","v":46.978461533574908}]
[null,"D","Measured Density, lb/ft3",null,null,null,null,null,null,null,59.1,null,59.1]
[null,"A","Air Content, %  = [(T - D) / T x 100%]",null,null,null,null,null,{"$f":"(I39-I40)/I39","v":3.0249723493064334E-16},null,8.1654215423412488E-2,null,3.1058979479234534E-2]
[null,"Y","Yield, ft3                                                  = (M / D)",null,null,null,null,null,{"$f":"I37/I40","v":27},null,0.26927504402428382,null,27]
[null,"Ry","Relative Yield                        = (Y / YD)",null,null,null,null,null,null,null,{"$f":"K43/K38","v":1.0889144555294714}]

{"sheet":"2016 Mix Design","index":13,"n_rows":50,"n_cols":33,"rows_kept":50,"cut":false,"hidden":true,"merged":[[42,0,42,2],[42,16,42,27],[18,1,18,7],[40,0,40,2],[40,3,40,9],[40,10,40,15],[13,1,13,7],[23,7,23,8],[24,7,24,8],[23,13,23,17],[24,13,24,17],[23,9,23,11],[24,9,24,11],[17,1,17,7],[16,8,16,10],[17,8,17,10],[38,0,38,2],[38,3,38,9],[38,10,38,15],[38,16,38,19],[38,20,38,22],[38,23,38,27],[40,16,40,27],[41,0,41,2],[3,0,4,3],[3,4,4,12],[3,13,4,15],[16,11,16,14],[17,11,17,14],[16,2,16,7],[14,1,14,7],[14,8,14,10],[14,11,14,14],[11,0,12,0],[15,1,15,7],[15,8,15,10],[41,3,41,9],[41,10,41,15],[41,16,41,27],[39,3,39,9],[39,10,39,15],[39,16,39,19],[39,20,39,22],[39,23,39,27],[39,0,39,2],[36,0,36,28],[33,18,33,19],[34,18,34,19],[35,18,35,19],[33,20,33,25],[37,0,37,2],[37,3,37,9],[37,10,37,15],[37,16,37,19],[37,20,37,22],[37,23,37,27],[29,6,29,13],[29,14,29,17],[29,18,29,28],[30,0,30,28],[31,0,31,8],[31,9,31,25],[31,26,31,28],[32,0,32,8],[32,9,35,17],[32,26,32,28],[33,0,33,8],[34,20,34,25],[35,20,35,25],[33,26,35,28],[34,0,34,8],[35,0,35,8],[21,29,22,29],[24,0,24,1],[24,2,24,6],[23,19,23,24],[24,19,24,24],[32,20,32,25],[32,18,32,19],[23,0,23,1],[23,2,23,6],[23,25,23,28],[25,0,25,28],[26,0,26,5],[26,6,26,13],[26,14,26,17],[26,18,26,28],[27,0,27,5],[27,6,27,13],[27,14,27,17],[27,18,27,28],[28,0,28,5],[28,6,28,13],[28,14,28,17],[28,18,28,28],[29,0,29,5],[24,25,24,26],[20,0,20,28],[21,0,22,1],[21,2,22,6],[21,7,21,11],[22,7,22,11],[21,12,22,17],[21,18,22,28],[24,27,24,28],[19,1,19,7],[19,8,19,10],[19,11,19,14],[19,22,19,26],[18,11,18,14],[14,17,14,18],[16,17,16,18],[17,17,17,18],[18,17,18,18],[18,8,18,10],[12,27,12,28],[12,15,12,18],[12,19,12,21],[15,11,15,14],[15,22,15,26],[15,17,15,18],[13,22,13,26],[13,17,13,18],[13,20,13,21],[14,22,14,26],[42,3,42,15],[19,17,19,18],[3,17,4,18],[5,17,6,18],[3,19,4,22],[5,19,6,22],[3,24,3,28],[4,27,4,28],[4,24,4,26],[9,5,9,12],[9,13,9,16],[9,17,9,20],[9,21,9,28],[7,0,7,28],[5,4,6,12],[5,13,6,15],[5,0,6,3],[14,20,14,21],[15,20,15,21],[16,20,16,21],[13,8,13,10],[13,11,13,14],[8,0,8,4],[8,5,8,12],[0,0,0,6],[17,20,17,21],[18,20,18,21],[19,20,19,21],[16,22,16,26],[17,22,17,26],[18,22,18,26],[5,24,5,28],[6,24,6,28],[1,0,1,28],[2,0,2,3],[2,4,2,12],[2,13,2,16],[2,17,2,28],[8,13,8,16],[8,17,8,28],[9,0,9,4],[11,1,12,7],[11,8,12,10],[11,11,12,14],[11,15,11,21],[11,22,12,26],[10,0,10,28],[11,27,11,28]]}
["MIXTURE DESIGNATION: "]
["Cementitious Materials"]
["Component",null,null,null,"Specific Gravity",null,null,null,null,null,null,null,null,"Volume (ft3) ",null,null,null,"Amount (mass/volume) (lb/yd3)"]
["Cement, ASTM Type I, II",null,null,null,3.15,null,null,null,null,null,null,null,null,2.8190158338913642,null,null,null,"c:",null,554.10575230968652,null,null,null,null,"Mass of all cementitious materials, cm"]
[null,null,null,null,null,null,null,null,null,null,null,null,null,null,null,null,null,null,null,null,null,null,null,null,914.30397547658981,null,null,"lb/yd3"]
["Fly Ash Class F",null,null,null,2.2999999999999998,null,null,null,null,null,null,null,null,2.5097423576289248,null,null,null,"m1:",null,360.19822316690323,null,null,null,null,"c/cm ratio"]
[null,null,null,null,null,null,null,null,null,null,null,null,null,null,null,null,null,null,null,null,null,null,null,null,0.60604106202300334]
["Fibers"]
["Component",null,null,null,null,"Specific Gravity",null,null,null,null,null,null,null,"Volume (ft3)",null,null,null,"Amount (mass/volume) (lb/yd3)"]
["Grace Fibers",null,null,null,null,0.91,null,null,null,null,null,null,null,4.402648633417864E-2,null,null,null,"f1:",null,null,null,2.5]
["Aggregates"]
["Aggregates","Abs (%)",null,null,null,null,null,null,"MCstk (%)",null,null,"SG",null,null,null,"Base Quantity (lb/yd3)",null,null,null,null,null,null,"Volume, SSD (ft3)",null,null,null,null,"Batch Quantity"]
[null,null,null,null,null,null,null,null,null,null,null,null,null,null,null,"OD ",null,null,null,"SSD",null,null,null,null,null,null,null,"(at MCstk) (lb/yd3)"]
["Utelite (Expanded Shale)",0,null,null,null,null,null,null,0.18,null,null,1.5,null,null,null,"WOD,1:  ",null,207.5302372881356,null,"WSSD,1:              ",244.88567999999998,null,848.93702399999995,null,null,null,null,"Wstk,1:                  ",244.88567999999998]
["Size: 2-4",0.23,null,null,null,null,null,null,5.0000000000000001E-3,null,null,0.37,null,null,null,"WOD,2:  ",null,106.4024291398257,null,"WSSD,2:              ",130.87498784198561,null,111.91265627021347,null,null,null,null,"Wstk,2:                  ",106.93444128552481]
["Size: 1-2",0.2,null,null,null,null,null,null,5.0000000000000001E-3,null,null,0.41,null,null,null,"WOD,3:    ",null,55.214233499585212,null,"WSSD,3:             ",66.257080199502255,null,62.782264437928355,null,null,null,null,"Wstk,3:                 ",55.49030466708313]
["Size: 0.5-1",null,0.2,null,null,null,null,null,5.0000000000000001E-3,null,null,0.45,null,null,null,"WOD,3:    ",null,84.891884005612269,null,"WSSD,3:             ",84.891884005612269,null,88.287559365836756,null,null,null,null,"Wstk,4:                  ",85.316343425640326,null,null,"cm",607.70000000000005]
["Size: 0.25-0.5",0.28000000000000003,null,null,null,null,null,null,5.0000000000000001E-3,null,null,0.68,null,null,null,"WOD,3:    ",null,51.763343905861142,null,"WSSD,3:             ",66.257080199502269,null,104.12668248241779,null,null,null,null,"Wstk,5:                  ",52.022160625390441,null,null,"water",280.7]
["Size: 0.1-0.3",0.35,null,null,null,null,null,null,5.0000000000000001E-3,null,null,0.85,null,null,null,"WOD,3:    ",null,70.398147711971163,null,"WSSD,3:             ",95.037499411161079,null,186.69588773214753,null,null,null,null,"Wstk,6:                 ",70.750138450531011,null,null,"agg",687.9]
["Size: 0.04-0.125",0.25,null,null,null,null,null,null,5.0000000000000001E-3,null,null,0.8,null,null,null,"WOD,4:    ",null,48.887602577757747,null,"WSSD,4:             ",61.109503222197183,null,112.98468151304013,null,null,null,null,"Wstk,7:                  ",49.132040590646533]
["Admixtures",null,null,null,null,null,null,null,null,null,null,null,null,null,null,null,null,null,null,null,null,null,null,null,null,null,null,null,null,null,{"$f":"SUM(U14:V20)","v":749.31371487996068}]
["Admixture",null,"lb/gal",null,null,null,null,"Dosage",null,null,null,null,"% Solids",null,null,null,null,null,"Water in Admixture (lb/yd3)"]
[null,null,null,null,null,null,null,"(fl.oz/cwt)"]
["Adva 195 M",null,8.8000000000000007,null,null,null,null,"x3:             ",null,1.39,null,null,"s1:             ",0.75,null,null,null,null,"wadmx,1:             ",7.9069989452441147,null,null,null,null,null,"Total Water from All Admixtures"]
["Eclipse Floor 200",null,7.7,null,null,null,null,"x4:             ",null,3,null,null,"s2:               ",0,null,null,null,null,"wadmx,2:            ",0,null,null,null,null,null,7.9069989452441147,null,"lb/yd3",null,{"$f":"J24","v":1.39}]
["Solids (latex, dyes and powdered admixtures)"]
["Component",null,null,null,null,null,"Specific Gravity",null,null,null,null,null,null,null,"Volume (ft3)",null,null,null,"Amount (mass/volume) (lb/yd3)"]
["Latex (if used)",null,null,null,null,null,null,null,null,null,null,null,null,null,null,null,null,null,"S1:"]
["Liquid Dye (if used)",null,null,null,null,null,null,null,null,null,null,null,null,null,null,null,null,null,"S2:"]
["Powdered Admixture ",null,null,null,null,null,null,null,null,null,null,null,null,null,null,null,null,null,"S3:"]
["Water"]
[null,null,null,null,null,null,null,null,null,"Amount (mass/volume) (lb/yd3)",null,null,null,null,null,null,null,null,null,null,null,null,null,null,null,null,"Volume (ft3)",null,null,null,"Mc total","MC Free","Wfree"]
["Water, lb/yd3  ",null,null,null,null,null,null,null,null,null,null,null,null,null,null,null,null,null,"w:",null,230.17602582623147,null,null,null,null,null,0.13661919861480976,null,null,null,{"$f":"(AC14-R14)/R14","v":0.17999999999999988},{"$f":"AE33-B14","v":0.17999999999999988},{"$f":"R14*(AF33)","v":37.355442711864384}]
["Total Free Water from All Aggregates, lb/yd3",null,null,null,null,null,null,null,null,null,null,null,null,null,null,null,null,null,"∑wfree:",null,-47.42716312328001,null,null,null,null,null,null,null,null,null,{"$f":"(AC15-R15)/R15","v":4.9999999999998561E-3},{"$f":"AE34-B15","v":-0.22500000000000014},{"$f":"R15*(AF34)","v":-23.940546556460799}]
["Total Water from All Admixtures, lb/yd3",null,null,null,null,null,null,null,null,null,null,null,null,null,null,null,null,null,"∑wadmx:  ",null,7.9069989452441147,null,null,null,null,null,null,null,null,null,4.9999999999998492E-3,-0.19500000000000017,-10.766775532419127]
["Batch Water, lb/yd3 ",null,null,null,null,null,null,null,null,null,null,null,null,null,null,null,null,null,"wbatch:",null,280.7,null,null,null,null,null,null,null,null,null,4.9999999999999533E-3,4.9999999999999533E-3,0.42445942002805737]
["Densities, Air Content, Ratios and Slump",null,null,null,null,null,null,null,null,null,null,null,null,null,null,null,null,null,null,null,null,null,null,null,null,null,null,null,null,null,4.999999999999883E-3,-0.27500000000000013,-14.234919574111821]
[null,null,null,"cm",null,null,null,null,null,null,"fibers",null,null,null,null,null,"aggregates",null,null,null,"solids",null,null,"water",null,null,null,null,"Total",null,4.9999999999998978E-3,-0.34500000000000008,-24.287360960630057]
["Mass of Concrete, M, (lb, for1 yd3 )",null,null,607.70000000000005,null,null,null,null,null,null,3,null,null,null,null,null,687.9,null,null,null,0,null,null,280.7,null,null,null,null,1851.0312745256733,null,4.9999999999999394E-3,-0.24500000000000005,-11.977462631550651]
["Absolute Volume of Concrete, V, (ft3)",null,null,5.3287581915202891,null,null,null,null,null,null,5.2735203629719986E-2,null,null,null,null,null,16.450247667917978,null,null,null,0,null,null,4.3380799680171052,null,null,null,null,26.169821031085092,{"$f":"AC40/27","v":0.96925263078092938}]
["Theoretical Density, T, (= M / V)",null,null,69.63,null,null,null,null,null,null,"lb/ft3",null,null,null,null,null,"Air Content [= (T – D)/D x 100%]",null,null,null,null,null,null,null,null,null,null,null,5.1181075552995302E-2]
["Measured Density, D",null,null,64,null,null,null,null,null,null,"lb/ft3",null,null,null,null,null,"Slump, Slump flow",null,null,null,null,null,null,null,null,null,null,null,"    2.25  in."]
["water/cement ratio,  w/c:",null,null,0.32,null,null,null,null,null,null,null,null,null,null,null,null,"water/cementitious material ratio,  w/cm:",null,null,null,null,null,null,null,null,null,null,null,0.32]
[]
[]
[]
[]
[]
[]
[null,null,null,null,null,null,null,null,null,null,null,null,null,null,null,null,null,null,null,null,null,null,null,null,{"$f":"D40*D41","v":371.04143287555769}]

{"sheet":"2016 Mix Design (2)","index":14,"n_rows":52,"n_cols":52,"rows_kept":52,"cut":false,"hidden":true,"merged":[[0,0,0,6],[1,0,1,28],[2,0,2,3],[2,4,2,12],[2,13,2,16],[2,17,2,28],[5,0,6,3],[5,4,6,12],[5,13,6,15],[5,17,6,18],[5,19,6,22],[5,24,5,28],[6,24,6,28],[3,0,4,3],[3,4,4,12],[3,13,4,15],[3,17,4,18],[3,19,4,22],[3,24,3,28],[4,24,4,26],[4,27,4,28],[7,0,7,28],[8,0,8,4],[8,5,8,12],[8,13,8,16],[8,17,8,28],[9,0,9,4],[9,5,9,12],[9,13,9,16],[9,17,9,20],[9,21,9,28],[10,0,10,28],[11,0,12,0],[11,1,12,7],[11,8,12,10],[11,11,12,14],[11,15,11,21],[11,22,12,26],[11,27,11,28],[12,15,12,18],[12,19,12,21],[14,1,14,7],[14,8,14,10],[14,11,14,14],[14,17,14,18],[14,20,14,21],[14,22,14,26],[12,27,12,28],[13,1,13,7],[13,8,13,10],[13,11,13,14],[13,17,13,18],[13,20,13,21],[13,22,13,26],[16,2,16,7],[16,8,16,10],[16,11,16,14],[16,17,16,18],[16,20,16,21],[16,22,16,26],[15,1,15,7],[15,8,15,10],[15,11,15,14],[15,17,15,18],[15,20,15,21],[15,22,15,26],[18,1,18,7],[18,8,18,10],[18,11,18,14],[18,17,18,18],[18,20,18,21],[18,22,18,26],[17,1,17,7],[17,8,17,10],[17,11,17,14],[17,17,17,18],[17,20,17,21],[17,22,17,26],[20,0,20,28],[21,0,22,1],[21,2,22,6],[21,7,21,11],[21,12,22,17],[21,18,22,28],[19,1,19,7],[19,8,19,10],[19,11,19,14],[19,17,19,18],[19,20,19,21],[19,22,19,26],[21,29,22,29],[22,7,22,11],[23,0,23,1],[23,2,23,6],[23,7,23,8],[23,9,23,11],[23,13,23,17],[23,19,23,24],[23,25,23,28],[24,25,24,26],[24,27,24,28],[25,0,25,28],[26,0,26,5],[26,6,26,13],[26,14,26,17],[26,18,26,28],[24,0,24,1],[24,2,24,6],[24,7,24,8],[24,9,24,11],[24,13,24,17],[24,19,24,24],[29,0,29,5],[29,6,29,13],[29,14,29,17],[29,18,29,28],[30,0,30,28],[31,0,31,8],[31,9,31,25],[31,26,31,28],[27,0,27,5],[27,6,27,13],[27,14,27,17],[27,18,27,28],[28,0,28,5],[28,6,28,13],[28,14,28,17],[28,18,28,28],[32,0,32,8],[32,9,35,17],[32,18,32,19],[32,20,32,25],[32,26,32,28],[33,0,33,8],[33,18,33,19],[33,20,33,25],[33,26,35,28],[34,0,34,8],[37,0,37,2],[37,3,37,9],[37,10,37,15],[37,16,37,19],[37,20,37,22],[37,23,37,27],[34,18,34,19],[34,20,34,25],[35,0,35,8],[35,18,35,19],[35,20,35,25],[36,0,36,28],[39,0,39,2],[39,3,39,9],[39,10,39,15],[39,16,39,19],[39,20,39,22],[39,23,39,27],[38,0,38,2],[38,3,38,9],[38,10,38,15],[38,16,38,19],[38,20,38,22],[38,23,38,27],[42,0,42,2],[42,3,42,15],[42,16,42,27],[40,0,40,2],[40,3,40,9],[40,10,40,15],[40,16,40,27],[41,0,41,2],[41,3,41,9],[41,10,41,15],[41,16,41,27]]}
["MIXTURE DESIGNATION: "]
["Cementitious Materials",null,null,null,null,null,null,null,null,null,null,null,null,null,null,null,null,null,null,null,null,null,null,null,null,null,null,null,null,null,null,null,null,null,null,null,null,null,null,"Mixture ID: ",null,"KADHF",null,null,null,null,"Design Proportions (Non SSD)",null,"Actual Batched Proportions for Design ",null,"Yielded  Proportions"]
["Component",null,null,null,"Specific Gravity",null,null,null,null,null,null,null,null,"Volume (ft3) ",null,null,null,"Amount (mass/volume) (lb/yd3)",null,null,null,null,null,null,null,null,null,null,null,null,null,null,null,null,null,null,null,null,null,"YD","Design Batch Size (ft3):         ",null,null,null,27]
["Cement, ASTM Type I, II",null,null,null,3.15,null,null,null,null,null,null,null,null,{"$f":"'Final Sheet'!N5","v":1.3268863018486503},null,null,null,"c:",null,{"$f":"E4*62.4*N4","v":260.81277149137071},null,null,null,null,"Mass of all cementitious materials, cm",null,null,null,null,null,null,null,null,null,null,null,null,null,null,"Cementitious Materials",null,null,null,null,null,"SG","Amount\n(lb/yd3)","Volume\n(ft3)","Amount\n(lb)","Volume\n(ft3)","Amount\n(lb/yd3)","Volume\n(ft3)"]
[null,null,null,null,null,null,null,null,null,null,null,null,null,null,null,null,null,null,null,null,null,null,null,null,{"$f":"SUM(T4:W7)","v":508.37791014508451},null,null,"lb/yd3",null,null,null,null,null,null,null,null,null,null,null,"CM1","Portland Cement",null,null,null,null,3.15,366.71655567164277,1.8656723426518254,1.0000642684442582,5.0878320535422171E-3]
["Fly Ash Class F",null,null,null,2.2999999999999998,null,null,null,null,null,null,null,null,{"$f":"'Final Sheet'!N6","v":1.7249521924032458},null,null,null,"m1:",null,{"$f":"E6*62.4*N6","v":247.5651386537138},null,null,null,null,"c/cm ratio",null,null,null,null,null,null,null,null,null,null,null,null,null,null,"CM2","Fly Ash ","Class: F",0,"Amt:",0.9,2.2999999999999998,240.98516515565095,1.6791051083866428,0.65718509069194098,4.5790488481879952E-3]
[null,null,null,null,null,null,null,null,null,null,null,null,null,null,null,null,null,null,null,null,null,null,null,null,{"$f":"'Final Sheet'!M42","v":{"$error":"#DIV/0!"}},null,null,null,null,null,null,null,null,null,null,null,null,null,null,"CM3","Metakaolin",null,null,"Amt:",0,2.2999999999999998,0,0,0,0]
["Fibers",null,null,null,null,null,null,null,null,null,null,null,null,null,null,null,null,null,null,null,null,null,null,null,null,null,null,null,null,null,null,null,null,null,null,null,null,null,null,"CM4","Silica Fume",null,null,"Amt:",0,2.2000000000000002,0,0,0,0]
["Component",null,null,null,null,"Specific Gravity",null,null,null,null,null,null,null,"Volume (ft3)",null,null,null,"Amount (mass/volume) (lb/yd3)",null,null,null,null,null,null,null,null,null,null,null,null,null,null,null,null,null,null,null,null,null,"Total Cementitious Materials: ",null,null,null,null,null,null,607.70172082729368,3.5447774510384682,1.6572493591361992,9.6668809017302123E-3]
["Grace Fibers",null,null,null,null,0.91,null,null,null,null,null,null,null,{"$f":"'Final Sheet'!J11","v":0},null,null,null,"f1:",null,null,null,{"$f":"N10*62.4*F10","v":0},null,null,null,null,null,null,null,null,null,null,null,null,null,null,null,null,null,"Fibers"]
["Aggregates",null,null,null,null,null,null,null,null,null,null,null,null,null,null,null,null,null,null,null,null,null,null,null,null,null,null,null,null,null,null,null,null,null,null,null,null,null,null,"F1","Grace Fibers",null,null,null,null,0.91,3,5.283178360101437E-2,1.2271846303085129E-2,2.1611450942316725E-4]
["Aggregates","Abs (%)",null,null,null,null,null,null,"MCstk (%)",null,null,"SG",null,null,null,"Base Quantity (lb/yd3)",null,null,null,null,null,null,"Volume, SSD (ft3)",null,null,null,null,"Batch Quantity",null,null,null,null,null,null,null,null,null,null,null,"F2","Fiber 2",null,null,null,null,0,0,""]
[null,null,null,null,null,null,null,null,null,null,null,null,null,null,null,"OD ",null,null,null,"SSD",null,null,null,null,null,null,null,"(at MCstk) (lb/yd3)",null,null,null,null,null,null,null,null,null,null,null,"Total Fibers: ",null,null,null,null,null,null,3,5.283178360101437E-2]
["Utelite (Expanded Shale)",{"$f":"'Final Sheet'!G15","v":0},null,null,null,null,null,null,0.18,null,null,{"$f":"'Final Sheet'!H15","v":1.5},null,null,null,"WOD,1:  ",null,{"$f":"U14/(1+I14)","v":0},null,"WSSD,1:              ",{"$f":"'Pour Day'!G29","v":0},null,{"$f":"U14*62.4*L14/27","v":0},null,null,null,null,"Wstk,1:                  ",{"$f":"(1+I14)*R14","v":0},null,null,null,null,null,null,null,null,null,null,"Aggregates"]
[{"$f":"'Final Sheet'!C16","v":"Size: 2-4"},{"$f":"'Final Sheet'!G16","v":0.23},null,null,null,null,null,null,5.0000000000000001E-3,null,null,{"$f":"'Final Sheet'!H16","v":0.37},null,null,null,"WOD,2:  ",null,{"$f":"'Final Sheet'!M16","v":510.15237469628602},null,"WSSD,2:              ",{"$f":"R15*(1+B15)","v":627.48742087643177},null,{"$f":"U15*62.4*L15/27","v":536.571465673891},null,null,null,null,"Wstk,2:                  ",{"$f":"(1+I15)*R15","v":512.70313656976737},null,null,null,null,null,null,null,null,null,null,"A1","Utelite               ",null,0.17,"Abs:",0,1.5,257.77439999999996,2.754,0.70297062614888606,7.5103699374880995E-3]
[{"$f":"'Final Sheet'!C17","v":"Size: 1-2"},{"$f":"'Final Sheet'!G17","v":0.2},null,null,null,null,null,null,5.0000000000000001E-3,null,null,{"$f":"'Final Sheet'!H17","v":0.41},null,null,null,"WOD,3:    ",null,{"$f":"'Final Sheet'!M17","v":75.502551455050337},null,"WSSD,3:             ",90.603061746060405,null,85.851434507822546,null,null,null,null,"Wstk,3:                 ",{"$f":"(1+I16)*R16","v":75.880064212325578},null,null,null,null,null,null,null,null,null,null,"A2","Size: 2-4",null,0.26,"Abs:",0.23,0.37,97.246656000000002,4.2119999999999997,0.26519911464910922,1.1486448139687681E-2]
[{"$f":"'Final Sheet'!C18","v":"Size: 0.5-1"},null,{"$f":"'Final Sheet'!G18","v":0.2},null,null,null,null,null,5.0000000000000001E-3,null,null,{"$f":"'Final Sheet'!H18","v":0.45},null,null,null,"WOD,3:    ",null,{"$f":"'Final Sheet'!M18","v":89.24265541353698},null,"WSSD,3:             ",89.24265541353698,null,92.812361630078456,null,null,null,null,"Wstk,4:                  ",89.68886869060465,null,null,null,null,null,null,null,null,null,null,"A3","Size: 1-2",null,0.15,"Abs:",0.2,0.41,62.169119999999992,2.4299999999999997,0.16953997454179018,6.6267970036659697E-3]
[{"$f":"'Final Sheet'!C19","v":"Size: 0.25-0.5"},{"$f":"'Final Sheet'!G19","v":0.28000000000000003},null,null,null,null,null,null,5.0000000000000001E-3,null,null,{"$f":"'Final Sheet'!H19","v":0.68},null,null,null,"WOD,3:    ",null,{"$f":"'Final Sheet'!M19","v":85.705598948976061},null,"WSSD,3:             ",109.70316665468935,null,172.40462101821402,null,null,null,null,"Wstk,5:                  ",86.134126943720929,null,null,null,null,null,null,null,null,null,null,"A4","Size: 0.5-1",null,0.17,"Abs:",0.2,0.45,77.332319999999996,2.754,0.21089118784466582,7.5103699374880995E-3]
[{"$f":"'Final Sheet'!C20","v":"Size: 0.1-0.3"},{"$f":"'Final Sheet'!G20","v":0.35},null,null,null,null,null,null,5.0000000000000001E-3,null,null,{"$f":"'Final Sheet'!H20","v":0.85},null,null,null,"WOD,3:    ",null,{"$f":"'Final Sheet'!M20","v":101.75839367275256},null,"WSSD,3:             ",{"$f":"R19*(1+B19)","v":137.37383145821596},null,269.86326002013982,null,null,null,null,"Wstk,6:                 ",102.26718564111631,null,null,null,null,null,null,null,null,null,null,"A5","Size: 0.25-0.5",null,0.11,"Abs:",0.28000000000000003,0.68,75.613824000000008,1.782,0.20620471700367329,4.8596511360217117E-3]
[{"$f":"'Final Sheet'!C21","v":"Size: 0.04-0.125"},{"$f":"'Final Sheet'!G21","v":0.25},null,null,null,null,null,null,5.0000000000000001E-3,null,null,{"$f":"'Final Sheet'!H21","v":0.8},null,null,null,"WOD,4:    ",null,{"$f":"'Final Sheet'!M21","v":104.07108443804236},null,"WSSD,4:             ",130.08885554755295,null,{"$f":"U20*62.4*L20/27","v":240.51983959014237},null,null,null,null,"Wstk,7:                  ",{"$f":"(1+I20)*R20","v":104.59143986023257},null,null,null,null,null,null,null,null,null,null,"A6","Size: 0.1-0.3",null,0.09,"Abs:",0.35,0.85,77.332319999999996,1.458,0.21089118784466582,3.9760782021995818E-3]
["Admixtures",null,null,null,null,null,null,null,null,null,null,null,null,null,null,null,null,null,null,null,null,null,null,null,null,null,null,null,null,null,{"$f":"SUM(U14:V20)","v":1184.4989916964873},null,null,null,null,null,null,null,null,"A7","Size: 0.04-0.125",null,0.05,"Abs:",0.25,0.8,40.435200000000002,0.81,0.11026990214100174,2.2089323345553234E-3]
["Admixture",null,"lb/gal",null,null,null,null,"Dosage",null,null,null,null,"% Solids",null,null,null,null,null,"Water in Admixture (lb/yd3)",null,null,null,null,null,null,null,null,null,null,null,null,null,null,null,null,null,null,null,null,"Total Aggregates: ",null,null,null,null,null,null,687.90383999999995,16.2,1.8759667101737922,4.4178646691106473E-2]
[null,null,null,null,null,null,null,"(fl.oz/cwt)",null,null,null,null,null,null,null,null,null,null,null,null,null,null,null,null,null,null,null,null,null,null,null,null,null,null,null,null,null,null,null,"Water"]
["Adva 195 M",null,8.8000000000000007,null,null,null,null,"x3:             ",null,1.39,null,null,"s1:             ",0.75,null,null,null,null,"wadmx,1:             ",{"$f":"'Final Sheet'!J38","v":{"$error":"#REF!"}},null,null,null,null,null,"Total Water from All Admixtures",null,null,null,null,null,null,null,null,null,null,null,null,null,"W1","Water for CM Hydration (W1a + W1b)",null,null,null,null,1,194.46455066473399,7.2023907653605184,0.53031979492358372,1.9641473886058657E-2]
["Eclipse Floor 200",null,7.7,null,null,null,null,"x4:             ",null,3,null,null,"s2:               ",0,null,null,null,null,"wadmx,2:            ",{"$f":"'Final Sheet'!J39","v":{"$error":"#REF!"}},null,null,null,null,null,{"$f":"'Final Sheet'!N40","v":{"$error":"#REF!"}},null,"lb/yd3",null,{"$f":"J24","v":1.39},null,null,null,null,null,null,null,null,null,null,"W1a. Water from Admixtures",null,null,null,null,null,0,null,0]
["Solids (latex, dyes and powdered admixtures)",null,null,null,null,null,null,null,null,null,null,null,null,null,null,null,null,null,null,null,null,null,null,null,null,null,null,null,null,null,null,null,null,null,null,null,null,null,null,null,"W1b.  Additional Water",null,null,null,null,null,194.46455066473399,null,0.53031979492358372]
["Component",null,null,null,null,null,"Specific Gravity",null,null,null,null,null,null,null,"Volume (ft3)",null,null,null,"Amount (mass/volume) (lb/yd3)",null,null,null,null,null,null,null,null,null,null,null,null,null,null,null,null,null,null,null,null,"W2","Water for Aggregates, SSD ",null,null,null,null,1,86.247270720000003,null,0.23520294451920321]
["Latex (if used)",null,null,null,null,null,null,null,null,null,null,null,null,null,null,null,null,null,"S1:",null,null,null,null,null,null,null,null,null,null,null,null,null,null,null,null,null,null,null,null,"Total Water (W1 + W2): ",null,null,null,null,null,null,280.71182138473398,7.2023907653605184,1.4284745913878263,1.9641473886058657E-2]
["Liquid Dye (if used)",null,null,null,null,null,null,null,null,null,null,null,null,null,null,null,null,null,"S2:",null,null,null,null,null,null,null,null,null,null,null,null,null,null,null,null,null,null,null,null,"Solids Content of Latex, Dyes and Admixtures in Powder Form"]
["Powdered Admixture ",null,null,null,null,null,null,null,null,null,null,null,null,null,null,null,null,null,"S3:",null,null,null,null,null,null,null,null,null,null,null,null,null,null,null,null,null,null,null,null,"S1","Latex (if used)"]
["Water",null,null,null,null,null,null,null,null,null,null,null,null,null,null,null,null,null,null,null,null,null,null,null,null,null,null,null,null,null,null,null,null,null,null,null,null,null,null,"S2","Liquid Dye (if used)"]
[null,null,null,null,null,null,null,null,null,"Amount (mass/volume) (lb/yd3)",null,null,null,null,null,null,null,null,null,null,null,null,null,null,null,null,"Volume (ft3)",null,null,null,"Mc total","MC Free","Wfree",null,null,null,null,null,null,"S3","Other Latex or Liquid Dye (if used)"]
["Water, lb/yd3  ",null,null,null,null,null,null,null,null,null,null,null,null,null,null,null,null,null,"w:",null,{"$f":"'Final Sheet'!I43*Y5","v":152.51337304352535},null,null,null,null,null,{"$f":"U33/62.4/27","v":9.0523132148341262E-2},null,null,null,{"$f":"(AC14-R14)/R14","v":{"$error":"#DIV/0!"}},{"$f":"AE33-B14","v":{"$error":"#DIV/0!"}},{"$f":"R14*(AF33)","v":{"$error":"#DIV/0!"}},null,null,null,null,null,null,"P1","Pigment 1 (Powder Form)"]
["Total Free Water from All Aggregates, lb/yd3",null,null,null,null,null,null,null,null,null,null,null,null,null,null,null,null,null,"∑wfree:",null,{"$f":"SUM(AG33:AG39)","v":{"$error":"#DIV/0!"}},null,null,null,null,null,null,null,null,null,{"$f":"(AC15-R15)/R15","v":4.9999999999998414E-3},{"$f":"AE34-B15","v":-0.22500000000000017},{"$f":"R15*(AF34)","v":-114.78428430666445},null,null,null,null,null,null,"Total Solids of Admixtures: ",null,null,null,null,null,null,0,0]
["Total Water from All Admixtures, lb/yd3",null,null,null,null,null,null,null,null,null,null,null,null,null,null,null,null,null,"∑wadmx:  ",null,{"$f":"Z25","v":{"$error":"#REF!"}},null,null,null,null,null,null,null,null,null,4.9999999999998587E-3,-0.19500000000000015,-14.722997533734826,null,null,null,null,null,null,"Admixtures (including Pigments in Liquid Form)"]
["Batch Water, lb/yd3 ",null,null,null,null,null,null,null,null,null,null,null,null,null,null,null,null,null,"wbatch:",null,{"$f":"U33-(U34+U35)","v":{"$error":"#DIV/0!"}},null,null,null,null,null,null,null,null,null,4.999999999999837E-3,4.999999999999837E-3,0.44621327706767033,null,null,null,null,null,null,null,null,null,null,null,null,"% Solids","Dosage\n(fl oz/cwt)","Total (ml)","Amount\n(ml)","Water in Admixture (lb)","Dosage\n(fl oz/cwt)","Water in Admixture (lb/yd3)"]
["Densities, Air Content, Ratios and Slump",null,null,null,null,null,null,null,null,null,null,null,null,null,null,null,null,null,null,null,null,null,null,null,null,null,null,null,null,null,4.9999999999998631E-3,-0.27500000000000019,-23.569039710968433,null,null,null,null,null,null,null,null,null,null,null,null,null,null,0,0]
[null,null,null,"cm",null,null,null,null,null,null,"fibers",null,null,null,null,null,"aggregates",null,null,null,"solids",null,null,"water",null,null,null,null,"Total",null,4.9999999999998969E-3,-0.34500000000000008,-35.10664581709964,null,null,null,null,null,null,"Ad1","Water Reducers",null,null,null,"lb/gal",null,1.39,649.21325115070329,1.7704544968994747]
["Mass of Concrete, M, (lb, for1 yd3 )",null,null,{"$f":"Y5","v":508.37791014508451},null,null,null,null,null,null,{"$f":"V10","v":0},null,null,null,null,null,{"$f":"SUM(AC14:AC20)","v":971.26482191776734},null,null,null,{"$f":"0","v":0},null,null,{"$f":"U36","v":{"$error":"#DIV/0!"}},null,null,null,null,{"$f":"SUM(D39:AB39)","v":{"$error":"#DIV/0!"}},null,4.9999999999999507E-3,-0.24500000000000005,-25.497415687320384,null,null,null,null,null,null,"Ad2","Shrinkage Reducers",null,null,null,"lb/gal",null,3,1401.1796787425251,3.8211248134521036]
["Absolute Volume of Concrete, V, (ft3)",null,null,{"$f":"'Final Sheet'!N9","v":{"$error":"#DIV/0!"}},null,null,null,null,null,null,{"$f":"'Final Sheet'!N13","v":0},null,null,null,null,null,{"$f":"'Final Sheet'!N22","v":34.248430076270253},null,null,null,{"$f":"U39","v":0},null,null,{"$f":"(U36+1)/62.4","v":{"$error":"#DIV/0!"}},null,null,null,null,{"$f":"SUM(D40:AB40)","v":{"$error":"#DIV/0!"}},{"$f":"AC40/27","v":{"$error":"#DIV/0!"}},null,null,null,null,null,null,null,null,null,"Water from Admixtures (W1a): ",null,null,null,null,null,null,null,2050.3929298932285]
["Theoretical Density, T, (=  W/ V)",null,null,{"$f":"AC39/AC40","v":{"$error":"#DIV/0!"}},null,null,null,null,null,null,"lb/ft2",null,null,null,null,null,"Air Content [= (T – D)/D x 100%]",null,null,null,null,null,null,null,null,null,null,null,{"$f":"'Final Sheet'!K50","v":{"$error":"#DIV/0!"}}]
["Measured Density, D",null,null,69.63,null,null,null,null,null,null,"lb/ft3",null,null,null,null,null,"Slump, Slump flow",null,null,null,null,null,null,null,null,null,null,null,"2 in",null,null,null,null,null,null,null,null,null,null,"Cement-Cementitious Materials Ratio",null,null,null,null,null,null,0.60344827586206906,null,0.60344827586206906]
["water/cement ratio,  w/c:",null,null,{"$f":"X39/D39","v":{"$error":"#DIV/0!"}},null,null,null,null,null,null,null,null,null,null,null,null,"water/cementitious material ratio,  w/cm:",null,null,null,null,null,null,null,null,null,null,null,{"$f":"'Final Sheet'!K43","v":0.3},null,null,null,null,null,null,null,null,null,null,"Water-Cementitious Materials Ratio",null,null,null,null,null,null,0.32,null,0.32]
[null,null,null,null,null,null,null,null,null,null,null,null,null,null,null,null,null,null,null,null,null,null,null,null,null,null,null,null,null,null,null,null,null,null,null,null,null,null,null,"Slump, Slump Flow, in. ",null,null,null,null,null,null,"3 +- 1",null,"3 +- 1"]
[null,null,null,null,null,null,null,null,null,null,null,null,null,null,null,null,null,null,null,null,null,null,null,null,null,null,null,null,null,null,null,null,null,null,null,null,null,null,null,"M","Mass of Concrete. lbs",null,null,null,null,null,1579.3173822120275,null,4.9616906606978173]
[null,null,null,null,null,null,null,null,null,null,null,null,null,null,null,null,null,null,null,null,null,null,null,null,null,null,null,null,null,null,null,null,null,null,null,null,null,null,null,"V","Absolute Volume of Concrete, ft3",null,null,null,null,null,27,null,7.3487001478895336E-2]
[null,null,null,null,null,null,null,null,null,null,null,null,null,null,null,null,null,null,null,null,null,null,null,null,null,null,null,null,null,null,null,null,null,null,null,null,null,null,null,"T","Theorectical Density, lb/ft3  = (M / V) ",null,null,null,null,null,58.493236378223237,null,67.517935972972865]
[null,null,null,null,null,null,null,null,null,null,null,null,null,null,null,null,null,null,null,null,null,null,null,null,null,null,null,null,null,null,null,null,null,null,null,null,null,null,null,"D","Design Density, lb/ft3        =  (M / 27)",null,null,null,null,null,58.493236378223237]
[null,null,null,null,null,null,null,null,null,null,null,null,null,null,null,{"$f":"D40*D41","v":{"$error":"#DIV/0!"}},null,null,null,null,null,null,null,null,null,null,null,null,null,null,null,null,null,null,null,null,null,null,null,"D","Measured Density, lb/ft3",null,null,null,null,null,null,null,69]
[null,null,null,null,null,null,null,null,null,null,null,null,null,null,null,null,null,null,null,null,null,null,null,null,null,null,null,null,null,null,null,null,null,null,null,null,null,null,null,"A","Air Content, %  = [(T - D) / T x 100%]",null,null,null,null,null,0,null,1]
[null,null,null,null,null,null,null,null,null,null,null,null,null,null,null,null,null,null,null,null,null,null,null,null,null,null,null,null,null,null,null,null,null,null,null,null,null,null,null,"Y","Yield, ft3                                                  = (M / D)",null,null,null,null,null,27,null,7.1908560299968366E-2]
[null,null,null,null,null,null,null,null,null,null,null,null,null,null,null,null,null,null,null,null,null,null,null,null,null,null,null,null,null,null,null,null,null,null,null,null,null,null,null,"Ry","Relative Yield                        = (Y / YD)",null,null,null,null,null,null,null,1.0421530478256285E-3]

{"sheet":"Sheet1","index":15,"n_rows":11,"n_cols":6,"rows_kept":11,"cut":false,"hidden":true,"merged":[[9,0,9,1],[2,3,2,5],[1,0,1,5],[5,1,5,2],[6,0,6,5],[7,3,7,5]]}
["MIXTURE DESIGNATION: "]
["Cementitious Materials"]
["Component","Specific Gravity","Volume (ft3) ","Amount (mass/volume) (lb/yd3)"]
["Cement, ASTM Type I, II",3.15,null,"c:",null,"Mass of all cementitious materials, cm"]
["Cementitious Material 1",2.2999999999999998,null,"m1:",null,"_______ lb/yd3"]
[]
["Fibers"]
["Component","Specific Gravity","Volume (ft3)","Amount (mass/volume) (lb/yd3)"]
["Grace Fibers",0.91,null,null,"f1:"]
[]
["Aggregates"]

{"sheet":"Original File ","index":16,"n_rows":54,"n_cols":16,"rows_kept":54,"cut":false,"hidden":true,"merged":[[48,2,48,6],[48,10,48,11],[48,12,48,13],[45,10,45,11],[45,12,45,13],[46,2,46,6],[46,8,46,9],[46,10,46,11],[46,12,46,13],[44,2,44,6],[44,8,44,9],[44,10,44,13],[42,10,42,11],[47,12,47,13],[42,12,42,13],[43,2,43,6],[43,8,43,9],[43,10,43,11],[43,12,43,13],[47,2,47,6],[47,8,47,9],[47,10,47,11],[45,2,45,6],[45,8,45,9],[42,8,42,9],[40,10,40,11],[40,12,40,13],[41,2,41,6],[41,8,41,9],[41,10,41,11],[41,12,41,13],[40,1,40,6],[40,8,40,9],[31,7,32,7],[31,9,32,9],[39,10,39,11],[39,12,39,13],[38,1,38,6],[38,8,38,9],[38,12,38,13],[38,10,38,11],[39,8,39,9],[31,8,32,8],[31,13,32,13],[31,10,32,10],[31,11,32,11],[31,12,32,12],[35,2,35,4],[20,1,21,1],[20,2,20,6],[17,1,17,6],[42,2,42,6],[27,2,27,6],[28,2,28,6],[29,1,29,6],[30,1,32,6],[36,1,36,6],[37,1,37,6],[39,1,39,6],[33,2,33,4],[34,2,34,4],[16,2,16,4],[2,2,2,5],[2,6,2,7],[3,1,3,6],[8,1,8,6],[9,1,9,6],[11,2,11,6],[12,1,12,6],[13,1,13,6],[14,2,14,4],[15,2,15,4],[1,1,1,7],[23,1,23,6],[24,1,24,13],[25,2,25,6],[26,2,26,6],[18,1,18,6],[19,2,19,6],[1,8,2,9],[1,10,2,11],[1,12,2,13],[20,11,22,11],[20,13,22,13],[20,9,22,9],[10,2,10,6],[21,2,21,6],[22,2,22,6]]}
[]
[null,"Mixture ID:",null,null,null,null,null,null,"Design Proportions (Non SSD)",null,"Actual Batched Proportions",null,"Yielded  Proportions"]
[null,"YD","Design Batch Size (ft3):         ",null,null,null,null,null,null,null,null,null,null,null,null,"The notes below are not to be included with the table when inserted into the Design Report"]
[null,"Cementitious Materials",null,null,null,null,null,"SG","Amount\n(lb/yd3)","Volume\n(ft3)","Amount\n(lb)","Volume\n(ft3)","Amount\n(lb/yd3)","Volume\n(ft3)"]
[null,"CM1","Portland Cement",null,null,null,null,null,null,null,null,null,null,null,null,"Volumes are absolute volumes and computed as follows:"]
[null,"CM2",null,null,null,null,null,null,null,null,null,null,null,null,null,"        Amount / (SG x 62.4)"]
[null,"CM3"]
[null,"CM4",null,null,null,null,null,null,null,null,null,null,null,null,null,"cwt is \"per hundred weight\" (example, 800 pcy of cm has 8 cwt)"]
[null,"Total Cementitious Materials: "]
[null,"Fibers",null,null,null,null,null,null,null,null,null,null,null,null,null,"Water for CM hydration is as follows:"]
[null,"F1","Fiber 1",null,null,null,null,null,null,null,null,null,null,null,null,"        Water-Cementitious Materials  Ratio x Total of Cementitious Materials"]
[null,"F2","Fiber 2"]
[null,"Total Fibers: ",null,null,null,null,null,null,null,null,null,null,null,null,null,"Water for Aggregates, SSD is the water needed to condition aggregates from completely dry"]
[null,"Aggregates",null,null,null,null,null,null,null,null,null,null,null,null,null,"to the Saturated Surface Dry (SSD) condition, and is as follows:"]
[null,"A1","Aggregate 1                       ",null,null,"Abs:",null,null,null,null,null,null,null,null,null,"        S (Aggregate Amount x Absoprtion)"]
[null,"A2","Aggregate 2                   ",null,null,"Abs:"]
[null,"A3","Aggregate 3                   ",null,null,"Abs:",null,null,null,null,null,null,null,null,null,"Additional Water is the remaining amount of water needed to hydrate the cm once the water "]
[null,"Total Aggregates: ",null,null,null,null,null,null,null,null,null,null,null,null,null,"from the admixtures is accounted for and is based on assumption that the aggregate   "]
[null,"Water",null,null,null,null,null,null,null,null,null,null,null,null,null,"is in SSD condition."]
[null,"W1","Water for CM Hydration (W1a + W1b)"]
[null,null,"W1a. Water from Admixtures",null,null,null,null,null,null,null,null,null,null,null,null,"Water in Admixture (lb/yd3) for Design and Yield is as follows:"]
[null,null,"W1b.  Additional Water",null,null,null,null,null,null,null,null,null,null,null,null,"        dosage x cwt of cm x water content(%) x (1 gal/128 fl oz) x (lbs/gal of admixture)"]
[null,"W2","Water for Aggregates, SSD "]
[null,"Total Water (W1 + W2): ",null,null,null,null,null,null,null,null,null,null,null,null,null,"Total Water Amount consitutes the weight of all the water in the mixture and is as follows:"]
[null,"Solids Content of Latex, Dyes and Admixtures in Powder Form",null,null,null,null,null,null,null,null,null,null,null,null,null,"        Water Amount for CM Hydration + Water Amount for Aggregate, SSD"]
[null,"S1","Latex (if used)"]
[null,"S2","Liquid Dye (if used)",null,null,null,null,null,null,null,null,null,null,null,null,"Total Water Volume is the volume of the water for cm hydration since the volume of aggregates"]
[null,"S3","Other Latex or Liquid Dye (if used)",null,null,null,null,null,null,null,null,null,null,null,null,"already accounts for the volume of water needed to reach SSD condition, and is as follows"]
[null,"P1","Pigment 1 (Powder Form)",null,null,null,null,null,null,null,null,null,null,null,null,"        Volume of Water for CM Hydration "]
[null,"Total Solids of Admixtures: "]
[null,"Admixtures (including Pigments in Liquid Form)",null,null,null,null,null,null,null,null,null,null,null,null,null,"Solids Content of Admixture (lb/yd3) for Design and Yield is as follows:"]
[null,null,null,null,null,null,null,"% Solids","Dosage\n(fl oz/cwt)","Water in Admixture (lb/yd3)","Amount\n(fl oz)","Water in Admixture (lb)","Dosage\n(fl oz/cwt)","Water in Admixture (lb/yd3)",null,"        dosage x cwt of cm x solids content(%) x (1 gal/128 fl oz) x (lbs/gal of admixture)"]
[]
[null,"Ad1","Admixture 1",null,null,null,"lb/gal",null,null,null,null,null,null,null,null,"Amount (fl oz) of admixture is computed as:"]
[null,"Ad2","Admixture 2",null,null,null,"lb/gal",null,null,null,null,null,null,null,null,"        dosage x cwt of cm (of the batch size) "]
[null,"Ad3","Admixture 3",null,null,null,"lb/gal"]
[null,"Water from Admixtures (W1a): "]
[]
[null,"Cement-Cementitious Materials Ratio",null,null,null,null,null,null,null,null,null,null,null,null,null,"Mass of Concete is as follows:"]
[null,"Water-Cementitious Materials Ratio",null,null,null,null,null,null,null,null,null,null,null,null,null,"        Amount of CM +  Fibers + Aggregate +  Total Water + Solids"]
[null,"Slump, Slump Flow, in. "]
[null,"M","Mass of Concrete. lbs",null,null,null,null,null,null,null,null,null,null,null,null,"Absolute Volume of Concrete is as follows:"]
[null,"V","Absolute Volume of Concrete, ft3",null,null,null,null,null,null,null,null,null,null,null,null,"        Volume of CM +  Fibers + Aggregate +  Water for CM Hydration + Solids"]
[null,"T","Theorectical Density, lb/ft3  = (M / V) "]
[null,"D","Design Density, lb/ft3        =  (M / 27)",null,null,null,null,null,null,null,null,null,null,null,null,"Yields for Design and Yielded Proportions MUST come out to 27 ft3 since the proportions listed"]
[null,"D","Measured Density, lb/ft3",null,null,null,null,null,null,null,null,null,null,null,null,"are those required to make 1 yd3 of concrete (i.e. \"X\"  pounds per 1 yd3)"]
[null,"A","Air Content, %  = [(T - D) / T x 100%]"]
[null,"Y","Yield, ft3                                                  = (M / D)",null,null,null,null,null,null,null,null,null,null,null,null,"Measured Density is the plastic (wet) density after mixing, before setting (the density of the "]
[null,"Ry","Relative Yield                        = (Y / YD)",null,null,null,null,null,null,null,null,null,null,null,null,"cylinders, cubes, etc. cast); not that of hardened and/or dried concrete"]
[]
[null,null,null,null,null,null,null,null,null,null,null,null,null,null,null,"Yielded Proportions are computed as follows:"]
[null,null,null,null,null,null,null,null,null,null,null,null,null,null,null,"        Amount / Relative Yield"]
[]
[null,null,null,null,null,null,null,null,null,null,null,null,null,null,null,"Reference : ASTM C 138"]

{"sheet":"Designs & Results 2014-2015","index":17,"n_rows":78,"n_cols":32,"rows_kept":78,"cut":false,"hidden":true,"merged":[[2,19,4,19],[2,20,4,20],[2,21,4,21],[2,1,3,3],[2,5,3,6],[2,8,3,9],[2,11,3,13],[2,15,3,16],[4,1,5,1],[4,2,5,2],[4,3,5,3],[4,5,5,5],[4,6,5,6],[4,16,6,16],[6,1,13,1],[4,8,5,8],[6,31,7,31],[7,11,9,11],[10,11,12,11],[10,27,10,29],[11,27,15,29],[11,31,12,31],[13,11,15,11],[13,31,14,31],[4,15,6,15],[2,22,4,22],[2,23,4,23],[2,24,4,24],[2,25,4,25],[2,31,4,31],[1,27,3,29],[2,18,4,18],[4,9,5,9],[4,11,6,11],[4,12,6,12],[4,13,6,13],[14,1,21,1],[16,11,18,11],[16,27,19,29],[19,11,21,11],[22,1,29,1],[22,11,24,11],[25,11,27,11],[28,11,30,11],[30,1,37,1],[31,11,33,11],[62,1,69,1],[70,1,77,1],[34,11,36,11],[37,11,39,11],[38,1,45,1],[40,11,42,11],[46,1,53,1],[54,1,61,1]]}
[]
[null,"References For Mix Design",null,null,null,null,null,null,null,null,null,null,null,null,null,null,null,null,"Results",null,null,null,null,null,null,null,null,"Values for Predicting 28-day Compressive Strength of Concrete*",null,null,null,"Notes"]
[null,"1.Aggregate Size Mixes",null,null,null,"2.W/C Ratio",null,null,"3.Total Aggregates",null,null,"4.Cementitious Materials",null,null,null,"5.Fibers",null,null,"Mix Design","Name of Mixer(s)","Date Cast","Date Broken","Compressive Load (lbs)  Specimen 1","Area (in2)","Compressive Strength (psi)","Estimated 28-day Strength (psi)",null,null,null,null,null,"For the year of 2015 we have implemented the use of Utelite to help with the shrinkage of the concrete.  The Utelite should be soaked at least 24 hours in advance to allow the concrete to be saturated. This will allow for water to be released over time and to help the concrete to be internally cured"]
[]
[null,"Mix ","Material","Amount",null,"Mix","Ratio",null,"Mix","% of Agg.",null,"Mix","Material","% by Volume Compared to Cement Content",null,"Mix","Amount (lb) of Fibers per yd3",null,null,null,null,null,null,null,null,null,null,"Days of Cure","% Strenth","Reliability"]
[null,null,null,null,null,null,null,null,null,null,null,null,null,null,null,null,null,null,"AFAAB",null,null,null,null,{"$f":"IF(V6=\"\",\"\",PI()*'45% Agg.'!P4^2/4)","v":""},{"$f":"IF(W6=\"\",\"\",W6/X6)","v":""},{"$f":"IF(Y6=\"\",\"\",IF(V6-U6=7,Y6/$AC$6,IF(V6-U6=14,Y6/$AC$7,IF(V6-U6=21,Y6/$AC$8,IF(V6-U6=28,Y6/$AC$9,\"\")))))","v":""},null,"7-day",0.7,"Good to use",null,"Due to the challenges faced with the Silica Fume, we have not used it as of yet for this project."]
[null,"A","Utelite               ",0.15,null,"A",0.32,null,"A",0.45,null,null,null,null,null,null,null,null,"BECBD","Brian C","2014-11-21",null,null,{"$f":"IF(W7=\"\",\"\",PI()*3^2/4)","v":""},"",{"$f":"IF(Y7=\"\",\"\",IF(V7-U7=7,Y7/$AC$6,IF(V7-U7=14,Y7/$AC$7,IF(V7-U7=21,Y7/$AC$8,IF(V7-U7=28,Y7/$AC$9,\"\")))))","v":""},null,"14 day**",0.9,"Try not to use",null,"Another mix design was added for when the statistical analysis can provide the best amount of aggregate for our mix."]
[null,null,"Size: 2-4",0.3,null,"B",0.34,null,"B",0.5,null,"A","Fly Ash",1,null,"A",5,null,"BJCBD","Emily P","2014-11-21",null,null,"","","",null,"21-day**",0.95,"Try not to use"]
[null,null,"Size: 1-2",0,null,"C",0.36,null,"C",0.55000000000000004,null,null,"Silica Fume",0,null,"B",0,null,"BEEBD","Maria","2014-11-23",null,null,"","","",null,"28-day",1,"Good to use",null,"Too much fiber, Found a glitch, too much water was being added."]
[null,null,"Size: 0.5-1",0.24,null,"D ",0.38,null,"D",0.6,null,null,"Metakaolin",0.5,null,"C",9.5,null,"BGCBC","Luke","2014-12-04",{"$f":"U10+7","v":"2014-12-11"},4875,7.0685834705770345,689.67142006487984,985.2448858069713,null,null,null,null,null,"Too much fiber, considering adding a admixture portion"]
[null,null,"Size: 0.25-0.5",0.15,null,"E",0.4,null,"E",0.65,null,"B","Fly Ash",0.5,null,"D",50,null,"BGBBC","Maria","2014-12-04",{"$f":"U11+7","v":"2014-12-11"},4710,7.0685834705770345,666.32869507806845,951.89813582581212,null,"Notes about Compressive Strength",null,null,null,"Too much fiber, a fiber portion was added to the references for mix design and mix design name"]
[null,null,"Size: 0.1-0.3",0.1,null,"F",0.42,null,"F",0.7,null,null,"Silica Fume",0,null,"E",2.5,null,"BAABA","Chris","2014-12-11","2014-12-18",11125,7.0685834705770345,1573.8655483531873,2248.3793547902678,null,"*These values are extimates from looking on different sites on the internet and rounded up for a safety factor. These values also may not be as accurate with the different materials and admixtures used in the concrete canoe.",null,null,null,"Found a glitch in the fiber calculation. It was fixed throughout the design. The mess ups are mentioned as Fiber D in the design"]
[null,null,"Size: 0.04-0.125",0.06,null,"G",0.44,null,"G",0.56999999999999995,null,null,"Metakaolin",0.5,null,"F",3,null,"CBABA","Hannah","2014-12-11","2014-12-18",13325,7.0685834705770345,1885.1018815106715,2693.0026878723879]
[null,null,"TOTAL",{"$f":"SUM(D7:D13)","v":1},null,"H ",0.46,null,"H",0.57999999999999996,null,"C","Fly Ash",0.25,null,null,null,null,"CBCBA","Chris","2015-01-13","2015-02-10",12410,7.0685834705770345,1755.6558611292633,1755.6558611292633,null,null,null,null,null,"Made an adjustment for the water content to add 70% initially and then more as necessary by 10% increments. CBABA was a little thick with its 80% water which makes it hard to work with."]
[null,"B","Utelite               ",0.05,null,"I ",0.48,null,"I ",0.8,null,null,"Silica Fume",0,null,null,null,null,"CBBCA","Zack","2015-01-13","2015-02-10",10470,7.0685834705770345,1481.2020037085726,1481.2020037085726]
[null,null,"Size: 2-4",0.3,null,"J",0.5,null,"J",null,null,null,"Metakaolin",0.25,null,null,null,null,"CBACA","Zack","2015-01-20","2015-01-27",13660,7.0685834705770345,1932.4946867869248,2760.7066954098927]
[null,null,"Size: 1-2",0.25,null,"K",0.52,null,"K",null,null,"D","Fly Ash",0.6,null,null,null,null,"CBBBA","Maria","2015-01-20","2015-01-27",9400,7.0685834705770345,1329.8279689456144,1899.7542413508779,null,"** The values for the 7-day and 28 day strength are generally accepted however the 21 and 14 day strengths are empirical and are less reliable. "]
[null,null,"Size: 0.5-1",0.15,null,"L",0.54,null,"L",null,null,null,"Silica Fume",0,null,null,null,null,"DEABA","Hannah","2015-01-20","2015-01-27",8090,7.0685834705770345,1144.5008796563852,1635.001256651979]
[null,null,"Size: 0.25-0.5",0.1,null,"M ",0.56000000000000005,null,"M",null,null,null,"Metakaolin",0.6,null,null,null,null,"ECDDE","Hannah","2015-01-22","2015-01-29",12995,7.0685834705770345,1838.4164315370488,2626.3091879100698,null,null,null,null,null,"Need to keep track of how much water is actually put into the mix."]
[null,null,"Size: 0.1-0.3",0.1,null,"N",0.57999999999999996,null,"N",null,null,"E","Fly Ash",0.75,null,null,null,null,"FGGEE","Zack","2015-01-27","2015-02-03",7995,7.0685834705770345,1131.0611289064029,1615.8016127234328,null,null,null,null,null,"80% water used."]
[null,null,"Size: 0.04-0.125",0.05,null,"O",0.6,null,null,null,null,null,"Silica Fume",0,null,null,null,null,"FEGEE","John","2015-01-27","2015-02-03",8880,7.0685834705770345,1256.2630174720273,1794.6614535314677,null,null,null,null,null,"80% water used. Halfway floats.  Maybe should have used 70% water."]
[null,null,"TOTAL",{"$f":"SUM(D15:D21)","v":1},null,"P",null,null,null,null,null,null,"Metakaolin",0.5,null,null,null,null,"FCGFE","Cade, Maria","2015-02-07",{"$f":"U22+7","v":"2015-02-14"},7010,7.0685834705770345,991.71213428816566,1416.7316204116653,null,null,null,null,null,"80% water used. Floats. Estimated 28 day compression strength to be approximately 1550 psi."]
[null,"C","Utelite               ",0.05,null,"Q",null,null,null,null,null,"F","Fly Ash",1,null,null,null,null,"FDDGE","Adrianne, Devon","2015-02-07",{"$f":"U23+7","v":"2015-02-14"},2645,7.0685834705770345,374.19095509161173,534.55850727373104,null,null,null,null,null,"80% water used. Floats. Estimated 28 day compression strength to be approximately 1800 psi."]
[null,null,"Size: 2-4",0.2,null,"R",null,null,null,null,null,null,"Silica Fume",0,null,null,null,null,"FEGFE","Seth","2015-02-07","2015-02-14",6650,7.0685834705770345,940.78255249875917,1343.9750749982275,null,null,null,null,null,"70% water used"]
[null,null,"Size: 1-2",0.2,null,null,null,null,null,null,null,null,"Metakaolin",0,null,null,null,null,"FEDGE","Dan","2015-02-07","2015-02-14",2375,7.0685834705770345,335.99376874955681,479.99109821365261]
[null,null,"Size: 0.5-1",0.2,null,null,null,null,null,null,null,"G","Fly Ash",0.75,null,null,null,null,"FDGFE","Adrianne","2015-02-07","2015-02-14",5665,7.0685834705770345,801.4335578805219,1144.90508268646]
[null,null,"Size: 0.25-0.5",0.15,null,null,null,null,null,null,null,null,"Silica Fume",0,null,null,null,null,"FDHGE","Hannah","2015-02-07","2015-02-14",4770,7.0685834705770345,674.8169587096362,964.02422672805176,null,null,null,null,null,"Too much Aggregate. Looks like the amount of agregate needed would be close to 57%, used 75% water"]
[null,null,"Size: 0.1-0.3",0.15,null,null,null,null,null,null,null,null,"Metakaolin",0,null,null,null,null,"FCDGE","Bryce, John","2015-02-07","2015-02-14",2345,7.0685834705770345,331.74963693377293,473.92805276253279]
[null,null,"Size: 0.04-0.125",0.05,null,null,null,null,null,null,null,"H","Fly Ash",0.9,null,null,null,null,"FEHGE","Maria","2015-02-07","2015-02-14",6325,7.0685834705770345,894.80445782776712,1278.292082611096,null,null,null,null,null,"80% water used. This was too much water"]
[null,null,"TOTAL",{"$f":"SUM(D23:D29)","v":1},null,null,null,null,null,null,null,null,"Silica Fume",0,null,null,null,null,"FDGKE","Devon, John","2015-02-07","2015-02-14",6695,7.0685834705770345,947.14875022243496,1353.0696431749072,null,null,null,null,null,"80% water used"]
[null,"D","Utelite               ",0.05,null,null,null,null,null,null,null,null,"Metakaolin",0,null,null,null,null,"FDGLE","Zack, Dan","2015-02-07","2015-02-14",7175,7.0685834705770345,1015.0548592749769,1450.0783703928244,null,null,null,null,null,"80% water used. "]
[null,null,"Size: 2-4",0.23,null,null,null,null,null,null,null,"I","Fly Ash",0.75,null,null,null,null,"FDGJE","Maria","2015-02-07","2015-02-14",8355,7.0685834705770345,1181.9907106958094,1688.5581581368706]
[null,null,"Size: 1-2",0.22,null,null,null,null,null,null,null,null,"Silica Fume",0.05,null,null,null,null,"FDGIE","Luke, Adrianne","2015-02-07","2015-02-14",6650,7.0685834705770345,940.78255249875917,1343.9750749982275,null,null,null,null,null,"80% water use, kinda wet. Maybe use 75%,"]
[null,null,"Size: 0.5-1",0.2,null,null,null,null,null,null,null,null,"Metakaolin",0,null,null,null,null,"FEGLE","Luke","2015-02-07","2015-02-14",8310,7.0685834705770345,1175.6245129721335,1679.4635899601908,null,null,null,null,null,"70% water used but it was thick"]
[null,null,"Size: 0.25-0.5",0.15,null,null,null,null,null,null,null,"J","Fly Ash",0.75,null,null,null,null,"FEGIE","Maria, Hannah","2015-02-07","2015-02-14",7700,7.0685834705770345,1089.3271660511948,1556.1816657874213,null,null,null,null,null,"80% water used"]
[null,null,"Size: 0.1-0.3",0.1,null,null,null,null,null,null,null,null,"Silica Fume",0.04,null,null,null,null,"FEGKE","Zack, Dan","2015-02-07","2015-02-14",6600,7.0685834705770345,933.70899947245266,1333.869999246361]
[null,null,"Size: 0.04-0.125",0.05,null,null,null,null,null,null,null,null,"Metakaolin",0,null,null,null,null,"FEGJE","Luke, Adrianne","2015-02-07","2015-02-14",8160,7.0685834705770345,1154.4038538932143,1649.148362704592,null,null,null,null,null,"70% water used. A little thick"]
[null,null,"TOTAL",{"$f":"SUM(D31:D37)","v":1},null,null,null,null,null,null,null,"K","Fly Ash",0.9,null,null,null,null,null,null,null,null,null,{"$f":"IF(U38=\"\",\"\",PI()*3^2/4)","v":""},"","",null,null,null,null,null,"75% water used. Still too much. Maybe 72%"]
[null,"E","Utelite               ",0.03,null,null,null,null,null,null,null,null,"Silica Fume",0.05,null,null,null,null,"Final Mix","Maria","2015-02-16",{"$f":"U39+7","v":"2015-02-23"},8020,7.0685834705770345,1134.5979054195561,1620.854150599366,null,null,null,null,null,"70% water used. Notice the last 8 were using Silica Fume."]
[null,null,"Size: 2-4",0.25,null,null,null,null,null,null,null,null,"Metakaolin",0,null,null,null,null,"Final Mix","Maria","2015-02-16",{"$f":"U40+7","v":"2015-02-23"},7605,7.0685834705770345,1075.8874153012125,1536.9820218588752]
[null,null,"Size: 1-2",0.22,null,null,null,null,null,null,null,"L","Fly Ash",0.9,null,null,null,null,null,null,null,null,null,"","",""]
[null,null,"Size: 0.5-1",0.2,null,null,null,null,null,null,null,null,"Silica Fume",0.04,null,null,null,null,null,null,null,null,null,"","",""]
[null,null,"Size: 0.25-0.5",0.15,null,null,null,null,null,null,null,null,"Metakaolin",0,null,null,null,null,null,null,null,null,null,"","",""]
[null,null,"Size: 0.1-0.3",0.1,null,null,null,null,null,null,null,null,null,null,null,null,null,null,null,null,null,null,null,"","",""]
[null,null,"Size: 0.04-0.125",0.05,null,null,null,null,null,null,null,null,null,null,null,null,null,null,null,null,null,null,null,"","",""]
[null,null,"TOTAL",{"$f":"SUM(D39:D45)","v":1},null,null,null,null,null,null,null,null,null,null,null,null,null,null,null,null,null,null,null,"","",""]
[null,"F","Utelite               ",0.03,null,null,null,null,null,null,null,null,null,null,null,null,null,null,null,null,null,null,null,"","",""]
[null,null,"Size: 2-4",0.26,null,null,null,null,null,null,null,null,null,null,null,null,null,null,null,null,null,null,null,"","",""]
[null,null,"Size: 1-2",0.23,null,null,null,null,null,null,null,null,null,null,null,null,null,null,null,null,null,null,null,"","",""]
[null,null,"Size: 0.5-1",0.21,null,null,null,null,null,null,null,null,null,null,null,null,null,null,null,null,null,null,null,"","",""]
[null,null,"Size: 0.25-0.5",0.12,null,null,null,null,null,null,null,null,null,null,null,null,null,null,null,null,null,null,null,"","",""]
[null,null,"Size: 0.1-0.3",0.09,null,null,null,null,null,null,null,null,null,null,null,null,null,null,null,null,null,null,null,"","",""]
[null,null,"Size: 0.04-0.125",0.06,null,null,null,null,null,null,null,null,null,null,null,null,null,null,null,null,null,null,null,"","",""]
[null,null,"TOTAL",{"$f":"SUM(D47:D53)","v":1},null,null,null,null,null,null,null,null,null,null,null,null,null,null,null,null,null,null,null,"","",""]
[null,"G","Utelite               ",0,null,null,null,null,null,null,null,null,null,null,null,null,null,null,null,null,null,null,null,""]
[null,null,"Size: 2-4",0]
[null,null,"Size: 1-2",0]
[null,null,"Size: 0.5-1",0.04,null,0.5,{"$f":"1-D58","v":0.96},null,"96-100"]
[null,null,"Size: 0.25-0.5",0.3,null,0.25,{"$f":"G58-D59","v":0.65999999999999992},null,"65-75"]
[null,null,"Size: 0.1-0.3",0.45,null,0.1,{"$f":"G59-D60","v":0.20999999999999991},null,"20-30"]
[null,null,"Size: 0.04-0.125",0.21,null,0.04,{"$f":"G60-D61","v":0},null,"0-4"]
[null,null,"TOTAL",{"$f":"SUM(D55:D61)","v":1}]
[null,"H","Utelite               ",0.06]
[null,null,"Size: 2-4",0.27]
[null,null,"Size: 1-2",0.19]
[null,null,"Size: 0.5-1",0.21]
[null,null,"Size: 0.25-0.5",0.12]
[null,null,"Size: 0.1-0.3",0.09]
[null,null,"Size: 0.04-0.125",0.06]
[null,null,"TOTAL",{"$f":"SUM(D63:D69)","v":1}]
[null,"I","Utelite               ",0.1]
[null,null,"Size: 2-4",0.24]
[null,null,"Size: 1-2",0.21]
[null,null,"Size: 0.5-1",0.2]
[null,null,"Size: 0.25-0.5",0.11]
[null,null,"Size: 0.1-0.3",0.08]
[null,null,"Size: 0.04-0.125",0.06]
[null,null,"TOTAL",{"$f":"SUM(D71:D77)","v":1}]